| Back to Multiple platform build/check report for BioC 3.21: simplified long |
|
This page was generated on 2025-10-16 11:37 -0400 (Thu, 16 Oct 2025).
| Hostname | OS | Arch (*) | R version | Installed pkgs |
|---|---|---|---|---|
| nebbiolo1 | Linux (Ubuntu 24.04.3 LTS) | x86_64 | 4.5.1 (2025-06-13) -- "Great Square Root" | 4833 |
| merida1 | macOS 12.7.6 Monterey | x86_64 | 4.5.1 RC (2025-06-05 r88288) -- "Great Square Root" | 4614 |
| kjohnson1 | macOS 13.7.5 Ventura | arm64 | 4.5.1 Patched (2025-06-14 r88325) -- "Great Square Root" | 4555 |
| kunpeng2 | Linux (openEuler 24.03 LTS) | aarch64 | R Under development (unstable) (2025-02-19 r87757) -- "Unsuffered Consequences" | 4586 |
| Click on any hostname to see more info about the system (e.g. compilers) (*) as reported by 'uname -p', except on Windows and Mac OS X | ||||
| Package 255/2341 | Hostname | OS / Arch | INSTALL | BUILD | CHECK | BUILD BIN | ||||||||
| BulkSignalR 1.0.5 (landing page) Jean-Philippe Villemin
| nebbiolo1 | Linux (Ubuntu 24.04.3 LTS) / x86_64 | OK | OK | OK | |||||||||
| merida1 | macOS 12.7.6 Monterey / x86_64 | OK | OK | OK | OK | |||||||||
| kjohnson1 | macOS 13.7.5 Ventura / arm64 | OK | OK | OK | OK | |||||||||
| kunpeng2 | Linux (openEuler 24.03 LTS) / aarch64 | OK | OK | OK | ||||||||||
|
To the developers/maintainers of the BulkSignalR package: - Allow up to 24 hours (and sometimes 48 hours) for your latest push to git@git.bioconductor.org:packages/BulkSignalR.git to reflect on this report. See Troubleshooting Build Report for more information. - Use the following Renviron settings to reproduce errors and warnings. - If 'R CMD check' started to fail recently on the Linux builder(s) over a missing dependency, add the missing dependency to 'Suggests:' in your DESCRIPTION file. See Renviron.bioc for more information. |
| Package: BulkSignalR |
| Version: 1.0.5 |
| Command: /home/biocbuild/bbs-3.21-bioc/R/bin/R CMD check --install=check:BulkSignalR.install-out.txt --library=/home/biocbuild/bbs-3.21-bioc/R/site-library --timings BulkSignalR_1.0.5.tar.gz |
| StartedAt: 2025-10-15 21:22:40 -0400 (Wed, 15 Oct 2025) |
| EndedAt: 2025-10-15 21:33:20 -0400 (Wed, 15 Oct 2025) |
| EllapsedTime: 639.8 seconds |
| RetCode: 0 |
| Status: OK |
| CheckDir: BulkSignalR.Rcheck |
| Warnings: 0 |
##############################################################################
##############################################################################
###
### Running command:
###
### /home/biocbuild/bbs-3.21-bioc/R/bin/R CMD check --install=check:BulkSignalR.install-out.txt --library=/home/biocbuild/bbs-3.21-bioc/R/site-library --timings BulkSignalR_1.0.5.tar.gz
###
##############################################################################
##############################################################################
* using log directory ‘/home/biocbuild/bbs-3.21-bioc/meat/BulkSignalR.Rcheck’
* using R version 4.5.1 (2025-06-13)
* using platform: x86_64-pc-linux-gnu
* R was compiled by
gcc (Ubuntu 13.3.0-6ubuntu2~24.04) 13.3.0
GNU Fortran (Ubuntu 13.3.0-6ubuntu2~24.04) 13.3.0
* running under: Ubuntu 24.04.3 LTS
* using session charset: UTF-8
* checking for file ‘BulkSignalR/DESCRIPTION’ ... OK
* checking extension type ... Package
* this is package ‘BulkSignalR’ version ‘1.0.5’
* package encoding: UTF-8
* checking package namespace information ... OK
* checking package dependencies ... INFO
Imports includes 26 non-default packages.
Importing from so many packages makes the package vulnerable to any of
them becoming unavailable. Move as many as possible to Suggests and
use conditionally.
* checking if this is a source package ... OK
* checking if there is a namespace ... OK
* checking for hidden files and directories ... OK
* checking for portable file names ... OK
* checking for sufficient/correct file permissions ... OK
* checking whether package ‘BulkSignalR’ can be installed ... OK
* checking installed package size ... OK
* checking package directory ... OK
* checking ‘build’ directory ... OK
* checking DESCRIPTION meta-information ... OK
* checking top-level files ... OK
* checking for left-over files ... OK
* checking index information ... OK
* checking package subdirectories ... OK
* checking code files for non-ASCII characters ... OK
* checking R files for syntax errors ... OK
* checking whether the package can be loaded ... OK
* checking whether the package can be loaded with stated dependencies ... OK
* checking whether the package can be unloaded cleanly ... OK
* checking whether the namespace can be loaded with stated dependencies ... OK
* checking whether the namespace can be unloaded cleanly ... OK
* checking loading without being on the library search path ... OK
* checking whether startup messages can be suppressed ... OK
* checking dependencies in R code ... OK
* checking S3 generic/method consistency ... OK
* checking replacement functions ... OK
* checking foreign function calls ... OK
* checking R code for possible problems ... OK
* checking Rd files ... OK
* checking Rd metadata ... OK
* checking Rd cross-references ... OK
* checking for missing documentation entries ... OK
* checking for code/documentation mismatches ... OK
* checking Rd \usage sections ... OK
* checking Rd contents ... OK
* checking for unstated dependencies in examples ... OK
* checking contents of ‘data’ directory ... OK
* checking data for non-ASCII characters ... OK
* checking data for ASCII and uncompressed saves ... OK
* checking files in ‘vignettes’ ... OK
* checking examples ... OK
Examples with CPU (user + system) or elapsed time > 5s
user system elapsed
simpleHeatmap 6.689 0.678 7.367
cacheClear 3.287 0.415 5.855
* checking for unstated dependencies in ‘tests’ ... OK
* checking tests ...
Running ‘testthat.R’
OK
* checking for unstated dependencies in vignettes ... OK
* checking package vignettes ... OK
* checking re-building of vignette outputs ... OK
* checking PDF version of manual ... OK
* DONE
Status: OK
BulkSignalR.Rcheck/00install.out
############################################################################## ############################################################################## ### ### Running command: ### ### /home/biocbuild/bbs-3.21-bioc/R/bin/R CMD INSTALL BulkSignalR ### ############################################################################## ############################################################################## * installing to library ‘/home/biocbuild/bbs-3.21-bioc/R/site-library’ * installing *source* package ‘BulkSignalR’ ... ** this is package ‘BulkSignalR’ version ‘1.0.5’ ** using staged installation ** R ** data ** inst ** byte-compile and prepare package for lazy loading ** help *** installing help indices *** copying figures ** building package indices ** installing vignettes ** testing if installed package can be loaded from temporary location ** testing if installed package can be loaded from final location ** testing if installed package keeps a record of temporary installation path * DONE (BulkSignalR)
BulkSignalR.Rcheck/tests/testthat.Rout
R version 4.5.1 (2025-06-13) -- "Great Square Root"
Copyright (C) 2025 The R Foundation for Statistical Computing
Platform: x86_64-pc-linux-gnu
R is free software and comes with ABSOLUTELY NO WARRANTY.
You are welcome to redistribute it under certain conditions.
Type 'license()' or 'licence()' for distribution details.
R is a collaborative project with many contributors.
Type 'contributors()' for more information and
'citation()' on how to cite R or R packages in publications.
Type 'demo()' for some demos, 'help()' for on-line help, or
'help.start()' for an HTML browser interface to help.
Type 'q()' to quit R.
> library(testthat)
> library(BulkSignalR)
Local "resources" are up to date.
> test_check("BulkSignalR")
[ FAIL 0 | WARN 0 | SKIP 0 | PASS 1 ]
>
> proc.time()
user system elapsed
14.049 0.928 15.929
BulkSignalR.Rcheck/BulkSignalR-Ex.timings
| name | user | system | elapsed | |
| BSRClusterComp-class | 0.002 | 0.000 | 0.003 | |
| BSRClusterComp | 0.228 | 0.013 | 0.241 | |
| BSRDataModel-class | 0.036 | 0.005 | 0.041 | |
| BSRDataModel | 0.149 | 0.003 | 0.153 | |
| BSRDataModelComp-class | 0.004 | 0.001 | 0.005 | |
| BSRDataModelComp | 0.152 | 0.005 | 0.157 | |
| BSRInference-class | 0.005 | 0.001 | 0.004 | |
| BSRInference | 3.115 | 0.179 | 3.294 | |
| BSRInferenceComp-class | 0.005 | 0.001 | 0.007 | |
| BSRInferenceComp | 1.074 | 0.079 | 1.153 | |
| BSRSignature-class | 0.002 | 0.000 | 0.002 | |
| BSRSignature | 0.029 | 0.000 | 0.029 | |
| BSRSignatureComp-class | 0.004 | 0.000 | 0.004 | |
| BSRSignatureComp | 0.012 | 0.001 | 0.013 | |
| LRinter | 0.001 | 0.000 | 0.001 | |
| LRinterScore | 0.002 | 0.001 | 0.003 | |
| LRinterShort | 0.001 | 0.002 | 0.003 | |
| addClusterComp | 0.198 | 0.002 | 0.200 | |
| alluvialPlot | 0.531 | 0.002 | 0.533 | |
| assignCellTypesToInteractions | 0.632 | 0.010 | 0.642 | |
| bubblePlotPathwaysLR | 0.452 | 0.021 | 0.472 | |
| cacheClear | 3.287 | 0.415 | 5.855 | |
| cacheInfo | 0.099 | 0.003 | 0.103 | |
| cacheVersion | 0.258 | 0.008 | 0.608 | |
| cellTypeFrequency | 0.670 | 0.128 | 0.798 | |
| cellularNetwork | 0.567 | 0.068 | 0.634 | |
| cellularNetworkTable | 0.557 | 0.031 | 0.588 | |
| chordDiagramLR | 1.167 | 0.083 | 1.250 | |
| coerce | 0.001 | 0.000 | 0.002 | |
| colClusterA | 0 | 0 | 0 | |
| colClusterB | 0 | 0 | 0 | |
| comparison | 0 | 0 | 0 | |
| comparisonName | 0 | 0 | 0 | |
| convertToHuman | 0.217 | 0.061 | 2.257 | |
| createResources | 0.280 | 0.039 | 0.929 | |
| differentialStats | 0.001 | 0.001 | 0.001 | |
| findOrthoGenes | 0.139 | 0.062 | 0.462 | |
| generateSpatialPlots | 1.794 | 0.501 | 2.295 | |
| getLRIntracellNetwork | 1.773 | 0.103 | 1.877 | |
| getLRNetwork | 0.033 | 0.002 | 0.034 | |
| getPathwayStats | 0.013 | 0.003 | 0.016 | |
| getResource | 0.275 | 0.018 | 0.293 | |
| inferenceParameters | 0.001 | 0.000 | 0.000 | |
| initialOrganism | 0.001 | 0.001 | 0.002 | |
| initialOrthologs | 0.002 | 0.001 | 0.002 | |
| learnParameters | 2.515 | 0.117 | 2.634 | |
| ligands | 0.001 | 0.000 | 0.001 | |
| logTransformed | 0.001 | 0.001 | 0.002 | |
| maxLigandSpatialCounts | 0.047 | 0.007 | 0.054 | |
| mu | 0 | 0 | 0 | |
| ncounts | 0.000 | 0.001 | 0.001 | |
| normalization | 0.001 | 0.000 | 0.001 | |
| parameters | 0.001 | 0.000 | 0.001 | |
| pathways | 0 | 0 | 0 | |
| receptors | 0.000 | 0.001 | 0.001 | |
| reduceToBestPathway | 0.081 | 0.003 | 0.084 | |
| reduceToLigand | 0.033 | 0.001 | 0.034 | |
| reduceToPathway | 0.071 | 0.001 | 0.072 | |
| reduceToReceptor | 0.013 | 0.001 | 0.014 | |
| relateToGeneSet | 0.071 | 0.000 | 0.072 | |
| removeClusterComp | 0.214 | 0.007 | 0.221 | |
| rescoreInference | 0.032 | 0.001 | 0.033 | |
| resetLRdb | 0.011 | 0.003 | 0.014 | |
| resetNetwork | 0.007 | 0.000 | 0.007 | |
| resetPathways | 0.267 | 0.007 | 0.274 | |
| resetToInitialOrganism | 0.148 | 0.004 | 0.152 | |
| scoreLRGeneSignatures | 1.228 | 0.103 | 1.332 | |
| scoreSignatures | 0.265 | 0.002 | 0.267 | |
| separatedLRPlot | 1.617 | 0.009 | 1.626 | |
| signatureHeatmaps | 0.022 | 0.000 | 0.023 | |
| simpleHeatmap | 6.689 | 0.678 | 7.367 | |
| smoothSpatialCounts | 0.048 | 0.001 | 0.048 | |
| sourceComparisonName | 0 | 0 | 0 | |
| spatialAssociation | 0.052 | 0.001 | 0.053 | |
| spatialAssociationPlot | 3.553 | 0.089 | 3.643 | |
| spatialDiversityPlot | 0.916 | 0.011 | 0.927 | |
| spatialIndexPlot | 1.404 | 0.014 | 1.418 | |
| spatialPlot | 1.118 | 0.004 | 1.123 | |
| summarizedCellularNetwork | 0.570 | 0.002 | 0.571 | |
| tgCorr | 0.001 | 0.000 | 0.000 | |
| tgExpr | 0 | 0 | 0 | |
| tgGenes | 0 | 0 | 0 | |
| tgLogFC | 0.000 | 0.000 | 0.001 | |
| tgPval | 0 | 0 | 0 | |
| updateInference | 0.084 | 0.002 | 0.086 | |