Back to Multiple platform build/check report for BioC 3.21: simplified long |
|
This page was generated on 2025-02-15 11:42 -0500 (Sat, 15 Feb 2025).
Hostname | OS | Arch (*) | R version | Installed pkgs |
---|---|---|---|---|
nebbiolo1 | Linux (Ubuntu 24.04.1 LTS) | x86_64 | R Under development (unstable) (2025-01-20 r87609) -- "Unsuffered Consequences" | 4720 |
palomino7 | Windows Server 2022 Datacenter | x64 | R Under development (unstable) (2025-01-21 r87610 ucrt) -- "Unsuffered Consequences" | 4482 |
lconway | macOS 12.7.1 Monterey | x86_64 | R Under development (unstable) (2025-01-22 r87618) -- "Unsuffered Consequences" | 4493 |
kjohnson3 | macOS 13.7.1 Ventura | arm64 | R Under development (unstable) (2025-01-20 r87609) -- "Unsuffered Consequences" | 4446 |
Click on any hostname to see more info about the system (e.g. compilers) (*) as reported by 'uname -p', except on Windows and Mac OS X |
Package 815/2295 | Hostname | OS / Arch | INSTALL | BUILD | CHECK | BUILD BIN | ||||||||
GenomAutomorphism 1.9.1 (landing page) Robersy Sanchez
| nebbiolo1 | Linux (Ubuntu 24.04.1 LTS) / x86_64 | OK | OK | OK | ![]() | ||||||||
palomino7 | Windows Server 2022 Datacenter / x64 | OK | OK | OK | OK | ![]() | ||||||||
lconway | macOS 12.7.1 Monterey / x86_64 | OK | OK | OK | OK | ![]() | ||||||||
kjohnson3 | macOS 13.7.1 Ventura / arm64 | OK | OK | OK | OK | ![]() | ||||||||
To the developers/maintainers of the GenomAutomorphism package: - Allow up to 24 hours (and sometimes 48 hours) for your latest push to git@git.bioconductor.org:packages/GenomAutomorphism.git to reflect on this report. See Troubleshooting Build Report for more information. - Use the following Renviron settings to reproduce errors and warnings. - If 'R CMD check' started to fail recently on the Linux builder(s) over a missing dependency, add the missing dependency to 'Suggests:' in your DESCRIPTION file. See Renviron.bioc for more information. |
Package: GenomAutomorphism |
Version: 1.9.1 |
Command: /Library/Frameworks/R.framework/Resources/bin/R CMD check --install=check:GenomAutomorphism.install-out.txt --library=/Library/Frameworks/R.framework/Resources/library --no-vignettes --timings GenomAutomorphism_1.9.1.tar.gz |
StartedAt: 2025-02-14 20:32:54 -0500 (Fri, 14 Feb 2025) |
EndedAt: 2025-02-14 20:39:45 -0500 (Fri, 14 Feb 2025) |
EllapsedTime: 411.5 seconds |
RetCode: 0 |
Status: OK |
CheckDir: GenomAutomorphism.Rcheck |
Warnings: 0 |
############################################################################## ############################################################################## ### ### Running command: ### ### /Library/Frameworks/R.framework/Resources/bin/R CMD check --install=check:GenomAutomorphism.install-out.txt --library=/Library/Frameworks/R.framework/Resources/library --no-vignettes --timings GenomAutomorphism_1.9.1.tar.gz ### ############################################################################## ############################################################################## * using log directory ‘/Users/biocbuild/bbs-3.21-bioc/meat/GenomAutomorphism.Rcheck’ * using R Under development (unstable) (2025-01-22 r87618) * using platform: x86_64-apple-darwin20 * R was compiled by Apple clang version 14.0.0 (clang-1400.0.29.202) GNU Fortran (GCC) 14.2.0 * running under: macOS Monterey 12.7.6 * using session charset: UTF-8 * using option ‘--no-vignettes’ * checking for file ‘GenomAutomorphism/DESCRIPTION’ ... OK * this is package ‘GenomAutomorphism’ version ‘1.9.1’ * package encoding: UTF-8 * checking package namespace information ... OK * checking package dependencies ... OK * checking if this is a source package ... OK * checking if there is a namespace ... OK * checking for hidden files and directories ... OK * checking for portable file names ... OK * checking for sufficient/correct file permissions ... OK * checking whether package ‘GenomAutomorphism’ can be installed ... OK * checking installed package size ... OK * checking package directory ... OK * checking ‘build’ directory ... OK * checking DESCRIPTION meta-information ... OK * checking top-level files ... OK * checking for left-over files ... OK * checking index information ... OK * checking package subdirectories ... OK * checking code files for non-ASCII characters ... OK * checking R files for syntax errors ... OK * checking whether the package can be loaded ... OK * checking whether the package can be loaded with stated dependencies ... OK * checking whether the package can be unloaded cleanly ... OK * checking whether the namespace can be loaded with stated dependencies ... OK * checking whether the namespace can be unloaded cleanly ... OK * checking dependencies in R code ... OK * checking S3 generic/method consistency ... OK * checking replacement functions ... OK * checking foreign function calls ... OK * checking R code for possible problems ... OK * checking Rd files ... OK * checking Rd metadata ... OK * checking Rd cross-references ... OK * checking for missing documentation entries ... OK * checking for code/documentation mismatches ... OK * checking Rd \usage sections ... OK * checking Rd contents ... OK * checking for unstated dependencies in examples ... OK * checking contents of ‘data’ directory ... OK * checking data for non-ASCII characters ... OK * checking data for ASCII and uncompressed saves ... OK * checking files in ‘vignettes’ ... OK * checking examples ... OK Examples with CPU (user + system) or elapsed time > 5s user system elapsed automorphisms 6.139 0.139 60.256 aminoacid_dist 3.190 0.855 10.053 autZ64 2.238 0.063 20.524 aut3D 1.901 0.109 20.393 autZ125 1.933 0.050 16.433 autZ5 1.340 0.047 19.242 codon_dist_matrix 0.040 0.010 6.980 * checking for unstated dependencies in ‘tests’ ... OK * checking tests ... Running ‘spelling.R’ Running ‘testthat.R’ OK * checking for unstated dependencies in vignettes ... OK * checking package vignettes ... OK * checking running R code from vignettes ... SKIPPED * checking re-building of vignette outputs ... SKIPPED * checking PDF version of manual ... OK * DONE Status: OK
GenomAutomorphism.Rcheck/00install.out
############################################################################## ############################################################################## ### ### Running command: ### ### /Library/Frameworks/R.framework/Resources/bin/R CMD INSTALL GenomAutomorphism ### ############################################################################## ############################################################################## * installing to library ‘/Library/Frameworks/R.framework/Versions/4.5-x86_64/Resources/library’ * installing *source* package ‘GenomAutomorphism’ ... ** this is package ‘GenomAutomorphism’ version ‘1.9.1’ ** using staged installation ** R ** data ** inst ** byte-compile and prepare package for lazy loading ** help *** installing help indices *** copying figures ** building package indices ** installing vignettes ** testing if installed package can be loaded from temporary location ** testing if installed package can be loaded from final location ** testing if installed package keeps a record of temporary installation path * DONE (GenomAutomorphism)
GenomAutomorphism.Rcheck/tests/spelling.Rout
R Under development (unstable) (2025-01-22 r87618) -- "Unsuffered Consequences" Copyright (C) 2025 The R Foundation for Statistical Computing Platform: x86_64-apple-darwin20 R is free software and comes with ABSOLUTELY NO WARRANTY. You are welcome to redistribute it under certain conditions. Type 'license()' or 'licence()' for distribution details. R is a collaborative project with many contributors. Type 'contributors()' for more information and 'citation()' on how to cite R or R packages in publications. Type 'demo()' for some demos, 'help()' for on-line help, or 'help.start()' for an HTML browser interface to help. Type 'q()' to quit R. > if (requireNamespace("spelling", quietly = TRUE)) { + spelling::spell_check_test( + vignettes = TRUE, error = FALSE, + skip_on_cran = TRUE + ) + } NULL > > proc.time() user system elapsed 0.209 0.077 0.283
GenomAutomorphism.Rcheck/tests/testthat.Rout
R Under development (unstable) (2025-01-22 r87618) -- "Unsuffered Consequences" Copyright (C) 2025 The R Foundation for Statistical Computing Platform: x86_64-apple-darwin20 R is free software and comes with ABSOLUTELY NO WARRANTY. You are welcome to redistribute it under certain conditions. Type 'license()' or 'licence()' for distribution details. R is a collaborative project with many contributors. Type 'contributors()' for more information and 'citation()' on how to cite R or R packages in publications. Type 'demo()' for some demos, 'help()' for on-line help, or 'help.start()' for an HTML browser interface to help. Type 'q()' to quit R. > library(testthat) > library(GenomAutomorphism) > > test_check("GenomAutomorphism") [ FAIL 0 | WARN 0 | SKIP 0 | PASS 34 ] > > proc.time() user system elapsed 24.489 1.130 74.784
GenomAutomorphism.Rcheck/GenomAutomorphism-Ex.timings
name | user | system | elapsed | |
AutomorphismByCoef | 0.521 | 0.016 | 0.543 | |
AutomorphismList | 2.707 | 0.050 | 2.783 | |
CodonMatrix | 0.205 | 0.004 | 0.211 | |
CodonSeq | 0.529 | 0.016 | 0.552 | |
GRangesMatrixSeq | 0.198 | 0.006 | 0.207 | |
ListCodonMatrix | 0.272 | 0.004 | 0.278 | |
MatrixSeq | 0.104 | 0.006 | 0.112 | |
aa_phychem_index | 0.084 | 0.011 | 0.096 | |
aaindex1 | 0.033 | 0.003 | 0.036 | |
aaindex2 | 0.014 | 0.002 | 0.017 | |
aaindex3 | 0.008 | 0.002 | 0.010 | |
aln | 0.112 | 0.003 | 0.116 | |
aminoacid_dist | 3.190 | 0.855 | 10.053 | |
as.AutomorphismList | 0.621 | 0.040 | 0.671 | |
aut3D | 1.901 | 0.109 | 20.393 | |
autZ125 | 1.933 | 0.050 | 16.433 | |
autZ5 | 1.340 | 0.047 | 19.242 | |
autZ64 | 2.238 | 0.063 | 20.524 | |
autby_coef | 0.321 | 0.006 | 0.329 | |
autm | 0.073 | 0.005 | 0.078 | |
autm_3d | 0.135 | 0.007 | 0.144 | |
autm_z125 | 0.111 | 0.008 | 0.120 | |
automorphismByRanges | 0.155 | 0.009 | 0.165 | |
automorphism_bycoef | 0.134 | 0.005 | 0.141 | |
automorphism_prob | 1.013 | 0.022 | 1.041 | |
automorphisms | 6.139 | 0.139 | 60.256 | |
base2codon | 0.102 | 0.005 | 0.107 | |
base2int | 0.006 | 0.001 | 0.008 | |
base_methods | 0.453 | 0.028 | 0.484 | |
brca1_aln | 0.053 | 0.005 | 0.058 | |
brca1_aln2 | 0.059 | 0.005 | 0.065 | |
brca1_autm | 0.430 | 0.008 | 0.441 | |
cdm_z64 | 0.207 | 0.423 | 0.635 | |
codon_coord | 0.923 | 0.022 | 0.950 | |
codon_dist | 0.355 | 0.008 | 0.365 | |
codon_dist_matrix | 0.04 | 0.01 | 6.98 | |
codon_matrix | 0.584 | 0.015 | 0.602 | |
conserved_regions | 0.457 | 0.012 | 0.472 | |
covid_aln | 0.100 | 0.004 | 0.105 | |
covid_autm | 0.103 | 0.005 | 0.107 | |
cyc_aln | 0.127 | 0.007 | 0.135 | |
cyc_autm | 0.201 | 0.005 | 0.208 | |
dna_phyche | 0.005 | 0.002 | 0.007 | |
dna_phychem | 0.002 | 0.001 | 0.003 | |
extract-methods | 0.540 | 0.008 | 0.552 | |
getAutomorphisms | 0.201 | 0.006 | 0.208 | |
get_coord | 0.552 | 0.009 | 0.565 | |
get_mutscore | 0.173 | 0.009 | 0.183 | |
matrices | 0.563 | 0.015 | 0.581 | |
mod | 0.001 | 0.000 | 0.002 | |
modeq | 0.001 | 0.001 | 0.001 | |
modlineq | 0.003 | 0.001 | 0.004 | |
mut_type | 0.002 | 0.000 | 0.003 | |
peptide_phychem_index | 0.111 | 0.008 | 0.120 | |
reexports | 0.131 | 0.006 | 0.137 | |
seqranges | 0.600 | 0.007 | 0.610 | |
slapply | 0.002 | 0.000 | 0.002 | |
sortByChromAndStart | 0.070 | 0.001 | 0.071 | |
str2chr | 0.000 | 0.001 | 0.001 | |
str2dig | 0.000 | 0.000 | 0.001 | |
translation | 0.920 | 0.011 | 0.935 | |