| Back to Multiple platform build/check report for BioC 3.21: simplified long |
|
This page was generated on 2025-10-16 11:41 -0400 (Thu, 16 Oct 2025).
| Hostname | OS | Arch (*) | R version | Installed pkgs |
|---|---|---|---|---|
| nebbiolo1 | Linux (Ubuntu 24.04.3 LTS) | x86_64 | 4.5.1 (2025-06-13) -- "Great Square Root" | 4833 |
| merida1 | macOS 12.7.6 Monterey | x86_64 | 4.5.1 RC (2025-06-05 r88288) -- "Great Square Root" | 4614 |
| kjohnson1 | macOS 13.7.5 Ventura | arm64 | 4.5.1 Patched (2025-06-14 r88325) -- "Great Square Root" | 4555 |
| kunpeng2 | Linux (openEuler 24.03 LTS) | aarch64 | R Under development (unstable) (2025-02-19 r87757) -- "Unsuffered Consequences" | 4586 |
| Click on any hostname to see more info about the system (e.g. compilers) (*) as reported by 'uname -p', except on Windows and Mac OS X | ||||
| Package 830/2341 | Hostname | OS / Arch | INSTALL | BUILD | CHECK | BUILD BIN | ||||||||
| GenomAutomorphism 1.10.0 (landing page) Robersy Sanchez
| nebbiolo1 | Linux (Ubuntu 24.04.3 LTS) / x86_64 | OK | OK | OK | |||||||||
| merida1 | macOS 12.7.6 Monterey / x86_64 | OK | OK | OK | OK | |||||||||
| kjohnson1 | macOS 13.7.5 Ventura / arm64 | OK | OK | OK | OK | |||||||||
| kunpeng2 | Linux (openEuler 24.03 LTS) / aarch64 | OK | OK | OK | ||||||||||
|
To the developers/maintainers of the GenomAutomorphism package: - Allow up to 24 hours (and sometimes 48 hours) for your latest push to git@git.bioconductor.org:packages/GenomAutomorphism.git to reflect on this report. See Troubleshooting Build Report for more information. - Use the following Renviron settings to reproduce errors and warnings. - If 'R CMD check' started to fail recently on the Linux builder(s) over a missing dependency, add the missing dependency to 'Suggests:' in your DESCRIPTION file. See Renviron.bioc for more information. - See Martin Grigorov's blog post for how to debug Linux ARM64 related issues on a x86_64 host. |
| Package: GenomAutomorphism |
| Version: 1.10.0 |
| Command: /home/biocbuild/R/R/bin/R CMD check --install=check:GenomAutomorphism.install-out.txt --library=/home/biocbuild/R/R/site-library --no-vignettes --timings GenomAutomorphism_1.10.0.tar.gz |
| StartedAt: 2025-10-14 09:27:17 -0000 (Tue, 14 Oct 2025) |
| EndedAt: 2025-10-14 09:31:31 -0000 (Tue, 14 Oct 2025) |
| EllapsedTime: 254.2 seconds |
| RetCode: 0 |
| Status: OK |
| CheckDir: GenomAutomorphism.Rcheck |
| Warnings: 0 |
##############################################################################
##############################################################################
###
### Running command:
###
### /home/biocbuild/R/R/bin/R CMD check --install=check:GenomAutomorphism.install-out.txt --library=/home/biocbuild/R/R/site-library --no-vignettes --timings GenomAutomorphism_1.10.0.tar.gz
###
##############################################################################
##############################################################################
* using log directory ‘/home/biocbuild/bbs-3.21-bioc/meat/GenomAutomorphism.Rcheck’
* using R Under development (unstable) (2025-02-19 r87757)
* using platform: aarch64-unknown-linux-gnu
* R was compiled by
aarch64-unknown-linux-gnu-gcc (GCC) 14.2.0
GNU Fortran (GCC) 14.2.0
* running under: openEuler 24.03 (LTS-SP1)
* using session charset: UTF-8
* using option ‘--no-vignettes’
* checking for file ‘GenomAutomorphism/DESCRIPTION’ ... OK
* this is package ‘GenomAutomorphism’ version ‘1.10.0’
* package encoding: UTF-8
* checking package namespace information ... OK
* checking package dependencies ... OK
* checking if this is a source package ... OK
* checking if there is a namespace ... OK
* checking for hidden files and directories ... OK
* checking for portable file names ... OK
* checking for sufficient/correct file permissions ... OK
* checking whether package ‘GenomAutomorphism’ can be installed ... OK
* checking installed package size ... OK
* checking package directory ... OK
* checking ‘build’ directory ... OK
* checking DESCRIPTION meta-information ... OK
* checking top-level files ... OK
* checking for left-over files ... OK
* checking index information ... OK
* checking package subdirectories ... OK
* checking code files for non-ASCII characters ... OK
* checking R files for syntax errors ... OK
* checking whether the package can be loaded ... OK
* checking whether the package can be loaded with stated dependencies ... OK
* checking whether the package can be unloaded cleanly ... OK
* checking whether the namespace can be loaded with stated dependencies ... OK
* checking whether the namespace can be unloaded cleanly ... OK
* checking loading without being on the library search path ... OK
* checking dependencies in R code ... OK
* checking S3 generic/method consistency ... OK
* checking replacement functions ... OK
* checking foreign function calls ... OK
* checking R code for possible problems ... OK
* checking Rd files ... OK
* checking Rd metadata ... OK
* checking Rd cross-references ... NOTE
Non-topic package-anchored link(s) in Rd file 'reexports.Rd':
‘[S4Vectors:S4Vectors-internals]{setValidity2}’
See section 'Cross-references' in the 'Writing R Extensions' manual.
* checking for missing documentation entries ... OK
* checking for code/documentation mismatches ... OK
* checking Rd \usage sections ... OK
* checking Rd contents ... OK
* checking for unstated dependencies in examples ... OK
* checking contents of ‘data’ directory ... OK
* checking data for non-ASCII characters ... OK
* checking data for ASCII and uncompressed saves ... OK
* checking files in ‘vignettes’ ... OK
* checking examples ... OK
Examples with CPU (user + system) or elapsed time > 5s
user system elapsed
automorphisms 6.044 1.085 6.439
aminoacid_dist 6.081 0.859 6.388
* checking for unstated dependencies in ‘tests’ ... OK
* checking tests ...
Running ‘spelling.R’
Running ‘testthat.R’
OK
* checking for unstated dependencies in vignettes ... OK
* checking package vignettes ... OK
* checking running R code from vignettes ... SKIPPED
* checking re-building of vignette outputs ... SKIPPED
* checking PDF version of manual ... OK
* DONE
Status: 1 NOTE
See
‘/home/biocbuild/bbs-3.21-bioc/meat/GenomAutomorphism.Rcheck/00check.log’
for details.
GenomAutomorphism.Rcheck/00install.out
############################################################################## ############################################################################## ### ### Running command: ### ### /home/biocbuild/R/R/bin/R CMD INSTALL GenomAutomorphism ### ############################################################################## ############################################################################## * installing to library ‘/home/biocbuild/R/R-devel_2025-02-19/site-library’ * installing *source* package ‘GenomAutomorphism’ ... ** this is package ‘GenomAutomorphism’ version ‘1.10.0’ ** using staged installation ** R ** data ** inst ** byte-compile and prepare package for lazy loading ** help *** installing help indices *** copying figures ** building package indices ** installing vignettes ** testing if installed package can be loaded from temporary location ** testing if installed package can be loaded from final location ** testing if installed package keeps a record of temporary installation path * DONE (GenomAutomorphism)
GenomAutomorphism.Rcheck/tests/spelling.Rout
R Under development (unstable) (2025-02-19 r87757) -- "Unsuffered Consequences"
Copyright (C) 2025 The R Foundation for Statistical Computing
Platform: aarch64-unknown-linux-gnu
R is free software and comes with ABSOLUTELY NO WARRANTY.
You are welcome to redistribute it under certain conditions.
Type 'license()' or 'licence()' for distribution details.
R is a collaborative project with many contributors.
Type 'contributors()' for more information and
'citation()' on how to cite R or R packages in publications.
Type 'demo()' for some demos, 'help()' for on-line help, or
'help.start()' for an HTML browser interface to help.
Type 'q()' to quit R.
> if (requireNamespace("spelling", quietly = TRUE)) {
+ spelling::spell_check_test(
+ vignettes = TRUE, error = FALSE,
+ skip_on_cran = TRUE
+ )
+ }
NULL
>
> proc.time()
user system elapsed
0.179 0.045 0.212
GenomAutomorphism.Rcheck/tests/testthat.Rout
R Under development (unstable) (2025-02-19 r87757) -- "Unsuffered Consequences"
Copyright (C) 2025 The R Foundation for Statistical Computing
Platform: aarch64-unknown-linux-gnu
R is free software and comes with ABSOLUTELY NO WARRANTY.
You are welcome to redistribute it under certain conditions.
Type 'license()' or 'licence()' for distribution details.
R is a collaborative project with many contributors.
Type 'contributors()' for more information and
'citation()' on how to cite R or R packages in publications.
Type 'demo()' for some demos, 'help()' for on-line help, or
'help.start()' for an HTML browser interface to help.
Type 'q()' to quit R.
> library(testthat)
> library(GenomAutomorphism)
>
> test_check("GenomAutomorphism")
[ FAIL 0 | WARN 0 | SKIP 0 | PASS 34 ]
>
> proc.time()
user system elapsed
28.773 2.786 31.324
GenomAutomorphism.Rcheck/GenomAutomorphism-Ex.timings
| name | user | system | elapsed | |
| AutomorphismByCoef | 0.563 | 0.004 | 0.569 | |
| AutomorphismList | 3.027 | 0.023 | 3.062 | |
| CodonMatrix | 0.244 | 0.001 | 0.245 | |
| CodonSeq | 0.501 | 0.000 | 0.502 | |
| GRangesMatrixSeq | 0.235 | 0.011 | 0.248 | |
| ListCodonMatrix | 0.347 | 0.000 | 0.348 | |
| MatrixSeq | 0.116 | 0.003 | 0.121 | |
| aa_phychem_index | 0.092 | 0.000 | 0.092 | |
| aaindex1 | 0.033 | 0.000 | 0.034 | |
| aaindex2 | 0.015 | 0.000 | 0.015 | |
| aaindex3 | 0.01 | 0.00 | 0.01 | |
| aln | 0.072 | 0.000 | 0.071 | |
| aminoacid_dist | 6.081 | 0.859 | 6.388 | |
| as.AutomorphismList | 0.823 | 0.148 | 0.722 | |
| aut3D | 1.721 | 0.351 | 1.826 | |
| autZ125 | 3.190 | 0.842 | 3.102 | |
| autZ5 | 1.179 | 0.330 | 1.301 | |
| autZ64 | 2.218 | 0.353 | 2.342 | |
| autby_coef | 0.384 | 0.012 | 0.397 | |
| autm | 0.067 | 0.008 | 0.075 | |
| autm_3d | 0.101 | 0.004 | 0.106 | |
| autm_z125 | 0.094 | 0.000 | 0.095 | |
| automorphismByRanges | 0.153 | 0.028 | 0.182 | |
| automorphism_bycoef | 0.130 | 0.027 | 0.159 | |
| automorphism_prob | 1.381 | 0.028 | 1.412 | |
| automorphisms | 6.044 | 1.085 | 6.439 | |
| base2codon | 0.068 | 0.000 | 0.068 | |
| base2int | 0.007 | 0.004 | 0.010 | |
| base_methods | 0.527 | 0.084 | 0.613 | |
| brca1_aln | 0.064 | 0.016 | 0.081 | |
| brca1_aln2 | 0.075 | 0.004 | 0.079 | |
| brca1_autm | 0.506 | 0.012 | 0.520 | |
| cdm_z64 | 0.144 | 0.068 | 0.212 | |
| codon_coord | 1.106 | 0.119 | 1.229 | |
| codon_dist | 0.421 | 0.000 | 0.423 | |
| codon_dist_matrix | 2.821 | 0.455 | 3.295 | |
| codon_matrix | 0.837 | 0.100 | 0.939 | |
| conserved_regions | 0.552 | 0.012 | 0.566 | |
| covid_aln | 0.098 | 0.008 | 0.106 | |
| covid_autm | 0.091 | 0.004 | 0.095 | |
| cyc_aln | 0.152 | 0.000 | 0.153 | |
| cyc_autm | 0.178 | 0.004 | 0.182 | |
| dna_phyche | 0.008 | 0.000 | 0.008 | |
| dna_phychem | 0.003 | 0.000 | 0.003 | |
| extract-methods | 0.610 | 0.019 | 0.630 | |
| getAutomorphisms | 0.260 | 0.024 | 0.285 | |
| get_coord | 0.673 | 0.131 | 0.806 | |
| get_mutscore | 0.192 | 0.008 | 0.200 | |
| matrices | 0.672 | 0.000 | 0.673 | |
| mod | 0.002 | 0.000 | 0.002 | |
| modeq | 0.001 | 0.000 | 0.001 | |
| modlineq | 0.003 | 0.000 | 0.003 | |
| mut_type | 0.003 | 0.000 | 0.003 | |
| peptide_phychem_index | 0.110 | 0.008 | 0.118 | |
| reexports | 0.120 | 0.000 | 0.121 | |
| seqranges | 0.709 | 0.004 | 0.715 | |
| slapply | 0.002 | 0.000 | 0.002 | |
| sortByChromAndStart | 0.088 | 0.000 | 0.088 | |
| str2chr | 0 | 0 | 0 | |
| str2dig | 0.001 | 0.000 | 0.000 | |
| translation | 1.013 | 0.004 | 1.020 | |