Back to Multiple platform build/check report for BioC 3.21: simplified long |
|
This page was generated on 2025-02-15 11:40 -0500 (Sat, 15 Feb 2025).
Hostname | OS | Arch (*) | R version | Installed pkgs |
---|---|---|---|---|
nebbiolo1 | Linux (Ubuntu 24.04.1 LTS) | x86_64 | R Under development (unstable) (2025-01-20 r87609) -- "Unsuffered Consequences" | 4720 |
palomino7 | Windows Server 2022 Datacenter | x64 | R Under development (unstable) (2025-01-21 r87610 ucrt) -- "Unsuffered Consequences" | 4482 |
lconway | macOS 12.7.1 Monterey | x86_64 | R Under development (unstable) (2025-01-22 r87618) -- "Unsuffered Consequences" | 4493 |
kjohnson3 | macOS 13.7.1 Ventura | arm64 | R Under development (unstable) (2025-01-20 r87609) -- "Unsuffered Consequences" | 4446 |
Click on any hostname to see more info about the system (e.g. compilers) (*) as reported by 'uname -p', except on Windows and Mac OS X |
Package 815/2295 | Hostname | OS / Arch | INSTALL | BUILD | CHECK | BUILD BIN | ||||||||
GenomAutomorphism 1.9.1 (landing page) Robersy Sanchez
| nebbiolo1 | Linux (Ubuntu 24.04.1 LTS) / x86_64 | OK | OK | OK | ![]() | ||||||||
palomino7 | Windows Server 2022 Datacenter / x64 | OK | OK | OK | OK | ![]() | ||||||||
lconway | macOS 12.7.1 Monterey / x86_64 | OK | OK | OK | OK | ![]() | ||||||||
kjohnson3 | macOS 13.7.1 Ventura / arm64 | OK | OK | OK | OK | ![]() | ||||||||
To the developers/maintainers of the GenomAutomorphism package: - Allow up to 24 hours (and sometimes 48 hours) for your latest push to git@git.bioconductor.org:packages/GenomAutomorphism.git to reflect on this report. See Troubleshooting Build Report for more information. - Use the following Renviron settings to reproduce errors and warnings. - If 'R CMD check' started to fail recently on the Linux builder(s) over a missing dependency, add the missing dependency to 'Suggests:' in your DESCRIPTION file. See Renviron.bioc for more information. |
Package: GenomAutomorphism |
Version: 1.9.1 |
Command: /home/biocbuild/bbs-3.21-bioc/R/bin/R CMD check --install=check:GenomAutomorphism.install-out.txt --library=/home/biocbuild/bbs-3.21-bioc/R/site-library --timings GenomAutomorphism_1.9.1.tar.gz |
StartedAt: 2025-02-14 22:21:32 -0500 (Fri, 14 Feb 2025) |
EndedAt: 2025-02-14 22:25:44 -0500 (Fri, 14 Feb 2025) |
EllapsedTime: 252.3 seconds |
RetCode: 0 |
Status: OK |
CheckDir: GenomAutomorphism.Rcheck |
Warnings: 0 |
############################################################################## ############################################################################## ### ### Running command: ### ### /home/biocbuild/bbs-3.21-bioc/R/bin/R CMD check --install=check:GenomAutomorphism.install-out.txt --library=/home/biocbuild/bbs-3.21-bioc/R/site-library --timings GenomAutomorphism_1.9.1.tar.gz ### ############################################################################## ############################################################################## * using log directory ‘/home/biocbuild/bbs-3.21-bioc/meat/GenomAutomorphism.Rcheck’ * using R Under development (unstable) (2025-01-20 r87609) * using platform: x86_64-pc-linux-gnu * R was compiled by gcc (Ubuntu 13.3.0-6ubuntu2~24.04) 13.3.0 GNU Fortran (Ubuntu 13.3.0-6ubuntu2~24.04) 13.3.0 * running under: Ubuntu 24.04.2 LTS * using session charset: UTF-8 * checking for file ‘GenomAutomorphism/DESCRIPTION’ ... OK * this is package ‘GenomAutomorphism’ version ‘1.9.1’ * package encoding: UTF-8 * checking package namespace information ... OK * checking package dependencies ... OK * checking if this is a source package ... OK * checking if there is a namespace ... OK * checking for hidden files and directories ... OK * checking for portable file names ... OK * checking for sufficient/correct file permissions ... OK * checking whether package ‘GenomAutomorphism’ can be installed ... OK * checking installed package size ... OK * checking package directory ... OK * checking ‘build’ directory ... OK * checking DESCRIPTION meta-information ... OK * checking top-level files ... OK * checking for left-over files ... OK * checking index information ... OK * checking package subdirectories ... OK * checking code files for non-ASCII characters ... OK * checking R files for syntax errors ... OK * checking whether the package can be loaded ... OK * checking whether the package can be loaded with stated dependencies ... OK * checking whether the package can be unloaded cleanly ... OK * checking whether the namespace can be loaded with stated dependencies ... OK * checking whether the namespace can be unloaded cleanly ... OK * checking loading without being on the library search path ... OK * checking dependencies in R code ... OK * checking S3 generic/method consistency ... OK * checking replacement functions ... OK * checking foreign function calls ... OK * checking R code for possible problems ... OK * checking Rd files ... OK * checking Rd metadata ... OK * checking Rd cross-references ... NOTE Non-topic package-anchored link(s) in Rd file 'reexports.Rd': ‘[S4Vectors:S4Vectors-internals]{setValidity2}’ See section 'Cross-references' in the 'Writing R Extensions' manual. * checking for missing documentation entries ... OK * checking for code/documentation mismatches ... OK * checking Rd \usage sections ... OK * checking Rd contents ... OK * checking for unstated dependencies in examples ... OK * checking contents of ‘data’ directory ... OK * checking data for non-ASCII characters ... OK * checking data for ASCII and uncompressed saves ... OK * checking files in ‘vignettes’ ... OK * checking examples ... OK Examples with CPU (user + system) or elapsed time > 5s user system elapsed automorphisms 4.824 0.847 5.073 aminoacid_dist 4.499 0.866 4.815 * checking for unstated dependencies in ‘tests’ ... OK * checking tests ... Running ‘spelling.R’ Running ‘testthat.R’ OK * checking for unstated dependencies in vignettes ... OK * checking package vignettes ... OK * checking re-building of vignette outputs ... OK * checking PDF version of manual ... OK * DONE Status: 1 NOTE See ‘/home/biocbuild/bbs-3.21-bioc/meat/GenomAutomorphism.Rcheck/00check.log’ for details.
GenomAutomorphism.Rcheck/00install.out
############################################################################## ############################################################################## ### ### Running command: ### ### /home/biocbuild/bbs-3.21-bioc/R/bin/R CMD INSTALL GenomAutomorphism ### ############################################################################## ############################################################################## * installing to library ‘/home/biocbuild/bbs-3.21-bioc/R/site-library’ * installing *source* package ‘GenomAutomorphism’ ... ** this is package ‘GenomAutomorphism’ version ‘1.9.1’ ** using staged installation ** R ** data ** inst ** byte-compile and prepare package for lazy loading ** help *** installing help indices *** copying figures ** building package indices ** installing vignettes ** testing if installed package can be loaded from temporary location ** testing if installed package can be loaded from final location ** testing if installed package keeps a record of temporary installation path * DONE (GenomAutomorphism)
GenomAutomorphism.Rcheck/tests/spelling.Rout
R Under development (unstable) (2025-01-20 r87609) -- "Unsuffered Consequences" Copyright (C) 2025 The R Foundation for Statistical Computing Platform: x86_64-pc-linux-gnu R is free software and comes with ABSOLUTELY NO WARRANTY. You are welcome to redistribute it under certain conditions. Type 'license()' or 'licence()' for distribution details. R is a collaborative project with many contributors. Type 'contributors()' for more information and 'citation()' on how to cite R or R packages in publications. Type 'demo()' for some demos, 'help()' for on-line help, or 'help.start()' for an HTML browser interface to help. Type 'q()' to quit R. > if (requireNamespace("spelling", quietly = TRUE)) { + spelling::spell_check_test( + vignettes = TRUE, error = FALSE, + skip_on_cran = TRUE + ) + } NULL > > proc.time() user system elapsed 0.138 0.037 0.164
GenomAutomorphism.Rcheck/tests/testthat.Rout
R Under development (unstable) (2025-01-20 r87609) -- "Unsuffered Consequences" Copyright (C) 2025 The R Foundation for Statistical Computing Platform: x86_64-pc-linux-gnu R is free software and comes with ABSOLUTELY NO WARRANTY. You are welcome to redistribute it under certain conditions. Type 'license()' or 'licence()' for distribution details. R is a collaborative project with many contributors. Type 'contributors()' for more information and 'citation()' on how to cite R or R packages in publications. Type 'demo()' for some demos, 'help()' for on-line help, or 'help.start()' for an HTML browser interface to help. Type 'q()' to quit R. > library(testthat) > library(GenomAutomorphism) > > test_check("GenomAutomorphism") [ FAIL 0 | WARN 0 | SKIP 0 | PASS 34 ] > > proc.time() user system elapsed 23.180 3.161 26.072
GenomAutomorphism.Rcheck/GenomAutomorphism-Ex.timings
name | user | system | elapsed | |
AutomorphismByCoef | 0.420 | 0.010 | 0.431 | |
AutomorphismList | 2.386 | 0.128 | 2.514 | |
CodonMatrix | 0.170 | 0.001 | 0.171 | |
CodonSeq | 0.353 | 0.001 | 0.354 | |
GRangesMatrixSeq | 0.188 | 0.003 | 0.191 | |
ListCodonMatrix | 0.222 | 0.003 | 0.225 | |
MatrixSeq | 0.102 | 0.003 | 0.105 | |
aa_phychem_index | 0.089 | 0.008 | 0.097 | |
aaindex1 | 0.032 | 0.003 | 0.034 | |
aaindex2 | 0.015 | 0.001 | 0.015 | |
aaindex3 | 0.010 | 0.001 | 0.010 | |
aln | 0.054 | 0.000 | 0.053 | |
aminoacid_dist | 4.499 | 0.866 | 4.815 | |
as.AutomorphismList | 0.591 | 0.115 | 0.571 | |
aut3D | 1.391 | 0.296 | 1.491 | |
autZ125 | 2.285 | 0.675 | 2.244 | |
autZ5 | 0.921 | 0.227 | 0.989 | |
autZ64 | 1.587 | 0.305 | 1.706 | |
autby_coef | 0.290 | 0.017 | 0.307 | |
autm | 0.053 | 0.003 | 0.056 | |
autm_3d | 0.074 | 0.003 | 0.076 | |
autm_z125 | 0.062 | 0.001 | 0.063 | |
automorphismByRanges | 0.108 | 0.012 | 0.120 | |
automorphism_bycoef | 0.104 | 0.011 | 0.115 | |
automorphism_prob | 1.033 | 0.047 | 1.080 | |
automorphisms | 4.824 | 0.847 | 5.073 | |
base2codon | 0.046 | 0.007 | 0.052 | |
base2int | 0.006 | 0.002 | 0.008 | |
base_methods | 0.382 | 0.056 | 0.439 | |
brca1_aln | 0.057 | 0.006 | 0.063 | |
brca1_aln2 | 0.057 | 0.005 | 0.063 | |
brca1_autm | 0.406 | 0.018 | 0.423 | |
cdm_z64 | 0.129 | 0.546 | 0.676 | |
codon_coord | 0.826 | 0.097 | 0.922 | |
codon_dist | 0.262 | 0.027 | 0.289 | |
codon_dist_matrix | 1.947 | 0.280 | 2.218 | |
codon_matrix | 0.609 | 0.063 | 0.672 | |
conserved_regions | 0.385 | 0.025 | 0.409 | |
covid_aln | 0.057 | 0.000 | 0.056 | |
covid_autm | 0.060 | 0.005 | 0.064 | |
cyc_aln | 0.082 | 0.004 | 0.085 | |
cyc_autm | 0.108 | 0.001 | 0.110 | |
dna_phyche | 0.005 | 0.001 | 0.007 | |
dna_phychem | 0.002 | 0.001 | 0.003 | |
extract-methods | 0.476 | 0.014 | 0.489 | |
getAutomorphisms | 0.167 | 0.007 | 0.175 | |
get_coord | 0.558 | 0.107 | 0.666 | |
get_mutscore | 0.153 | 0.004 | 0.158 | |
matrices | 0.486 | 0.003 | 0.489 | |
mod | 0.001 | 0.001 | 0.002 | |
modeq | 0.002 | 0.000 | 0.001 | |
modlineq | 0.003 | 0.000 | 0.003 | |
mut_type | 0.002 | 0.000 | 0.002 | |
peptide_phychem_index | 0.111 | 0.003 | 0.113 | |
reexports | 0.09 | 0.00 | 0.09 | |
seqranges | 0.554 | 0.002 | 0.557 | |
slapply | 0.001 | 0.001 | 0.001 | |
sortByChromAndStart | 0.059 | 0.000 | 0.058 | |
str2chr | 0.000 | 0.001 | 0.001 | |
str2dig | 0.001 | 0.000 | 0.001 | |
translation | 0.769 | 0.000 | 0.769 | |