Back to Multiple platform build/check report for BioC 3.21:   simplified   long
ABCDEF[G]HIJKLMNOPQRSTUVWXYZ

This page was generated on 2025-02-15 11:41 -0500 (Sat, 15 Feb 2025).

HostnameOSArch (*)R versionInstalled pkgs
nebbiolo1Linux (Ubuntu 24.04.1 LTS)x86_64R Under development (unstable) (2025-01-20 r87609) -- "Unsuffered Consequences" 4720
palomino7Windows Server 2022 Datacenterx64R Under development (unstable) (2025-01-21 r87610 ucrt) -- "Unsuffered Consequences" 4482
lconwaymacOS 12.7.1 Montereyx86_64R Under development (unstable) (2025-01-22 r87618) -- "Unsuffered Consequences" 4493
kjohnson3macOS 13.7.1 Venturaarm64R Under development (unstable) (2025-01-20 r87609) -- "Unsuffered Consequences" 4446
Click on any hostname to see more info about the system (e.g. compilers)      (*) as reported by 'uname -p', except on Windows and Mac OS X

Package 815/2295HostnameOS / ArchINSTALLBUILDCHECKBUILD BIN
GenomAutomorphism 1.9.1  (landing page)
Robersy Sanchez
Snapshot Date: 2025-02-14 13:40 -0500 (Fri, 14 Feb 2025)
git_url: https://git.bioconductor.org/packages/GenomAutomorphism
git_branch: devel
git_last_commit: cd1ebdf
git_last_commit_date: 2024-12-29 16:28:12 -0500 (Sun, 29 Dec 2024)
nebbiolo1Linux (Ubuntu 24.04.1 LTS) / x86_64  OK    OK    OK  UNNEEDED, same version is already published
palomino7Windows Server 2022 Datacenter / x64  OK    OK    OK    OK  UNNEEDED, same version is already published
lconwaymacOS 12.7.1 Monterey / x86_64  OK    OK    OK    OK  UNNEEDED, same version is already published
kjohnson3macOS 13.7.1 Ventura / arm64  OK    OK    OK    OK  UNNEEDED, same version is already published


CHECK results for GenomAutomorphism on palomino7

To the developers/maintainers of the GenomAutomorphism package:
- Allow up to 24 hours (and sometimes 48 hours) for your latest push to git@git.bioconductor.org:packages/GenomAutomorphism.git to reflect on this report. See Troubleshooting Build Report for more information.
- Use the following Renviron settings to reproduce errors and warnings.
- If 'R CMD check' started to fail recently on the Linux builder(s) over a missing dependency, add the missing dependency to 'Suggests:' in your DESCRIPTION file. See Renviron.bioc for more information.

raw results


Summary

Package: GenomAutomorphism
Version: 1.9.1
Command: E:\biocbuild\bbs-3.21-bioc\R\bin\R.exe CMD check --no-multiarch --install=check:GenomAutomorphism.install-out.txt --library=E:\biocbuild\bbs-3.21-bioc\R\library --no-vignettes --timings GenomAutomorphism_1.9.1.tar.gz
StartedAt: 2025-02-15 01:31:42 -0500 (Sat, 15 Feb 2025)
EndedAt: 2025-02-15 01:37:22 -0500 (Sat, 15 Feb 2025)
EllapsedTime: 339.7 seconds
RetCode: 0
Status:   OK  
CheckDir: GenomAutomorphism.Rcheck
Warnings: 0

Command output

##############################################################################
##############################################################################
###
### Running command:
###
###   E:\biocbuild\bbs-3.21-bioc\R\bin\R.exe CMD check --no-multiarch --install=check:GenomAutomorphism.install-out.txt --library=E:\biocbuild\bbs-3.21-bioc\R\library --no-vignettes --timings GenomAutomorphism_1.9.1.tar.gz
###
##############################################################################
##############################################################################


* using log directory 'E:/biocbuild/bbs-3.21-bioc/meat/GenomAutomorphism.Rcheck'
* using R Under development (unstable) (2025-01-21 r87610 ucrt)
* using platform: x86_64-w64-mingw32
* R was compiled by
    gcc.exe (GCC) 13.3.0
    GNU Fortran (GCC) 13.3.0
* running under: Windows Server 2022 x64 (build 20348)
* using session charset: UTF-8
* using option '--no-vignettes'
* checking for file 'GenomAutomorphism/DESCRIPTION' ... OK
* this is package 'GenomAutomorphism' version '1.9.1'
* package encoding: UTF-8
* checking package namespace information ... OK
* checking package dependencies ... OK
* checking if this is a source package ... OK
* checking if there is a namespace ... OK
* checking for hidden files and directories ... OK
* checking for portable file names ... OK
* checking whether package 'GenomAutomorphism' can be installed ... OK
* checking installed package size ... OK
* checking package directory ... OK
* checking 'build' directory ... OK
* checking DESCRIPTION meta-information ... OK
* checking top-level files ... OK
* checking for left-over files ... OK
* checking index information ... OK
* checking package subdirectories ... OK
* checking code files for non-ASCII characters ... OK
* checking R files for syntax errors ... OK
* checking whether the package can be loaded ... OK
* checking whether the package can be loaded with stated dependencies ... OK
* checking whether the package can be unloaded cleanly ... OK
* checking whether the namespace can be loaded with stated dependencies ... OK
* checking whether the namespace can be unloaded cleanly ... OK
* checking dependencies in R code ... OK
* checking S3 generic/method consistency ... OK
* checking replacement functions ... OK
* checking foreign function calls ... OK
* checking R code for possible problems ... OK
* checking Rd files ... OK
* checking Rd metadata ... OK
* checking Rd cross-references ... OK
* checking for missing documentation entries ... OK
* checking for code/documentation mismatches ... OK
* checking Rd \usage sections ... OK
* checking Rd contents ... OK
* checking for unstated dependencies in examples ... OK
* checking contents of 'data' directory ... OK
* checking data for non-ASCII characters ... OK
* checking data for ASCII and uncompressed saves ... OK
* checking files in 'vignettes' ... OK
* checking examples ... OK
Examples with CPU (user + system) or elapsed time > 5s
                  user system elapsed
aminoacid_dist    3.48   0.20   66.51
codon_dist_matrix 0.08   0.02    7.40
* checking for unstated dependencies in 'tests' ... OK
* checking tests ...
  Running 'spelling.R'
  Running 'testthat.R'
 OK
* checking for unstated dependencies in vignettes ... OK
* checking package vignettes ... OK
* checking running R code from vignettes ... SKIPPED
* checking re-building of vignette outputs ... SKIPPED
* checking PDF version of manual ... OK
* DONE

Status: OK


Installation output

GenomAutomorphism.Rcheck/00install.out

##############################################################################
##############################################################################
###
### Running command:
###
###   E:\biocbuild\bbs-3.21-bioc\R\bin\R.exe CMD INSTALL GenomAutomorphism
###
##############################################################################
##############################################################################


* installing to library 'E:/biocbuild/bbs-3.21-bioc/R/library'
* installing *source* package 'GenomAutomorphism' ...
** this is package 'GenomAutomorphism' version '1.9.1'
** using staged installation
** R
** data
** inst
** byte-compile and prepare package for lazy loading
** help
*** installing help indices
*** copying figures
** building package indices
** installing vignettes
** testing if installed package can be loaded from temporary location
** testing if installed package can be loaded from final location
** testing if installed package keeps a record of temporary installation path
* DONE (GenomAutomorphism)

Tests output

GenomAutomorphism.Rcheck/tests/spelling.Rout


R Under development (unstable) (2025-01-21 r87610 ucrt) -- "Unsuffered Consequences"
Copyright (C) 2025 The R Foundation for Statistical Computing
Platform: x86_64-w64-mingw32/x64

R is free software and comes with ABSOLUTELY NO WARRANTY.
You are welcome to redistribute it under certain conditions.
Type 'license()' or 'licence()' for distribution details.

R is a collaborative project with many contributors.
Type 'contributors()' for more information and
'citation()' on how to cite R or R packages in publications.

Type 'demo()' for some demos, 'help()' for on-line help, or
'help.start()' for an HTML browser interface to help.
Type 'q()' to quit R.

> if (requireNamespace("spelling", quietly = TRUE)) {
+     spelling::spell_check_test(
+         vignettes = TRUE, error = FALSE,
+         skip_on_cran = TRUE
+     )
+ }
NULL
> 
> proc.time()
   user  system elapsed 
   0.18    0.07    0.32 

GenomAutomorphism.Rcheck/tests/testthat.Rout


R Under development (unstable) (2025-01-21 r87610 ucrt) -- "Unsuffered Consequences"
Copyright (C) 2025 The R Foundation for Statistical Computing
Platform: x86_64-w64-mingw32/x64

R is free software and comes with ABSOLUTELY NO WARRANTY.
You are welcome to redistribute it under certain conditions.
Type 'license()' or 'licence()' for distribution details.

R is a collaborative project with many contributors.
Type 'contributors()' for more information and
'citation()' on how to cite R or R packages in publications.

Type 'demo()' for some demos, 'help()' for on-line help, or
'help.start()' for an HTML browser interface to help.
Type 'q()' to quit R.

> library(testthat)
> library(GenomAutomorphism)
> 
> test_check("GenomAutomorphism")
[ FAIL 0 | WARN 0 | SKIP 0 | PASS 34 ]
> 
> proc.time()
   user  system elapsed 
  21.06    4.06   47.00 

Example timings

GenomAutomorphism.Rcheck/GenomAutomorphism-Ex.timings

nameusersystemelapsed
AutomorphismByCoef0.560.020.58
AutomorphismList2.550.312.86
CodonMatrix0.160.020.17
CodonSeq0.530.340.88
GRangesMatrixSeq0.240.000.23
ListCodonMatrix0.280.020.30
MatrixSeq0.120.030.15
aa_phychem_index0.140.010.16
aaindex10.030.020.05
aaindex20.040.000.03
aaindex30.010.000.01
aln0.110.280.39
aminoacid_dist 3.48 0.2066.51
as.AutomorphismList0.450.030.49
aut3D1.380.251.62
autZ1252.760.253.02
autZ50.580.250.83
autZ641.440.221.65
autby_coef0.230.020.25
autm0.210.200.41
autm_3d0.110.130.23
autm_z1250.220.370.60
automorphismByRanges0.230.220.45
automorphism_bycoef0.270.230.50
automorphism_prob1.340.071.41
automorphisms4.000.264.26
base2codon0.160.250.41
base2int0.010.000.02
base_methods0.550.360.90
brca1_aln0.060.000.06
brca1_aln20.050.020.07
brca1_autm0.550.030.60
cdm_z640.330.250.57
codon_coord0.970.201.17
codon_dist0.520.611.13
codon_dist_matrix0.080.027.40
codon_matrix0.640.010.66
conserved_regions0.500.561.06
covid_aln0.140.270.41
covid_autm0.170.380.54
cyc_aln0.140.180.33
cyc_autm0.260.390.65
dna_phyche0.000.020.02
dna_phychem000
extract-methods0.670.000.67
getAutomorphisms0.320.330.64
get_coord0.570.180.77
get_mutscore0.180.040.20
matrices0.680.230.92
mod000
modeq000
modlineq000
mut_type000
peptide_phychem_index0.080.030.11
reexports0.190.560.75
seqranges0.800.241.03
slapply000
sortByChromAndStart0.090.000.10
str2chr000
str2dig000
translation1.200.261.47