| Back to Multiple platform build/check report for BioC 3.21: simplified long |
|
This page was generated on 2025-04-22 13:18 -0400 (Tue, 22 Apr 2025).
| Hostname | OS | Arch (*) | R version | Installed pkgs |
|---|---|---|---|---|
| nebbiolo1 | Linux (Ubuntu 24.04.1 LTS) | x86_64 | 4.5.0 RC (2025-04-04 r88126) -- "How About a Twenty-Six" | 4831 |
| palomino7 | Windows Server 2022 Datacenter | x64 | 4.5.0 RC (2025-04-04 r88126 ucrt) -- "How About a Twenty-Six" | 4573 |
| lconway | macOS 12.7.1 Monterey | x86_64 | 4.5.0 RC (2025-04-04 r88126) -- "How About a Twenty-Six" | 4599 |
| kjohnson3 | macOS 13.7.1 Ventura | arm64 | 4.5.0 RC (2025-04-04 r88126) -- "How About a Twenty-Six" | 4553 |
| kunpeng2 | Linux (openEuler 24.03 LTS) | aarch64 | R Under development (unstable) (2025-02-19 r87757) -- "Unsuffered Consequences" | 4570 |
| Click on any hostname to see more info about the system (e.g. compilers) (*) as reported by 'uname -p', except on Windows and Mac OS X | ||||
| Package 830/2341 | Hostname | OS / Arch | INSTALL | BUILD | CHECK | BUILD BIN | ||||||||
| GenomAutomorphism 1.10.0 (landing page) Robersy Sanchez
| nebbiolo1 | Linux (Ubuntu 24.04.1 LTS) / x86_64 | OK | OK | OK | |||||||||
| palomino7 | Windows Server 2022 Datacenter / x64 | OK | OK | OK | OK | |||||||||
| lconway | macOS 12.7.1 Monterey / x86_64 | OK | OK | OK | OK | |||||||||
| kjohnson3 | macOS 13.7.1 Ventura / arm64 | OK | OK | OK | OK | |||||||||
| kunpeng2 | Linux (openEuler 24.03 LTS) / aarch64 | OK | OK | OK | ||||||||||
|
To the developers/maintainers of the GenomAutomorphism package: - Allow up to 24 hours (and sometimes 48 hours) for your latest push to git@git.bioconductor.org:packages/GenomAutomorphism.git to reflect on this report. See Troubleshooting Build Report for more information. - Use the following Renviron settings to reproduce errors and warnings. - If 'R CMD check' started to fail recently on the Linux builder(s) over a missing dependency, add the missing dependency to 'Suggests:' in your DESCRIPTION file. See Renviron.bioc for more information. |
| Package: GenomAutomorphism |
| Version: 1.10.0 |
| Command: /Library/Frameworks/R.framework/Resources/bin/R CMD check --install=check:GenomAutomorphism.install-out.txt --library=/Library/Frameworks/R.framework/Resources/library --no-vignettes --timings GenomAutomorphism_1.10.0.tar.gz |
| StartedAt: 2025-04-21 19:32:03 -0400 (Mon, 21 Apr 2025) |
| EndedAt: 2025-04-21 19:34:27 -0400 (Mon, 21 Apr 2025) |
| EllapsedTime: 144.6 seconds |
| RetCode: 0 |
| Status: OK |
| CheckDir: GenomAutomorphism.Rcheck |
| Warnings: 0 |
##############################################################################
##############################################################################
###
### Running command:
###
### /Library/Frameworks/R.framework/Resources/bin/R CMD check --install=check:GenomAutomorphism.install-out.txt --library=/Library/Frameworks/R.framework/Resources/library --no-vignettes --timings GenomAutomorphism_1.10.0.tar.gz
###
##############################################################################
##############################################################################
* using log directory ‘/Users/biocbuild/bbs-3.21-bioc/meat/GenomAutomorphism.Rcheck’
* using R version 4.5.0 RC (2025-04-04 r88126)
* using platform: aarch64-apple-darwin20
* R was compiled by
Apple clang version 14.0.0 (clang-1400.0.29.202)
GNU Fortran (GCC) 14.2.0
* running under: macOS Ventura 13.7.1
* using session charset: UTF-8
* using option ‘--no-vignettes’
* checking for file ‘GenomAutomorphism/DESCRIPTION’ ... OK
* this is package ‘GenomAutomorphism’ version ‘1.10.0’
* package encoding: UTF-8
* checking package namespace information ... OK
* checking package dependencies ... OK
* checking if this is a source package ... OK
* checking if there is a namespace ... OK
* checking for hidden files and directories ... OK
* checking for portable file names ... OK
* checking for sufficient/correct file permissions ... OK
* checking whether package ‘GenomAutomorphism’ can be installed ... OK
* checking installed package size ... OK
* checking package directory ... OK
* checking ‘build’ directory ... OK
* checking DESCRIPTION meta-information ... OK
* checking top-level files ... OK
* checking for left-over files ... OK
* checking index information ... OK
* checking package subdirectories ... OK
* checking code files for non-ASCII characters ... OK
* checking R files for syntax errors ... OK
* checking whether the package can be loaded ... OK
* checking whether the package can be loaded with stated dependencies ... OK
* checking whether the package can be unloaded cleanly ... OK
* checking whether the namespace can be loaded with stated dependencies ... OK
* checking whether the namespace can be unloaded cleanly ... OK
* checking dependencies in R code ... OK
* checking S3 generic/method consistency ... OK
* checking replacement functions ... OK
* checking foreign function calls ... OK
* checking R code for possible problems ... OK
* checking Rd files ... OK
* checking Rd metadata ... OK
* checking Rd cross-references ... NOTE
Non-topic package-anchored link(s) in Rd file 'reexports.Rd':
‘[S4Vectors:S4Vectors-internals]{setValidity2}’
See section 'Cross-references' in the 'Writing R Extensions' manual.
* checking for missing documentation entries ... OK
* checking for code/documentation mismatches ... OK
* checking Rd \usage sections ... OK
* checking Rd contents ... OK
* checking for unstated dependencies in examples ... OK
* checking contents of ‘data’ directory ... OK
* checking data for non-ASCII characters ... OK
* checking data for ASCII and uncompressed saves ... OK
* checking files in ‘vignettes’ ... OK
* checking examples ... OK
Examples with CPU (user + system) or elapsed time > 5s
user system elapsed
automorphisms 2.669 0.059 21.495
autZ64 1.028 0.022 7.544
aut3D 0.777 0.066 7.059
autZ125 0.801 0.019 5.688
autZ5 0.570 0.021 6.499
* checking for unstated dependencies in ‘tests’ ... OK
* checking tests ...
Running ‘spelling.R’
Running ‘testthat.R’
OK
* checking for unstated dependencies in vignettes ... OK
* checking package vignettes ... OK
* checking running R code from vignettes ... SKIPPED
* checking re-building of vignette outputs ... SKIPPED
* checking PDF version of manual ... OK
* DONE
Status: 1 NOTE
See
‘/Users/biocbuild/bbs-3.21-bioc/meat/GenomAutomorphism.Rcheck/00check.log’
for details.
GenomAutomorphism.Rcheck/00install.out
############################################################################## ############################################################################## ### ### Running command: ### ### /Library/Frameworks/R.framework/Resources/bin/R CMD INSTALL GenomAutomorphism ### ############################################################################## ############################################################################## * installing to library ‘/Library/Frameworks/R.framework/Versions/4.5-arm64/Resources/library’ * installing *source* package ‘GenomAutomorphism’ ... ** this is package ‘GenomAutomorphism’ version ‘1.10.0’ ** using staged installation ** R ** data ** inst ** byte-compile and prepare package for lazy loading ** help *** installing help indices *** copying figures ** building package indices ** installing vignettes ** testing if installed package can be loaded from temporary location ** testing if installed package can be loaded from final location ** testing if installed package keeps a record of temporary installation path * DONE (GenomAutomorphism)
GenomAutomorphism.Rcheck/tests/spelling.Rout
R version 4.5.0 RC (2025-04-04 r88126) -- "How About a Twenty-Six"
Copyright (C) 2025 The R Foundation for Statistical Computing
Platform: aarch64-apple-darwin20
R is free software and comes with ABSOLUTELY NO WARRANTY.
You are welcome to redistribute it under certain conditions.
Type 'license()' or 'licence()' for distribution details.
R is a collaborative project with many contributors.
Type 'contributors()' for more information and
'citation()' on how to cite R or R packages in publications.
Type 'demo()' for some demos, 'help()' for on-line help, or
'help.start()' for an HTML browser interface to help.
Type 'q()' to quit R.
> if (requireNamespace("spelling", quietly = TRUE)) {
+ spelling::spell_check_test(
+ vignettes = TRUE, error = FALSE,
+ skip_on_cran = TRUE
+ )
+ }
NULL
>
> proc.time()
user system elapsed
0.066 0.021 0.084
GenomAutomorphism.Rcheck/tests/testthat.Rout
R version 4.5.0 RC (2025-04-04 r88126) -- "How About a Twenty-Six"
Copyright (C) 2025 The R Foundation for Statistical Computing
Platform: aarch64-apple-darwin20
R is free software and comes with ABSOLUTELY NO WARRANTY.
You are welcome to redistribute it under certain conditions.
Type 'license()' or 'licence()' for distribution details.
R is a collaborative project with many contributors.
Type 'contributors()' for more information and
'citation()' on how to cite R or R packages in publications.
Type 'demo()' for some demos, 'help()' for on-line help, or
'help.start()' for an HTML browser interface to help.
Type 'q()' to quit R.
> library(testthat)
> library(GenomAutomorphism)
>
> test_check("GenomAutomorphism")
[ FAIL 0 | WARN 0 | SKIP 0 | PASS 34 ]
>
> proc.time()
user system elapsed
10.438 0.446 27.334
GenomAutomorphism.Rcheck/GenomAutomorphism-Ex.timings
| name | user | system | elapsed | |
| AutomorphismByCoef | 0.144 | 0.003 | 0.148 | |
| AutomorphismList | 0.945 | 0.011 | 0.956 | |
| CodonMatrix | 0.051 | 0.001 | 0.053 | |
| CodonSeq | 0.126 | 0.006 | 0.132 | |
| GRangesMatrixSeq | 0.073 | 0.002 | 0.075 | |
| ListCodonMatrix | 0.061 | 0.001 | 0.063 | |
| MatrixSeq | 0.045 | 0.002 | 0.046 | |
| aa_phychem_index | 0.041 | 0.005 | 0.046 | |
| aaindex1 | 0.014 | 0.001 | 0.015 | |
| aaindex2 | 0.006 | 0.001 | 0.007 | |
| aaindex3 | 0.004 | 0.001 | 0.004 | |
| aln | 0.023 | 0.001 | 0.023 | |
| aminoacid_dist | 1.361 | 0.402 | 3.740 | |
| as.AutomorphismList | 0.186 | 0.029 | 0.215 | |
| aut3D | 0.777 | 0.066 | 7.059 | |
| autZ125 | 0.801 | 0.019 | 5.688 | |
| autZ5 | 0.570 | 0.021 | 6.499 | |
| autZ64 | 1.028 | 0.022 | 7.544 | |
| autby_coef | 0.103 | 0.002 | 0.106 | |
| autm | 0.024 | 0.003 | 0.027 | |
| autm_3d | 0.036 | 0.001 | 0.038 | |
| autm_z125 | 0.030 | 0.001 | 0.032 | |
| automorphismByRanges | 0.046 | 0.003 | 0.049 | |
| automorphism_bycoef | 0.038 | 0.001 | 0.040 | |
| automorphism_prob | 0.361 | 0.009 | 0.369 | |
| automorphisms | 2.669 | 0.059 | 21.495 | |
| base2codon | 0.022 | 0.003 | 0.028 | |
| base2int | 0.002 | 0.001 | 0.003 | |
| base_methods | 0.131 | 0.014 | 0.145 | |
| brca1_aln | 0.019 | 0.002 | 0.022 | |
| brca1_aln2 | 0.019 | 0.002 | 0.022 | |
| brca1_autm | 0.150 | 0.003 | 0.153 | |
| cdm_z64 | 0.070 | 0.169 | 0.242 | |
| codon_coord | 0.461 | 0.023 | 0.490 | |
| codon_dist | 0.104 | 0.002 | 0.107 | |
| codon_dist_matrix | 0.014 | 0.004 | 2.282 | |
| codon_matrix | 0.167 | 0.010 | 0.176 | |
| conserved_regions | 0.131 | 0.003 | 0.134 | |
| covid_aln | 0.022 | 0.002 | 0.023 | |
| covid_autm | 0.029 | 0.002 | 0.031 | |
| cyc_aln | 0.030 | 0.001 | 0.030 | |
| cyc_autm | 0.047 | 0.002 | 0.049 | |
| dna_phyche | 0.002 | 0.001 | 0.003 | |
| dna_phychem | 0.001 | 0.000 | 0.001 | |
| extract-methods | 0.165 | 0.003 | 0.168 | |
| getAutomorphisms | 0.065 | 0.004 | 0.069 | |
| get_coord | 0.240 | 0.003 | 0.242 | |
| get_mutscore | 0.063 | 0.003 | 0.066 | |
| matrices | 0.231 | 0.010 | 0.241 | |
| mod | 0.000 | 0.001 | 0.000 | |
| modeq | 0 | 0 | 0 | |
| modlineq | 0.001 | 0.000 | 0.001 | |
| mut_type | 0.000 | 0.000 | 0.001 | |
| peptide_phychem_index | 0.047 | 0.002 | 0.049 | |
| reexports | 0.045 | 0.003 | 0.048 | |
| seqranges | 0.254 | 0.002 | 0.257 | |
| slapply | 0.000 | 0.000 | 0.001 | |
| sortByChromAndStart | 0.018 | 0.000 | 0.018 | |
| str2chr | 0.000 | 0.000 | 0.001 | |
| str2dig | 0 | 0 | 0 | |
| translation | 0.406 | 0.003 | 0.409 | |