See here for how to subscribe to these builds.
This page was generated on 2024-04-13 23:55:02 -0400 (Sat, 13 Apr 2024).
  | 
| Hostname | OS | Arch (*) | R version | Installed pkgs | 
|---|---|---|---|---|
| nebbiolo2 | Linux (Ubuntu 22.04.3 LTS) | x86_64 | 4.3.3 (2024-02-29) -- "Angel Food Cake" | 4675 | 
| palomino4 | Windows Server 2022 Datacenter | x64 | 4.3.3 (2024-02-29 ucrt) -- "Angel Food Cake" | 4413 | 
| merida1 | macOS 12.7.1 Monterey | x86_64 | 4.3.3 (2024-02-29) -- "Angel Food Cake" | 4436 | 
| Click on any hostname to see more info about the system (e.g. compilers) (*) as reported by 'uname -p', except on Windows and Mac OS X | ||||
| QUICK STATS | OS / Arch | CHECK | |||||||
| nebbiolo2 | Linux (Ubuntu 22.04.3 LTS) / x86_64 | 
  | |||||||
| palomino4 | Windows Server 2022 Datacenter / x64 | 
  | |||||||
| merida1 | macOS 12.7.1 Monterey / x86_64 | 
  | |||||||
| Package 1/30 | Hostname | OS / Arch | CHECK | ||||||
| APAlyzer 1.16.0  (landing page) Ruijia Wang 
  | nebbiolo2 | Linux (Ubuntu 22.04.3 LTS) / x86_64 | ERROR | ||||||
| palomino4 | Windows Server 2022 Datacenter / x64 | ERROR | |||||||
| merida1 | macOS 12.7.1 Monterey / x86_64 | ERROR | |||||||
| Package 2/30 | Hostname | OS / Arch | CHECK | ||||||
| autonomics 1.10.2  (landing page) Aditya Bhagwat 
  | nebbiolo2 | Linux (Ubuntu 22.04.3 LTS) / x86_64 | ERROR | ||||||
| palomino4 | Windows Server 2022 Datacenter / x64 | ERROR | |||||||
| merida1 | macOS 12.7.1 Monterey / x86_64 | ERROR | |||||||
| Package 3/30 | Hostname | OS / Arch | CHECK | ||||||
| basilisk 1.14.3  (landing page) Aaron Lun 
  | nebbiolo2 | Linux (Ubuntu 22.04.3 LTS) / x86_64 | OK | ||||||
| palomino4 | Windows Server 2022 Datacenter / x64 | OK | |||||||
| merida1 | macOS 12.7.1 Monterey / x86_64 | OK | |||||||
| Package 4/30 | Hostname | OS / Arch | CHECK | ||||||
| beachmat 2.18.1  (landing page) Aaron Lun 
  | nebbiolo2 | Linux (Ubuntu 22.04.3 LTS) / x86_64 | ERROR | ||||||
| palomino4 | Windows Server 2022 Datacenter / x64 | ERROR | |||||||
| merida1 | macOS 12.7.1 Monterey / x86_64 | ERROR | |||||||
| Package 5/30 | Hostname | OS / Arch | CHECK | ||||||
| biodb 1.10.0  (landing page) Pierrick Roger 
  | nebbiolo2 | Linux (Ubuntu 22.04.3 LTS) / x86_64 | WARNINGS | ||||||
| palomino4 | Windows Server 2022 Datacenter / x64 | ERROR | |||||||
| merida1 | macOS 12.7.1 Monterey / x86_64 | OK | |||||||
| Package 6/30 | Hostname | OS / Arch | CHECK | ||||||
| biodbChebi 1.8.0  (landing page) Pierrick Roger 
  | nebbiolo2 | Linux (Ubuntu 22.04.3 LTS) / x86_64 | OK | ||||||
| palomino4 | Windows Server 2022 Datacenter / x64 | OK | |||||||
| merida1 | macOS 12.7.1 Monterey / x86_64 | OK | |||||||
| Package 7/30 | Hostname | OS / Arch | CHECK | ||||||
| biodbExpasy 1.6.0  (landing page) Pierrick Roger 
  | nebbiolo2 | Linux (Ubuntu 22.04.3 LTS) / x86_64 | OK | ||||||
| palomino4 | Windows Server 2022 Datacenter / x64 | OK | |||||||
| merida1 | macOS 12.7.1 Monterey / x86_64 | OK | |||||||
| Package 8/30 | Hostname | OS / Arch | CHECK | ||||||
| biodbHmdb 1.8.0  (landing page) Pierrick Roger 
  | nebbiolo2 | Linux (Ubuntu 22.04.3 LTS) / x86_64 | WARNINGS | ||||||
| palomino4 | Windows Server 2022 Datacenter / x64 | WARNINGS | |||||||
| merida1 | macOS 12.7.1 Monterey / x86_64 | WARNINGS | |||||||
| Package 9/30 | Hostname | OS / Arch | CHECK | ||||||
| biodbKegg 1.8.0  (landing page) Pierrick Roger 
  | nebbiolo2 | Linux (Ubuntu 22.04.3 LTS) / x86_64 | ERROR | ||||||
| palomino4 | Windows Server 2022 Datacenter / x64 | ERROR | |||||||
| merida1 | macOS 12.7.1 Monterey / x86_64 | ERROR | |||||||
| Package 10/30 | Hostname | OS / Arch | CHECK | ||||||
| biodbLipidmaps 1.8.0  (landing page) Pierrick Roger 
  | nebbiolo2 | Linux (Ubuntu 22.04.3 LTS) / x86_64 | ERROR | ||||||
| palomino4 | Windows Server 2022 Datacenter / x64 | ERROR | |||||||
| merida1 | macOS 12.7.1 Monterey / x86_64 | ERROR | |||||||
| Package 11/30 | Hostname | OS / Arch | CHECK | ||||||
Pierrick Roger 
  | nebbiolo2 | Linux (Ubuntu 22.04.3 LTS) / x86_64 | ERROR | ||||||
| palomino4 | Windows Server 2022 Datacenter / x64 | ERROR | |||||||
| merida1 | macOS 12.7.1 Monterey / x86_64 | ERROR | |||||||
| Package 12/30 | Hostname | OS / Arch | CHECK | ||||||
| biodbNcbi 1.6.0  (landing page) Pierrick Roger 
  | nebbiolo2 | Linux (Ubuntu 22.04.3 LTS) / x86_64 | ERROR | ||||||
| palomino4 | Windows Server 2022 Datacenter / x64 | WARNINGS | |||||||
| merida1 | macOS 12.7.1 Monterey / x86_64 | WARNINGS | |||||||
| Package 13/30 | Hostname | OS / Arch | CHECK | ||||||
| biodbNci 1.6.0  (landing page) Pierrick Roger 
  | nebbiolo2 | Linux (Ubuntu 22.04.3 LTS) / x86_64 | OK | ||||||
| palomino4 | Windows Server 2022 Datacenter / x64 | OK | |||||||
| merida1 | macOS 12.7.1 Monterey / x86_64 | OK | |||||||
| Package 14/30 | Hostname | OS / Arch | CHECK | ||||||
| biodbUniprot 1.8.0  (landing page) Pierrick Roger 
  | nebbiolo2 | Linux (Ubuntu 22.04.3 LTS) / x86_64 | OK | ||||||
| palomino4 | Windows Server 2022 Datacenter / x64 | OK | |||||||
| merida1 | macOS 12.7.1 Monterey / x86_64 | OK | |||||||
| Package 15/30 | Hostname | OS / Arch | CHECK | ||||||
| cBioPortalData 2.14.2  (landing page) Marcel Ramos 
  | nebbiolo2 | Linux (Ubuntu 22.04.3 LTS) / x86_64 | OK | ||||||
| palomino4 | Windows Server 2022 Datacenter / x64 | OK | |||||||
| merida1 | macOS 12.7.1 Monterey / x86_64 | OK | |||||||
| Package 16/30 | Hostname | OS / Arch | CHECK | ||||||
| ChromSCape 1.12.0  (landing page) Pacome Prompsy 
  | nebbiolo2 | Linux (Ubuntu 22.04.3 LTS) / x86_64 | ERROR | ||||||
| palomino4 | Windows Server 2022 Datacenter / x64 | ERROR | |||||||
| merida1 | macOS 12.7.1 Monterey / x86_64 | ERROR | |||||||
| Package 17/30 | Hostname | OS / Arch | CHECK | ||||||
| clusterExperiment 2.22.0  (landing page) Elizabeth Purdom 
  | nebbiolo2 | Linux (Ubuntu 22.04.3 LTS) / x86_64 | ERROR | ||||||
| palomino4 | Windows Server 2022 Datacenter / x64 | ERROR | |||||||
| merida1 | macOS 12.7.1 Monterey / x86_64 | ERROR | |||||||
| Package 18/30 | Hostname | OS / Arch | CHECK | ||||||
| crisprScore 1.6.0  (landing page) Jean-Philippe Fortin 
  | nebbiolo2 | Linux (Ubuntu 22.04.3 LTS) / x86_64 | ERROR | ||||||
| palomino4 | Windows Server 2022 Datacenter / x64 | OK | |||||||
| merida1 | macOS 12.7.1 Monterey / x86_64 | ERROR | |||||||
| Package 19/30 | Hostname | OS / Arch | CHECK | ||||||
| DelayedMatrixStats 1.24.0  (landing page) Peter Hickey 
  | nebbiolo2 | Linux (Ubuntu 22.04.3 LTS) / x86_64 | OK | ||||||
| palomino4 | Windows Server 2022 Datacenter / x64 | OK | |||||||
| merida1 | macOS 12.7.1 Monterey / x86_64 | OK | |||||||
| Package 20/30 | Hostname | OS / Arch | CHECK | ||||||
| DropletUtils 1.22.0  (landing page) Jonathan Griffiths 
  | nebbiolo2 | Linux (Ubuntu 22.04.3 LTS) / x86_64 | OK | ||||||
| palomino4 | Windows Server 2022 Datacenter / x64 | OK | |||||||
| merida1 | macOS 12.7.1 Monterey / x86_64 | OK | |||||||
| Package 21/30 | Hostname | OS / Arch | CHECK | ||||||
| EpiMix 1.4.0  (landing page) Yuanning Zheng 
  | nebbiolo2 | Linux (Ubuntu 22.04.3 LTS) / x86_64 | OK | ||||||
| palomino4 | Windows Server 2022 Datacenter / x64 | OK | |||||||
| merida1 | macOS 12.7.1 Monterey / x86_64 | OK | |||||||
| Package 22/30 | Hostname | OS / Arch | CHECK | ||||||
| extraChIPs 1.6.1  (landing page) Stephen Pederson 
  | nebbiolo2 | Linux (Ubuntu 22.04.3 LTS) / x86_64 | OK | ||||||
| palomino4 | Windows Server 2022 Datacenter / x64 | OK | |||||||
| merida1 | macOS 12.7.1 Monterey / x86_64 | OK | |||||||
| Package 23/30 | Hostname | OS / Arch | CHECK | ||||||
| GenomicFeatures 1.54.4  (landing page) H. Pagès 
  | nebbiolo2 | Linux (Ubuntu 22.04.3 LTS) / x86_64 | WARNINGS | ||||||
| palomino4 | Windows Server 2022 Datacenter / x64 | WARNINGS | |||||||
| merida1 | macOS 12.7.1 Monterey / x86_64 | WARNINGS | |||||||
| Package 24/30 | Hostname | OS / Arch | CHECK | ||||||
| HDF5Array 1.30.1  (landing page) Hervé Pagès 
  | nebbiolo2 | Linux (Ubuntu 22.04.3 LTS) / x86_64 | ERROR | ||||||
| palomino4 | Windows Server 2022 Datacenter / x64 | ERROR | |||||||
| merida1 | macOS 12.7.1 Monterey / x86_64 | ERROR | |||||||
| Package 25/30 | Hostname | OS / Arch | CHECK | ||||||
| midasHLA 1.10.0  (landing page) Maciej Migdał 
  | nebbiolo2 | Linux (Ubuntu 22.04.3 LTS) / x86_64 | ERROR | ||||||
| palomino4 | Windows Server 2022 Datacenter / x64 | ERROR | |||||||
| merida1 | macOS 12.7.1 Monterey / x86_64 | ERROR | |||||||
| Package 26/30 | Hostname | OS / Arch | CHECK | ||||||
| rhdf5 2.46.1  (landing page) Mike Smith 
  | nebbiolo2 | Linux (Ubuntu 22.04.3 LTS) / x86_64 | ERROR | ||||||
| palomino4 | Windows Server 2022 Datacenter / x64 | ERROR | |||||||
| merida1 | macOS 12.7.1 Monterey / x86_64 | ERROR | |||||||
| Package 27/30 | Hostname | OS / Arch | CHECK | ||||||
| SimBu 1.4.3  (landing page) Alexander Dietrich 
  | nebbiolo2 | Linux (Ubuntu 22.04.3 LTS) / x86_64 | ERROR | ||||||
| palomino4 | Windows Server 2022 Datacenter / x64 | ERROR | |||||||
| merida1 | macOS 12.7.1 Monterey / x86_64 | ERROR | |||||||
| Package 28/30 | Hostname | OS / Arch | CHECK | ||||||
| TENxIO 1.4.0  (landing page) Marcel Ramos 
  | nebbiolo2 | Linux (Ubuntu 22.04.3 LTS) / x86_64 | OK | ||||||
| palomino4 | Windows Server 2022 Datacenter / x64 | OK | |||||||
| merida1 | macOS 12.7.1 Monterey / x86_64 | OK | |||||||
| Package 29/30 | Hostname | OS / Arch | CHECK | ||||||
| xcms 4.0.2  (landing page) Steffen Neumann 
  | nebbiolo2 | Linux (Ubuntu 22.04.3 LTS) / x86_64 | OK | ||||||
| palomino4 | Windows Server 2022 Datacenter / x64 | OK | |||||||
| merida1 | macOS 12.7.1 Monterey / x86_64 | OK | |||||||
| Package 30/30 | Hostname | OS / Arch | CHECK | ||||||
| zellkonverter 1.12.1  (landing page) Luke Zappia 
  | nebbiolo2 | Linux (Ubuntu 22.04.3 LTS) / x86_64 | OK | ||||||
| palomino4 | Windows Server 2022 Datacenter / x64 | ERROR | |||||||
| merida1 | macOS 12.7.1 Monterey / x86_64 | ERROR | |||||||