| Back to Long Tests report for BioC 3.18 |
This page was generated on 2024-04-13 23:55:02 -0400 (Sat, 13 Apr 2024).
| QUICK STATS | OS / Arch | CHECK | |||||||
| nebbiolo2 | Linux (Ubuntu 22.04.3 LTS) / x86_64 |
| |||||||
| palomino4 | Windows Server 2022 Datacenter / x64 |
| |||||||
| merida1 | macOS 12.7.1 Monterey / x86_64 |
| |||||||
| Package | Maintainer | CHECK | |||||||
| 1/30 | APAlyzer 1.16.0 (landing page) | Ruijia Wang | ERROR | ||||||
| 2/30 | autonomics 1.10.2 (landing page) | Aditya Bhagwat | ERROR | ||||||
| 3/30 | basilisk 1.14.3 (landing page) | Aaron Lun | OK | ||||||
| 4/30 | beachmat 2.18.1 (landing page) | Aaron Lun | ERROR | ||||||
| 5/30 | biodb 1.10.0 (landing page) | Pierrick Roger | ERROR | ||||||
| 6/30 | biodbChebi 1.8.0 (landing page) | Pierrick Roger | OK | ||||||
| 7/30 | biodbExpasy 1.6.0 (landing page) | Pierrick Roger | OK | ||||||
| 8/30 | biodbHmdb 1.8.0 (landing page) | Pierrick Roger | WARNINGS | ||||||
| 9/30 | biodbKegg 1.8.0 (landing page) | Pierrick Roger | ERROR | ||||||
| 10/30 | biodbLipidmaps 1.8.0 (landing page) | Pierrick Roger | ERROR | ||||||
| 11/30 | Pierrick Roger | ERROR | |||||||
| 12/30 | biodbNcbi 1.6.0 (landing page) | Pierrick Roger | WARNINGS | ||||||
| 13/30 | biodbNci 1.6.0 (landing page) | Pierrick Roger | OK | ||||||
| 14/30 | biodbUniprot 1.8.0 (landing page) | Pierrick Roger | OK | ||||||
| 15/30 | cBioPortalData 2.14.2 (landing page) | Marcel Ramos | OK | ||||||
| 16/30 | ChromSCape 1.12.0 (landing page) | Pacome Prompsy | ERROR | ||||||
| 17/30 | clusterExperiment 2.22.0 (landing page) | Elizabeth Purdom | ERROR | ||||||
| 18/30 | crisprScore 1.6.0 (landing page) | Jean-Philippe Fortin | OK | ||||||
| 19/30 | DelayedMatrixStats 1.24.0 (landing page) | Peter Hickey | OK | ||||||
| 20/30 | DropletUtils 1.22.0 (landing page) | Jonathan Griffiths | OK | ||||||
| 21/30 | EpiMix 1.4.0 (landing page) | Yuanning Zheng | OK | ||||||
| 22/30 | extraChIPs 1.6.1 (landing page) | Stephen Pederson | OK | ||||||
| 23/30 | GenomicFeatures 1.54.4 (landing page) | H. Pagès | WARNINGS | ||||||
| 24/30 | HDF5Array 1.30.1 (landing page) | Hervé Pagès | ERROR | ||||||
| 25/30 | midasHLA 1.10.0 (landing page) | Maciej Migdał | ERROR | ||||||
| 26/30 | rhdf5 2.46.1 (landing page) | Mike Smith | ERROR | ||||||
| 27/30 | SimBu 1.4.3 (landing page) | Alexander Dietrich | ERROR | ||||||
| 28/30 | TENxIO 1.4.0 (landing page) | Marcel Ramos | OK | ||||||
| 29/30 | xcms 4.0.2 (landing page) | Steffen Neumann | OK | ||||||
| 30/30 | zellkonverter 1.12.1 (landing page) | Luke Zappia | ERROR | ||||||