| Back to Long Tests report for BioC 3.18 |
This page was generated on 2024-04-13 23:55:01 -0400 (Sat, 13 Apr 2024).
| Hostname | OS | Arch (*) | R version | Installed pkgs |
|---|---|---|---|---|
| nebbiolo2 | Linux (Ubuntu 22.04.3 LTS) | x86_64 | 4.3.3 (2024-02-29) -- "Angel Food Cake" | 4675 |
| palomino4 | Windows Server 2022 Datacenter | x64 | 4.3.3 (2024-02-29 ucrt) -- "Angel Food Cake" | 4413 |
| merida1 | macOS 12.7.1 Monterey | x86_64 | 4.3.3 (2024-02-29) -- "Angel Food Cake" | 4436 |
| Click on any hostname to see more info about the system (e.g. compilers) (*) as reported by 'uname -p', except on Windows and Mac OS X | ||||
| Package 4/30 | Hostname | OS / Arch | CHECK | |||||||
| beachmat 2.18.1 (landing page) Aaron Lun
| nebbiolo2 | Linux (Ubuntu 22.04.3 LTS) / x86_64 | ERROR | |||||||
| palomino4 | Windows Server 2022 Datacenter / x64 | ERROR | ||||||||
| merida1 | macOS 12.7.1 Monterey / x86_64 | ERROR | ||||||||
|
To the developers/maintainers of the beachmat package: - Use the following Renviron settings to reproduce errors and warnings. - If 'R CMD check' started to fail recently on the Linux builder(s) over a missing dependency, add the missing dependency to 'Suggests:' in your DESCRIPTION file. See Renviron.bioc for more information. |
| Package: beachmat |
| Version: 2.18.1 |
| Command: /home/biocbuild/bbs-3.18-bioc/R/bin/R CMD check --test-dir=longtests --no-stop-on-test-error --no-codoc --no-examples --no-manual --ignore-vignettes --check-subdirs=no beachmat_2.18.1.tar.gz |
| StartedAt: 2024-04-13 16:00:28 -0400 (Sat, 13 Apr 2024) |
| EndedAt: 2024-04-13 16:21:23 -0400 (Sat, 13 Apr 2024) |
| EllapsedTime: 1255.3 seconds |
| RetCode: 1 |
| Status: ERROR |
| CheckDir: beachmat.Rcheck |
| Warnings: NA |
beachmat.Rcheck/tests/testthat.Rout.fail
R version 4.3.3 (2024-02-29) -- "Angel Food Cake"
Copyright (C) 2024 The R Foundation for Statistical Computing
Platform: x86_64-pc-linux-gnu (64-bit)
R is free software and comes with ABSOLUTELY NO WARRANTY.
You are welcome to redistribute it under certain conditions.
Type 'license()' or 'licence()' for distribution details.
R is a collaborative project with many contributors.
Type 'contributors()' for more information and
'citation()' on how to cite R or R packages in publications.
Type 'demo()' for some demos, 'help()' for on-line help, or
'help.start()' for an HTML browser interface to help.
Type 'q()' to quit R.
> library(testthat)
> library(beachmat)
> test_check("beachmat")
── R CMD build ─────────────────────────────────────────────────────────────────
* checking for file ‘.../DESCRIPTION’ ... OK
* preparing ‘beachtest’:
* checking DESCRIPTION meta-information ... OK
* cleaning src
* checking for LF line-endings in source and make files and shell scripts
* checking for empty or unneeded directories
* building ‘beachtest_1.0.0.tar.gz’
── R CMD check ─────────────────────────────────────────────────────────────────
* using log directory ‘/tmp/RtmpHd2jKN/file1e23ef68ca3479/beachtest.Rcheck’
* using R version 4.3.3 (2024-02-29)
* using platform: x86_64-pc-linux-gnu (64-bit)
* R was compiled by
gcc (Ubuntu 11.4.0-1ubuntu1~22.04) 11.4.0
GNU Fortran (Ubuntu 11.4.0-1ubuntu1~22.04) 11.4.0
* running under: Ubuntu 22.04.4 LTS
* using session charset: UTF-8
* checking for file ‘beachtest/DESCRIPTION’ ... OK
* this is package ‘beachtest’ version ‘1.0.0’
* checking package namespace information ... OK
* checking package dependencies ... OK
* checking if this is a source package ... OK
* checking if there is a namespace ... OK
* checking for hidden files and directories ... OK
* checking for portable file names ... OK
* checking for sufficient/correct file permissions ... OK
* checking whether package ‘beachtest’ can be installed ... OK
* used C++ compiler: ‘g++ (Ubuntu 11.4.0-1ubuntu1~22.04) 11.4.0’
* checking C++ specification ... NOTE
Specified C++11: please drop specification unless essential
* checking installed package size ... NOTE
installed size is 72.4Mb
sub-directories of 1Mb or more:
libs 72.3Mb
* checking package directory ... OK
* checking DESCRIPTION meta-information ... OK
* checking top-level files ... OK
* checking for left-over files ... OK
* checking index information ... OK
* checking package subdirectories ... OK
* checking R files for non-ASCII characters ... OK
* checking R files for syntax errors ... OK
* checking whether the package can be loaded ... OK
* checking whether the package can be loaded with stated dependencies ... OK
* checking whether the package can be unloaded cleanly ... OK
* checking whether the namespace can be loaded with stated dependencies ... OK
* checking whether the namespace can be unloaded cleanly ... OK
* checking loading without being on the library search path ... OK
* checking dependencies in R code ... OK
* checking S3 generic/method consistency ... OK
* checking replacement functions ... OK
* checking foreign function calls ... OK
* checking R code for possible problems ... OK
* checking Rd files ... OK
* checking Rd metadata ... OK
* checking Rd cross-references ... OK
* checking for missing documentation entries ... OK
* checking for code/documentation mismatches ... OK
* checking Rd \usage sections ... OK
* checking Rd contents ... OK
* checking for unstated dependencies in examples ... OK
* checking line endings in C/C++/Fortran sources/headers ... OK
* checking compiled code ... OK
* checking examples ... OK
* checking for unstated dependencies in ‘tests’ ... OK
* checking tests ...
Running ‘testthat.R’
OK
* checking PDF version of manual ... OK
* DONE
Status: 2 NOTEs
See
‘/tmp/RtmpHd2jKN/file1e23ef68ca3479/beachtest.Rcheck/00check.log’
for details.
[ FAIL 1 | WARN 0 | SKIP 0 | PASS 1 ]
══ Failed tests ════════════════════════════════════════════════════════════════
── Failure ('test-check.R:6:5'): extension test package CHECKs correctly ───────
`rcmdcheck::rcmdcheck(...)` threw an error.
Message: unused argument (document = FALSE)
Class: simpleError/error/condition
Backtrace:
▆
1. └─testthat::expect_error(...) at test-check.R:6:5
2. └─testthat:::quasi_capture(...)
3. ├─testthat (local) .capture(...)
4. │ └─base::withCallingHandlers(...)
5. └─rlang::eval_bare(quo_get_expr(.quo), quo_get_env(.quo))
[ FAIL 1 | WARN 0 | SKIP 0 | PASS 1 ]
Error: Test failures
Execution halted
##############################################################################
##############################################################################
###
### Running command:
###
### /home/biocbuild/bbs-3.18-bioc/R/bin/R CMD check --test-dir=longtests --no-stop-on-test-error --no-codoc --no-examples --no-manual --ignore-vignettes --check-subdirs=no beachmat_2.18.1.tar.gz
###
##############################################################################
##############################################################################
* using log directory ‘/home/biocbuild/bbs-3.18-bioc-longtests/meat/beachmat.Rcheck’
* using R version 4.3.3 (2024-02-29)
* using platform: x86_64-pc-linux-gnu (64-bit)
* R was compiled by
gcc (Ubuntu 11.4.0-1ubuntu1~22.04) 11.4.0
GNU Fortran (Ubuntu 11.4.0-1ubuntu1~22.04) 11.4.0
* running under: Ubuntu 22.04.4 LTS
* using session charset: UTF-8
* using options ‘--no-codoc --no-examples --no-manual --ignore-vignettes --no-stop-on-test-error’
* checking for file ‘beachmat/DESCRIPTION’ ... OK
* this is package ‘beachmat’ version ‘2.18.1’
* package encoding: UTF-8
* checking package namespace information ... OK
* checking package dependencies ... OK
* checking if this is a source package ... OK
* checking if there is a namespace ... OK
* checking for hidden files and directories ... OK
* checking for portable file names ... OK
* checking for sufficient/correct file permissions ... OK
* checking whether package ‘beachmat’ can be installed ... OK
* used C++ compiler: ‘g++ (Ubuntu 11.4.0-1ubuntu1~22.04) 11.4.0’
* checking C++ specification ... OK
Not all R platforms support C++17
* checking installed package size ... NOTE
installed size is 107.3Mb
sub-directories of 1Mb or more:
include 1.4Mb
libs 105.3Mb
* checking package directory ... OK
* checking DESCRIPTION meta-information ... OK
* checking top-level files ... OK
* checking for left-over files ... OK
* checking index information ... OK
* checking package subdirectories ... OK
* checking R files for non-ASCII characters ... OK
* checking R files for syntax errors ... OK
* checking whether the package can be loaded ... OK
* checking whether the package can be loaded with stated dependencies ... OK
* checking whether the package can be unloaded cleanly ... OK
* checking whether the namespace can be loaded with stated dependencies ... OK
* checking whether the namespace can be unloaded cleanly ... OK
* checking loading without being on the library search path ... OK
* checking dependencies in R code ... NOTE
Unexported object imported by a ':::' call: ‘DelayedArray:::bplapply2’
See the note in ?`:::` about the use of this operator.
* checking S3 generic/method consistency ... OK
* checking replacement functions ... OK
* checking foreign function calls ... OK
* checking R code for possible problems ... OK
* checking Rd files ... OK
* checking Rd metadata ... OK
* checking Rd cross-references ... OK
* checking for missing documentation entries ... OK
* checking for code/documentation mismatches ... SKIPPED
* checking Rd \usage sections ... OK
* checking Rd contents ... OK
* checking for unstated dependencies in examples ... OK
* checking line endings in C/C++/Fortran sources/headers ... OK
* checking line endings in Makefiles ... OK
* checking compilation flags in Makevars ... OK
* checking for GNU extensions in Makefiles ... OK
* checking for portable use of $(BLAS_LIBS) and $(LAPACK_LIBS) ... OK
* checking use of PKG_*FLAGS in Makefiles ... OK
* checking compiled code ... OK
* checking files in ‘vignettes’ ... SKIPPED
* checking examples ... SKIPPED
* checking for unstated dependencies in ‘longtests’ ... OK
* checking tests in ‘longtests’ ...
Running ‘testthat.R’
ERROR
Running the tests in ‘longtests/testthat.R’ failed.
Last 13 lines of output:
── Failure ('test-check.R:6:5'): extension test package CHECKs correctly ───────
`rcmdcheck::rcmdcheck(...)` threw an error.
Message: unused argument (document = FALSE)
Class: simpleError/error/condition
Backtrace:
▆
1. └─testthat::expect_error(...) at test-check.R:6:5
2. └─testthat:::quasi_capture(...)
3. ├─testthat (local) .capture(...)
4. │ └─base::withCallingHandlers(...)
5. └─rlang::eval_bare(quo_get_expr(.quo), quo_get_env(.quo))
[ FAIL 1 | WARN 0 | SKIP 0 | PASS 1 ]
Error: Test failures
Execution halted
* DONE
Status: 1 ERROR, 2 NOTEs
See
‘/home/biocbuild/bbs-3.18-bioc-longtests/meat/beachmat.Rcheck/00check.log’
for details.
beachmat.Rcheck/00install.out
* installing *source* package ‘beachmat’ ...
** using staged installation
** libs
using C++ compiler: ‘g++ (Ubuntu 11.4.0-1ubuntu1~22.04) 11.4.0’
using C++17
g++ -std=gnu++17 -I"/home/biocbuild/bbs-3.18-bioc/R/include" -DNDEBUG -I../inst/include -I'/home/biocbuild/bbs-3.18-bioc/R/site-library/Rcpp/include' -I/usr/local/include -fpic -g -O2 -Wall -c RcppExports.cpp -o RcppExports.o
g++ -std=gnu++17 -I"/home/biocbuild/bbs-3.18-bioc/R/include" -DNDEBUG -I../inst/include -I'/home/biocbuild/bbs-3.18-bioc/R/site-library/Rcpp/include' -I/usr/local/include -fpic -g -O2 -Wall -c delayed_isometric_binary.cpp -o delayed_isometric_binary.o
g++ -std=gnu++17 -I"/home/biocbuild/bbs-3.18-bioc/R/include" -DNDEBUG -I../inst/include -I'/home/biocbuild/bbs-3.18-bioc/R/site-library/Rcpp/include' -I/usr/local/include -fpic -g -O2 -Wall -c delayed_isometric_math.cpp -o delayed_isometric_math.o
g++ -std=gnu++17 -I"/home/biocbuild/bbs-3.18-bioc/R/include" -DNDEBUG -I../inst/include -I'/home/biocbuild/bbs-3.18-bioc/R/site-library/Rcpp/include' -I/usr/local/include -fpic -g -O2 -Wall -c delayed_isometric_unary.cpp -o delayed_isometric_unary.o
g++ -std=gnu++17 -I"/home/biocbuild/bbs-3.18-bioc/R/include" -DNDEBUG -I../inst/include -I'/home/biocbuild/bbs-3.18-bioc/R/site-library/Rcpp/include' -I/usr/local/include -fpic -g -O2 -Wall -c delayed_other.cpp -o delayed_other.o
g++ -std=gnu++17 -I"/home/biocbuild/bbs-3.18-bioc/R/include" -DNDEBUG -I../inst/include -I'/home/biocbuild/bbs-3.18-bioc/R/site-library/Rcpp/include' -I/usr/local/include -fpic -g -O2 -Wall -c dense_matrix.cpp -o dense_matrix.o
g++ -std=gnu++17 -I"/home/biocbuild/bbs-3.18-bioc/R/include" -DNDEBUG -I../inst/include -I'/home/biocbuild/bbs-3.18-bioc/R/site-library/Rcpp/include' -I/usr/local/include -fpic -g -O2 -Wall -c fragment_sparse_rows.cpp -o fragment_sparse_rows.o
g++ -std=gnu++17 -I"/home/biocbuild/bbs-3.18-bioc/R/include" -DNDEBUG -I../inst/include -I'/home/biocbuild/bbs-3.18-bioc/R/site-library/Rcpp/include' -I/usr/local/include -fpic -g -O2 -Wall -c sparse_matrix.cpp -o sparse_matrix.o
In file included from ../inst/include/tatami/tatami.hpp:6,
from ../inst/include/tatami_r/UnknownMatrix.hpp:5,
from ../inst/include/tatami_r/tatami_r.hpp:4,
from ../inst/include/Rtatami.h:8,
from sparse_matrix.cpp:1:
../inst/include/tatami/sparse/CompressedSparseMatrix.hpp: In instantiation of ‘tatami::CompressedSparseMatrix<row_, Value_, Index_, ValueStorage_, IndexStorage_, PointerStorage_>::CompressedSparseMatrix(Index_, Index_, ValueStorage_, IndexStorage_, PointerStorage_, bool) [with bool row_ = true; Value_ = double; Index_ = int; ValueStorage_ = tatami::ArrayView<int>; IndexStorage_ = tatami::ArrayView<int>; PointerStorage_ = tatami::ArrayView<int>]’:
sparse_matrix.cpp:15:16: required from ‘tatami::NumericMatrix* store_sparse_matrix(XVector_, Rcpp::IntegerVector, Rcpp::IntegerVector, int, int, bool) [with T_ = int; XVector_ = Rcpp::Vector<10, Rcpp::PreserveStorage>; tatami::NumericMatrix = tatami::Matrix<double, int>; Rcpp::IntegerVector = Rcpp::Vector<13>]’
sparse_matrix.cpp:39:51: required from here
../inst/include/tatami/sparse/CompressedSparseMatrix.hpp:112:46: warning: comparison of integer expressions of different signedness: ‘size_t’ {aka ‘long unsigned int’} and ‘int’ [-Wsign-compare]
112 | for (size_t j = start + 1; j < end; ++j) {
| ~~^~~~~
../inst/include/tatami/sparse/CompressedSparseMatrix.hpp: In instantiation of ‘tatami::CompressedSparseMatrix<row_, Value_, Index_, ValueStorage_, IndexStorage_, PointerStorage_>::CompressedSparseMatrix(Index_, Index_, ValueStorage_, IndexStorage_, PointerStorage_, bool) [with bool row_ = false; Value_ = double; Index_ = int; ValueStorage_ = tatami::ArrayView<int>; IndexStorage_ = tatami::ArrayView<int>; PointerStorage_ = tatami::ArrayView<int>]’:
sparse_matrix.cpp:18:16: required from ‘tatami::NumericMatrix* store_sparse_matrix(XVector_, Rcpp::IntegerVector, Rcpp::IntegerVector, int, int, bool) [with T_ = int; XVector_ = Rcpp::Vector<10, Rcpp::PreserveStorage>; tatami::NumericMatrix = tatami::Matrix<double, int>; Rcpp::IntegerVector = Rcpp::Vector<13>]’
sparse_matrix.cpp:39:51: required from here
../inst/include/tatami/sparse/CompressedSparseMatrix.hpp:112:46: warning: comparison of integer expressions of different signedness: ‘size_t’ {aka ‘long unsigned int’} and ‘int’ [-Wsign-compare]
../inst/include/tatami/sparse/CompressedSparseMatrix.hpp: In instantiation of ‘tatami::CompressedSparseMatrix<row_, Value_, Index_, ValueStorage_, IndexStorage_, PointerStorage_>::CompressedSparseMatrix(Index_, Index_, ValueStorage_, IndexStorage_, PointerStorage_, bool) [with bool row_ = true; Value_ = double; Index_ = int; ValueStorage_ = tatami::ArrayView<double>; IndexStorage_ = tatami::ArrayView<int>; PointerStorage_ = tatami::ArrayView<int>]’:
sparse_matrix.cpp:15:16: required from ‘tatami::NumericMatrix* store_sparse_matrix(XVector_, Rcpp::IntegerVector, Rcpp::IntegerVector, int, int, bool) [with T_ = double; XVector_ = Rcpp::Vector<14, Rcpp::PreserveStorage>; tatami::NumericMatrix = tatami::Matrix<double, int>; Rcpp::IntegerVector = Rcpp::Vector<13>]’
sparse_matrix.cpp:42:54: required from here
../inst/include/tatami/sparse/CompressedSparseMatrix.hpp:112:46: warning: comparison of integer expressions of different signedness: ‘size_t’ {aka ‘long unsigned int’} and ‘int’ [-Wsign-compare]
../inst/include/tatami/sparse/CompressedSparseMatrix.hpp: In instantiation of ‘tatami::CompressedSparseMatrix<row_, Value_, Index_, ValueStorage_, IndexStorage_, PointerStorage_>::CompressedSparseMatrix(Index_, Index_, ValueStorage_, IndexStorage_, PointerStorage_, bool) [with bool row_ = false; Value_ = double; Index_ = int; ValueStorage_ = tatami::ArrayView<double>; IndexStorage_ = tatami::ArrayView<int>; PointerStorage_ = tatami::ArrayView<int>]’:
sparse_matrix.cpp:18:16: required from ‘tatami::NumericMatrix* store_sparse_matrix(XVector_, Rcpp::IntegerVector, Rcpp::IntegerVector, int, int, bool) [with T_ = double; XVector_ = Rcpp::Vector<14, Rcpp::PreserveStorage>; tatami::NumericMatrix = tatami::Matrix<double, int>; Rcpp::IntegerVector = Rcpp::Vector<13>]’
sparse_matrix.cpp:42:54: required from here
../inst/include/tatami/sparse/CompressedSparseMatrix.hpp:112:46: warning: comparison of integer expressions of different signedness: ‘size_t’ {aka ‘long unsigned int’} and ‘int’ [-Wsign-compare]
g++ -std=gnu++17 -I"/home/biocbuild/bbs-3.18-bioc/R/include" -DNDEBUG -I../inst/include -I'/home/biocbuild/bbs-3.18-bioc/R/site-library/Rcpp/include' -I/usr/local/include -fpic -g -O2 -Wall -c tatami_utils.cpp -o tatami_utils.o
g++ -std=gnu++17 -I"/home/biocbuild/bbs-3.18-bioc/R/include" -DNDEBUG -I../inst/include -I'/home/biocbuild/bbs-3.18-bioc/R/site-library/Rcpp/include' -I/usr/local/include -fpic -g -O2 -Wall -c unknown_matrix.cpp -o unknown_matrix.o
g++ -std=gnu++17 -shared -L/home/biocbuild/bbs-3.18-bioc/R/lib -L/usr/local/lib -o beachmat.so RcppExports.o delayed_isometric_binary.o delayed_isometric_math.o delayed_isometric_unary.o delayed_other.o dense_matrix.o fragment_sparse_rows.o sparse_matrix.o tatami_utils.o unknown_matrix.o -L/home/biocbuild/bbs-3.18-bioc/R/lib -lR
installing to /home/biocbuild/bbs-3.18-bioc-longtests/meat/beachmat.Rcheck/00LOCK-beachmat/00new/beachmat/libs
** R
** inst
** byte-compile and prepare package for lazy loading
** help
*** installing help indices
** building package indices
** installing vignettes
** testing if installed package can be loaded from temporary location
** checking absolute paths in shared objects and dynamic libraries
** testing if installed package can be loaded from final location
** testing if installed package keeps a record of temporary installation path
* DONE (beachmat)