| Back to Long Tests report for BioC 3.18 |
This page was generated on 2024-04-13 23:55:02 -0400 (Sat, 13 Apr 2024).
| Hostname | OS | Arch (*) | R version | Installed pkgs |
|---|---|---|---|---|
| nebbiolo2 | Linux (Ubuntu 22.04.3 LTS) | x86_64 | 4.3.3 (2024-02-29) -- "Angel Food Cake" | 4675 |
| palomino4 | Windows Server 2022 Datacenter | x64 | 4.3.3 (2024-02-29 ucrt) -- "Angel Food Cake" | 4413 |
| merida1 | macOS 12.7.1 Monterey | x86_64 | 4.3.3 (2024-02-29) -- "Angel Food Cake" | 4436 |
| Click on any hostname to see more info about the system (e.g. compilers) (*) as reported by 'uname -p', except on Windows and Mac OS X | ||||
| Package 30/30 | Hostname | OS / Arch | CHECK | |||||||
| zellkonverter 1.12.1 (landing page) Luke Zappia
| nebbiolo2 | Linux (Ubuntu 22.04.3 LTS) / x86_64 | OK | |||||||
| palomino4 | Windows Server 2022 Datacenter / x64 | ERROR | ||||||||
| merida1 | macOS 12.7.1 Monterey / x86_64 | ERROR | ||||||||
|
To the developers/maintainers of the zellkonverter package: - Use the following Renviron settings to reproduce errors and warnings. - If 'R CMD check' started to fail recently on the Linux builder(s) over a missing dependency, add the missing dependency to 'Suggests:' in your DESCRIPTION file. See Renviron.bioc for more information. |
| Package: zellkonverter |
| Version: 1.12.1 |
| Command: /home/biocbuild/bbs-3.18-bioc/R/bin/R CMD check --test-dir=longtests --no-stop-on-test-error --no-codoc --no-examples --no-manual --ignore-vignettes --check-subdirs=no zellkonverter_1.12.1.tar.gz |
| StartedAt: 2024-04-13 16:33:29 -0400 (Sat, 13 Apr 2024) |
| EndedAt: 2024-04-13 16:47:22 -0400 (Sat, 13 Apr 2024) |
| EllapsedTime: 832.8 seconds |
| RetCode: 0 |
| Status: OK |
| CheckDir: zellkonverter.Rcheck |
| Warnings: 0 |
zellkonverter.Rcheck/tests/testthat.Rout
R version 4.3.3 (2024-02-29) -- "Angel Food Cake"
Copyright (C) 2024 The R Foundation for Statistical Computing
Platform: x86_64-pc-linux-gnu (64-bit)
R is free software and comes with ABSOLUTELY NO WARRANTY.
You are welcome to redistribute it under certain conditions.
Type 'license()' or 'licence()' for distribution details.
R is a collaborative project with many contributors.
Type 'contributors()' for more information and
'citation()' on how to cite R or R packages in publications.
Type 'demo()' for some demos, 'help()' for on-line help, or
'help.start()' for an HTML browser interface to help.
Type 'q()' to quit R.
> library(testthat)
> library(zellkonverter)
Registered S3 methods overwritten by 'zellkonverter':
method from
py_to_r.numpy.ndarray reticulate
py_to_r.pandas.core.arrays.categorical.Categorical reticulate
>
> test_check("zellkonverter")
/home/biocbuild/.cache/R/basilisk/1.14.3/zellkonverter/1.12.1/zellkonverterAnnDataEnv-0.10.2/lib/python3.11/site-packages/anndata/_core/anndata.py:522: FutureWarning: The dtype argument is deprecated and will be removed in late 2024.
warnings.warn(
/home/biocbuild/.cache/R/basilisk/1.14.3/zellkonverter/1.12.1/zellkonverterAnnDataEnv-0.10.2/lib/python3.11/site-packages/anndata/_core/anndata.py:522: FutureWarning: The dtype argument is deprecated and will be removed in late 2024.
warnings.warn(
/home/biocbuild/.cache/R/basilisk/1.14.3/zellkonverter/1.12.1/zellkonverterAnnDataEnv-0.10.2/lib/python3.11/site-packages/anndata/_core/anndata.py:522: FutureWarning: The dtype argument is deprecated and will be removed in late 2024.
warnings.warn(
/home/biocbuild/.cache/R/basilisk/1.14.3/zellkonverter/1.12.1/zellkonverterAnnDataEnv-0.10.2/lib/python3.11/site-packages/anndata/_core/anndata.py:522: FutureWarning: The dtype argument is deprecated and will be removed in late 2024.
warnings.warn(
/home/biocbuild/.cache/R/basilisk/1.14.3/zellkonverter/1.12.1/zellkonverterAnnDataEnv-0.10.2/lib/python3.11/site-packages/anndata/_core/anndata.py:522: FutureWarning: The dtype argument is deprecated and will be removed in late 2024.
warnings.warn(
/home/biocbuild/.cache/R/basilisk/1.14.3/zellkonverter/1.12.1/zellkonverterAnnDataEnv-0.10.2/lib/python3.11/site-packages/anndata/_core/anndata.py:522: FutureWarning: The dtype argument is deprecated and will be removed in late 2024.
warnings.warn(
/home/biocbuild/.cache/R/basilisk/1.14.3/zellkonverter/1.12.1/zellkonverterAnnDataEnv-0.10.2/lib/python3.11/site-packages/anndata/_core/anndata.py:522: FutureWarning: The dtype argument is deprecated and will be removed in late 2024.
warnings.warn(
/home/biocbuild/.cache/R/basilisk/1.14.3/zellkonverter/1.12.1/zellkonverterAnnDataEnv-0.10.2/lib/python3.11/site-packages/anndata/_core/anndata.py:522: FutureWarning: The dtype argument is deprecated and will be removed in late 2024.
warnings.warn(
/home/biocbuild/.cache/R/basilisk/1.14.3/zellkonverter/1.12.1/zellkonverterAnnDataEnv-0.10.2/lib/python3.11/site-packages/anndata/_core/anndata.py:1898: UserWarning: Observation names are not unique. To make them unique, call `.obs_names_make_unique`.
utils.warn_names_duplicates("obs")
/home/biocbuild/.cache/R/basilisk/1.14.3/zellkonverter/1.12.1/zellkonverterAnnDataEnv-0.10.2/lib/python3.11/site-packages/anndata/_core/anndata.py:1898: UserWarning: Observation names are not unique. To make them unique, call `.obs_names_make_unique`.
utils.warn_names_duplicates("obs")
/home/biocbuild/.cache/R/basilisk/1.14.3/zellkonverter/1.12.1/zellkonverterAnnDataEnv-0.10.2/lib/python3.11/site-packages/anndata/_core/anndata.py:522: FutureWarning: The dtype argument is deprecated and will be removed in late 2024.
warnings.warn(
/home/biocbuild/.cache/R/basilisk/1.14.3/zellkonverter/1.12.1/zellkonverterAnnDataEnv-0.10.2/lib/python3.11/site-packages/anndata/_core/anndata.py:1898: UserWarning: Observation names are not unique. To make them unique, call `.obs_names_make_unique`.
utils.warn_names_duplicates("obs")
/home/biocbuild/.cache/R/basilisk/1.14.3/zellkonverter/1.12.1/zellkonverterAnnDataEnv-0.10.2/lib/python3.11/site-packages/anndata/_core/anndata.py:1898: UserWarning: Observation names are not unique. To make them unique, call `.obs_names_make_unique`.
utils.warn_names_duplicates("obs")
/home/biocbuild/.cache/R/basilisk/1.14.3/zellkonverter/1.12.1/zellkonverterAnnDataEnv-0.10.2/lib/python3.11/site-packages/anndata/_core/anndata.py:522: FutureWarning: The dtype argument is deprecated and will be removed in late 2024.
warnings.warn(
[ FAIL 0 | WARN 0 | SKIP 0 | PASS 199 ]
>
> proc.time()
user system elapsed
514.726 188.762 704.856
##############################################################################
##############################################################################
###
### Running command:
###
### /home/biocbuild/bbs-3.18-bioc/R/bin/R CMD check --test-dir=longtests --no-stop-on-test-error --no-codoc --no-examples --no-manual --ignore-vignettes --check-subdirs=no zellkonverter_1.12.1.tar.gz
###
##############################################################################
##############################################################################
* using log directory ‘/home/biocbuild/bbs-3.18-bioc-longtests/meat/zellkonverter.Rcheck’
* using R version 4.3.3 (2024-02-29)
* using platform: x86_64-pc-linux-gnu (64-bit)
* R was compiled by
gcc (Ubuntu 11.4.0-1ubuntu1~22.04) 11.4.0
GNU Fortran (Ubuntu 11.4.0-1ubuntu1~22.04) 11.4.0
* running under: Ubuntu 22.04.4 LTS
* using session charset: UTF-8
* using options ‘--no-codoc --no-examples --no-manual --ignore-vignettes --no-stop-on-test-error’
* checking for file ‘zellkonverter/DESCRIPTION’ ... OK
* this is package ‘zellkonverter’ version ‘1.12.1’
* package encoding: UTF-8
* checking package namespace information ... OK
* checking package dependencies ... OK
* checking if this is a source package ... OK
* checking if there is a namespace ... OK
* checking for hidden files and directories ... OK
* checking for portable file names ... OK
* checking for sufficient/correct file permissions ... OK
* checking whether package ‘zellkonverter’ can be installed ... NOTE
Found the following notes/warnings:
Non-staged installation was used
See ‘/home/biocbuild/bbs-3.18-bioc-longtests/meat/zellkonverter.Rcheck/00install.out’ for details.
* checking installed package size ... OK
* checking package directory ... OK
* checking DESCRIPTION meta-information ... OK
* checking top-level files ... OK
* checking for left-over files ... OK
* checking index information ... OK
* checking package subdirectories ... OK
* checking R files for non-ASCII characters ... OK
* checking R files for syntax errors ... OK
* checking whether the package can be loaded ... OK
* checking whether the package can be loaded with stated dependencies ... OK
* checking whether the package can be unloaded cleanly ... OK
* checking whether the namespace can be loaded with stated dependencies ... OK
* checking whether the namespace can be unloaded cleanly ... OK
* checking loading without being on the library search path ... OK
* checking dependencies in R code ... OK
* checking S3 generic/method consistency ... OK
* checking replacement functions ... OK
* checking foreign function calls ... OK
* checking R code for possible problems ... OK
* checking Rd files ... OK
* checking Rd metadata ... OK
* checking Rd cross-references ... OK
* checking for missing documentation entries ... OK
* checking for code/documentation mismatches ... SKIPPED
* checking Rd \usage sections ... OK
* checking Rd contents ... OK
* checking for unstated dependencies in examples ... OK
* checking line endings in shell scripts ... OK
* checking files in ‘vignettes’ ... SKIPPED
* checking examples ... SKIPPED
* checking for unstated dependencies in ‘longtests’ ... OK
* checking tests in ‘longtests’ ...
Running ‘testthat.R’
OK
* DONE
Status: 1 NOTE
See
‘/home/biocbuild/bbs-3.18-bioc-longtests/meat/zellkonverter.Rcheck/00check.log’
for details.
zellkonverter.Rcheck/00install.out
* installing *source* package ‘zellkonverter’ ... ** using non-staged installation via StagedInstall field ** R ** inst ** byte-compile and prepare package for lazy loading ** help *** installing help indices *** copying figures ** building package indices ** installing vignettes ** testing if installed package can be loaded * DONE (zellkonverter)