| Back to Multiple platform build/check report for BioC 3.17 |
|
This page was generated on 2023-04-12 10:55:19 -0400 (Wed, 12 Apr 2023).
| Hostname | OS | Arch (*) | R version | Installed pkgs |
|---|---|---|---|---|
| nebbiolo1 | Linux (Ubuntu 22.04.1 LTS) | x86_64 | 4.3.0 alpha (2023-04-03 r84154) | 4547 |
| nebbiolo2 | Linux (Ubuntu 20.04.5 LTS) | x86_64 | R Under development (unstable) (2023-02-14 r83833) -- "Unsuffered Consequences" | 4333 |
| Click on any hostname to see more info about the system (e.g. compilers) (*) as reported by 'uname -p', except on Windows and Mac OS X | ||||
|
To the developers/maintainers of the impute package: - Allow up to 24 hours (and sometimes 48 hours) for your latest push to git@git.bioconductor.org:packages/impute.git to reflect on this report. See Troubleshooting Build Report for more information. - Use the following Renviron settings to reproduce errors and warnings. Note: If "R CMD check" recently failed on the Linux builder over a missing dependency, add the missing dependency to "Suggests" in your DESCRIPTION file. See the Renviron.bioc for details. |
| Package 985/2207 | Hostname | OS / Arch | INSTALL | BUILD | CHECK | BUILD BIN | ||||||||
| impute 1.73.0 (landing page) Balasubramanian Narasimhan
| nebbiolo1 | Linux (Ubuntu 22.04.1 LTS) / x86_64 | OK | OK | OK | |||||||||
| nebbiolo2 | Linux (Ubuntu 20.04.5 LTS) / x86_64 | OK | OK | OK | ||||||||||
| QUICK STATS | OS / Arch | INSTALL | BUILD | CHECK | BUILD BIN | ||||||||||||||
| nebbiolo1 | Linux (Ubuntu 22.04.1 LTS) / x86_64 |
|
|
| |||||||||||||||
| nebbiolo2 | Linux (Ubuntu 20.04.5 LTS) / x86_64 |
|
|
| |||||||||||||||
| Package 1/31 | Hostname | OS / Arch | INSTALL | BUILD | CHECK | BUILD BIN | |||||||||||||
| AMARETTO 1.15.3 (landing page) Olivier Gevaert
| nebbiolo1 | Linux (Ubuntu 22.04.1 LTS) / x86_64 | OK | OK | WARNINGS | ||||||||||||||
| nebbiolo2 | Linux (Ubuntu 20.04.5 LTS) / x86_64 | OK | OK | WARNINGS | |||||||||||||||
| Package 2/31 | Hostname | OS / Arch | INSTALL | BUILD | CHECK | BUILD BIN | |||||||||||||
| biscuiteer 1.13.1 (landing page) Jacob Morrison
| nebbiolo1 | Linux (Ubuntu 22.04.1 LTS) / x86_64 | OK | OK | WARNINGS | ||||||||||||||
| nebbiolo2 | Linux (Ubuntu 20.04.5 LTS) / x86_64 | OK | OK | WARNINGS | |||||||||||||||
| Package 3/31 | Hostname | OS / Arch | INSTALL | BUILD | CHECK | BUILD BIN | |||||||||||||
| CancerSubtypes 1.25.0 (landing page) Taosheng Xu
| nebbiolo1 | Linux (Ubuntu 22.04.1 LTS) / x86_64 | OK | OK | ERROR | ||||||||||||||
| nebbiolo2 | Linux (Ubuntu 20.04.5 LTS) / x86_64 | OK | OK | ERROR | |||||||||||||||
| Package 4/31 | Hostname | OS / Arch | INSTALL | BUILD | CHECK | BUILD BIN | |||||||||||||
| CGHcall 2.61.0 (landing page) Mark van de Wiel
| nebbiolo1 | Linux (Ubuntu 22.04.1 LTS) / x86_64 | OK | OK | WARNINGS | ||||||||||||||
| nebbiolo2 | Linux (Ubuntu 20.04.5 LTS) / x86_64 | OK | OK | WARNINGS | |||||||||||||||
| Package 5/31 | Hostname | OS / Arch | INSTALL | BUILD | CHECK | BUILD BIN | |||||||||||||
| ChAMP 2.29.0 (landing page) Yuan Tian
| nebbiolo1 | Linux (Ubuntu 22.04.1 LTS) / x86_64 | OK | OK | WARNINGS | ||||||||||||||
| nebbiolo2 | Linux (Ubuntu 20.04.5 LTS) / x86_64 | OK | OK | WARNINGS | |||||||||||||||
| Package 6/31 | Hostname | OS / Arch | INSTALL | BUILD | CHECK | BUILD BIN | |||||||||||||
| cola 2.5.2 (landing page) Zuguang Gu
| nebbiolo1 | Linux (Ubuntu 22.04.1 LTS) / x86_64 | OK | OK | OK | ||||||||||||||
| nebbiolo2 | Linux (Ubuntu 20.04.5 LTS) / x86_64 | OK | OK | OK | |||||||||||||||
| Package 7/31 | Hostname | OS / Arch | INSTALL | BUILD | CHECK | BUILD BIN | |||||||||||||
| DExMA 1.7.0 (landing page) Juan Antonio Villatoro-GarcĂa
| nebbiolo1 | Linux (Ubuntu 22.04.1 LTS) / x86_64 | OK | OK | OK | ||||||||||||||
| nebbiolo2 | Linux (Ubuntu 20.04.5 LTS) / x86_64 | OK | OK | OK | |||||||||||||||
| Package 8/31 | Hostname | OS / Arch | INSTALL | BUILD | CHECK | BUILD BIN | |||||||||||||
| doppelgangR 1.27.0 (landing page) Levi Waldron
| nebbiolo1 | Linux (Ubuntu 22.04.1 LTS) / x86_64 | OK | OK | ERROR | ||||||||||||||
| nebbiolo2 | Linux (Ubuntu 20.04.5 LTS) / x86_64 | OK | OK | OK | |||||||||||||||
| Package 9/31 | Hostname | OS / Arch | INSTALL | BUILD | CHECK | BUILD BIN | |||||||||||||
| EGAD 1.27.0 (landing page) Sara Ballouz
| nebbiolo1 | Linux (Ubuntu 22.04.1 LTS) / x86_64 | OK | OK | WARNINGS | ||||||||||||||
| nebbiolo2 | Linux (Ubuntu 20.04.5 LTS) / x86_64 | OK | OK | WARNINGS | |||||||||||||||
| Package 10/31 | Hostname | OS / Arch | INSTALL | BUILD | CHECK | BUILD BIN | |||||||||||||
| ENmix 1.35.02 (landing page) Zongli Xu
| nebbiolo1 | Linux (Ubuntu 22.04.1 LTS) / x86_64 | OK | OK | OK | ||||||||||||||
| nebbiolo2 | Linux (Ubuntu 20.04.5 LTS) / x86_64 | OK | OK | OK | |||||||||||||||
| Package 11/31 | Hostname | OS / Arch | INSTALL | BUILD | CHECK | BUILD BIN | |||||||||||||
| EpiMix 1.1.3 (landing page) Yuanning Zheng
| nebbiolo1 | Linux (Ubuntu 22.04.1 LTS) / x86_64 | OK | ERROR | skipped | ||||||||||||||
| nebbiolo2 | Linux (Ubuntu 20.04.5 LTS) / x86_64 | OK | ERROR | skipped | |||||||||||||||
| Package 12/31 | Hostname | OS / Arch | INSTALL | BUILD | CHECK | BUILD BIN | |||||||||||||
| fastLiquidAssociation 1.35.0 (landing page) Tina Gunderson
| nebbiolo1 | Linux (Ubuntu 22.04.1 LTS) / x86_64 | OK | OK | WARNINGS | ||||||||||||||
| nebbiolo2 | Linux (Ubuntu 20.04.5 LTS) / x86_64 | OK | OK | WARNINGS | |||||||||||||||
| Package 13/31 | Hostname | OS / Arch | INSTALL | BUILD | CHECK | BUILD BIN | |||||||||||||
| genefu 2.31.0 (landing page) Benjamin Haibe-Kains
| nebbiolo1 | Linux (Ubuntu 22.04.1 LTS) / x86_64 | OK | OK | OK | ||||||||||||||
| nebbiolo2 | Linux (Ubuntu 20.04.5 LTS) / x86_64 | OK | OK | OK | |||||||||||||||
| Package 14/31 | Hostname | OS / Arch | INSTALL | BUILD | CHECK | BUILD BIN | |||||||||||||
| genomation 1.31.0 (landing page) Altuna Akalin
| nebbiolo1 | Linux (Ubuntu 22.04.1 LTS) / x86_64 | OK | OK | WARNINGS | ||||||||||||||
| nebbiolo2 | Linux (Ubuntu 20.04.5 LTS) / x86_64 | OK | OK | WARNINGS | |||||||||||||||
| Package 15/31 | Hostname | OS / Arch | INSTALL | BUILD | CHECK | BUILD BIN | |||||||||||||
| GEOexplorer 1.5.0 (landing page) Guy Hunt
| nebbiolo1 | Linux (Ubuntu 22.04.1 LTS) / x86_64 | OK | OK | OK | ||||||||||||||
| nebbiolo2 | Linux (Ubuntu 20.04.5 LTS) / x86_64 | OK | OK | OK | |||||||||||||||
| Package 16/31 | Hostname | OS / Arch | INSTALL | BUILD | CHECK | BUILD BIN | |||||||||||||
| MAGAR 1.7.0 (landing page) Michael Scherer
| nebbiolo1 | Linux (Ubuntu 22.04.1 LTS) / x86_64 | OK | OK | OK | ||||||||||||||
| nebbiolo2 | Linux (Ubuntu 20.04.5 LTS) / x86_64 | OK | OK | OK | |||||||||||||||
| Package 17/31 | Hostname | OS / Arch | INSTALL | BUILD | CHECK | BUILD BIN | |||||||||||||
| MatrixQCvis 1.7.4 (landing page) Thomas Naake
| nebbiolo1 | Linux (Ubuntu 22.04.1 LTS) / x86_64 | OK | OK | ERROR | ||||||||||||||
| nebbiolo2 | Linux (Ubuntu 20.04.5 LTS) / x86_64 | OK | OK | ERROR | |||||||||||||||
| Package 18/31 | Hostname | OS / Arch | INSTALL | BUILD | CHECK | BUILD BIN | |||||||||||||
| MEAT 1.11.0 (landing page) Sarah Voisin
| nebbiolo1 | Linux (Ubuntu 22.04.1 LTS) / x86_64 | OK | OK | WARNINGS | ||||||||||||||
| nebbiolo2 | Linux (Ubuntu 20.04.5 LTS) / x86_64 | OK | OK | WARNINGS | |||||||||||||||
| Package 19/31 | Hostname | OS / Arch | INSTALL | BUILD | CHECK | BUILD BIN | |||||||||||||
| methylclock 1.5.0 (landing page) Dolors Pelegri-Siso
| nebbiolo1 | Linux (Ubuntu 22.04.1 LTS) / x86_64 | OK | OK | OK | ||||||||||||||
| nebbiolo2 | Linux (Ubuntu 20.04.5 LTS) / x86_64 | OK | OK | ERROR | |||||||||||||||
| Package 20/31 | Hostname | OS / Arch | INSTALL | BUILD | CHECK | BUILD BIN | |||||||||||||
| MethylMix 2.29.0 (landing page) Olivier Gevaert
| nebbiolo1 | Linux (Ubuntu 22.04.1 LTS) / x86_64 | OK | OK | OK | ||||||||||||||
| nebbiolo2 | Linux (Ubuntu 20.04.5 LTS) / x86_64 | OK | OK | OK | |||||||||||||||
| Package 21/31 | Hostname | OS / Arch | INSTALL | BUILD | CHECK | BUILD BIN | |||||||||||||
| miRLAB 1.29.0 (landing page) Thuc Duy Le
| nebbiolo1 | Linux (Ubuntu 22.04.1 LTS) / x86_64 | OK | OK | OK | ||||||||||||||
| nebbiolo2 | Linux (Ubuntu 20.04.5 LTS) / x86_64 | OK | OK | OK | |||||||||||||||
| Package 22/31 | Hostname | OS / Arch | INSTALL | BUILD | CHECK | BUILD BIN | |||||||||||||
| MSnbase 2.25.2 (landing page) Laurent Gatto
| nebbiolo1 | Linux (Ubuntu 22.04.1 LTS) / x86_64 | OK | OK | ERROR | ||||||||||||||
| nebbiolo2 | Linux (Ubuntu 20.04.5 LTS) / x86_64 | OK | OK | OK | |||||||||||||||
| Package 23/31 | Hostname | OS / Arch | INSTALL | BUILD | CHECK | BUILD BIN | |||||||||||||
| netboost 2.7.7 (landing page) Pascal Schlosser
| nebbiolo1 | Linux (Ubuntu 22.04.1 LTS) / x86_64 | OK | OK | OK | ||||||||||||||
| nebbiolo2 | Linux (Ubuntu 20.04.5 LTS) / x86_64 | OK | OK | OK | |||||||||||||||
| Package 24/31 | Hostname | OS / Arch | INSTALL | BUILD | CHECK | BUILD BIN | |||||||||||||
| Pigengene 1.25.16 (landing page) Habil Zare
| nebbiolo1 | Linux (Ubuntu 22.04.1 LTS) / x86_64 | OK | OK | OK | ||||||||||||||
| nebbiolo2 | Linux (Ubuntu 20.04.5 LTS) / x86_64 | OK | OK | OK | |||||||||||||||
| Package 25/31 | Hostname | OS / Arch | INSTALL | BUILD | CHECK | BUILD BIN | |||||||||||||
| pmp 1.11.0 (landing page) Gavin Rhys Lloyd
| nebbiolo1 | Linux (Ubuntu 22.04.1 LTS) / x86_64 | OK | OK | OK | ||||||||||||||
| nebbiolo2 | Linux (Ubuntu 20.04.5 LTS) / x86_64 | OK | OK | OK | |||||||||||||||
| Package 26/31 | Hostname | OS / Arch | INSTALL | BUILD | CHECK | BUILD BIN | |||||||||||||
| POMA 1.9.0 (landing page) Pol Castellano-Escuder
| nebbiolo1 | Linux (Ubuntu 22.04.1 LTS) / x86_64 | OK | OK | OK | ||||||||||||||
| nebbiolo2 | Linux (Ubuntu 20.04.5 LTS) / x86_64 | OK | OK | OK | |||||||||||||||
| Package 27/31 | Hostname | OS / Arch | INSTALL | BUILD | CHECK | BUILD BIN | |||||||||||||
| REMP 1.23.0 (landing page) Yinan Zheng
| nebbiolo1 | Linux (Ubuntu 22.04.1 LTS) / x86_64 | OK | OK | OK | ||||||||||||||
| nebbiolo2 | Linux (Ubuntu 20.04.5 LTS) / x86_64 | OK | OK | OK | |||||||||||||||
| Package 28/31 | Hostname | OS / Arch | INSTALL | BUILD | CHECK | BUILD BIN | |||||||||||||
| RNAAgeCalc 1.11.0 (landing page) Xu Ren
| nebbiolo1 | Linux (Ubuntu 22.04.1 LTS) / x86_64 | OK | OK | OK | ||||||||||||||
| nebbiolo2 | Linux (Ubuntu 20.04.5 LTS) / x86_64 | OK | OK | OK | |||||||||||||||
| Package 29/31 | Hostname | OS / Arch | INSTALL | BUILD | CHECK | BUILD BIN | |||||||||||||
| Rnits 1.33.2 (landing page) Dipen P. Sangurdekar
| nebbiolo1 | Linux (Ubuntu 22.04.1 LTS) / x86_64 | OK | OK | WARNINGS | ||||||||||||||
| nebbiolo2 | Linux (Ubuntu 20.04.5 LTS) / x86_64 | OK | OK | WARNINGS | |||||||||||||||
| Package 30/31 | Hostname | OS / Arch | INSTALL | BUILD | CHECK | BUILD BIN | |||||||||||||
| statTarget 1.29.4 (landing page) Hemi Luan
| nebbiolo1 | Linux (Ubuntu 22.04.1 LTS) / x86_64 | OK | OK | OK | ||||||||||||||
| nebbiolo2 | Linux (Ubuntu 20.04.5 LTS) / x86_64 | OK | OK | OK | |||||||||||||||
| Package 31/31 | Hostname | OS / Arch | INSTALL | BUILD | CHECK | BUILD BIN | |||||||||||||
| TIN 1.31.0 (landing page) Bjarne Johannessen
| nebbiolo1 | Linux (Ubuntu 22.04.1 LTS) / x86_64 | OK | OK | OK | ||||||||||||||
| nebbiolo2 | Linux (Ubuntu 20.04.5 LTS) / x86_64 | OK | OK | OK | |||||||||||||||