| Back to Multiple platform build/check report for BioC 3.17 | 
  | 
This page was generated on 2023-04-12 10:55:24 -0400 (Wed, 12 Apr 2023).
| Hostname | OS | Arch (*) | R version | Installed pkgs | 
|---|---|---|---|---|
| nebbiolo1 | Linux (Ubuntu 22.04.1 LTS) | x86_64 | 4.3.0 alpha (2023-04-03 r84154) | 4547 | 
| nebbiolo2 | Linux (Ubuntu 20.04.5 LTS) | x86_64 | R Under development (unstable) (2023-02-14 r83833) -- "Unsuffered Consequences" | 4333 | 
| Click on any hostname to see more info about the system (e.g. compilers) (*) as reported by 'uname -p', except on Windows and Mac OS X | ||||
| 
To the developers/maintainers of the doppelgangR package: - Allow up to 24 hours (and sometimes 48 hours) for your latest push to git@git.bioconductor.org:packages/doppelgangR.git to reflect on this report. See Troubleshooting Build Report for more information. - Use the following Renviron settings to reproduce errors and warnings. Note: If "R CMD check" recently failed on the Linux builder over a missing dependency, add the missing dependency to "Suggests" in your DESCRIPTION file. See the Renviron.bioc for details.  | 
| Package 577/2207 | Hostname | OS / Arch | INSTALL | BUILD | CHECK | BUILD BIN | ||||||||
| doppelgangR 1.27.0  (landing page) Levi Waldron 
  | nebbiolo1 | Linux (Ubuntu 22.04.1 LTS) / x86_64 | OK | OK | ERROR | |||||||||
| nebbiolo2 | Linux (Ubuntu 20.04.5 LTS) / x86_64 | OK | OK | OK | ||||||||||
| Package: doppelgangR | 
| Version: 1.27.0 | 
| Command: /home/biocbuild/bbs-3.17-bioc/R/bin/R CMD check --install=check:doppelgangR.install-out.txt --library=/home/biocbuild/bbs-3.17-bioc/R/site-library --timings doppelgangR_1.27.0.tar.gz | 
| StartedAt: 2023-04-11 19:59:29 -0400 (Tue, 11 Apr 2023) | 
| EndedAt: 2023-04-11 20:04:35 -0400 (Tue, 11 Apr 2023) | 
| EllapsedTime: 305.2 seconds | 
| RetCode: 1 | 
| Status: ERROR | 
| CheckDir: doppelgangR.Rcheck | 
| Warnings: NA | 
##############################################################################
##############################################################################
###
### Running command:
###
###   /home/biocbuild/bbs-3.17-bioc/R/bin/R CMD check --install=check:doppelgangR.install-out.txt --library=/home/biocbuild/bbs-3.17-bioc/R/site-library --timings doppelgangR_1.27.0.tar.gz
###
##############################################################################
##############################################################################
* using log directory ‘/home/biocbuild/bbs-3.17-bioc/meat/doppelgangR.Rcheck’
* using R version 4.3.0 alpha (2023-04-03 r84154)
* using platform: x86_64-pc-linux-gnu (64-bit)
* R was compiled by
    gcc (Ubuntu 11.3.0-1ubuntu1~22.04) 11.3.0
    GNU Fortran (Ubuntu 11.3.0-1ubuntu1~22.04) 11.3.0
* running under: Ubuntu 22.04.2 LTS
* using session charset: UTF-8
* checking for file ‘doppelgangR/DESCRIPTION’ ... OK
* this is package ‘doppelgangR’ version ‘1.27.0’
* package encoding: UTF-8
* checking package namespace information ... OK
* checking package dependencies ... OK
* checking if this is a source package ... OK
* checking if there is a namespace ... OK
* checking for hidden files and directories ... OK
* checking for portable file names ... OK
* checking for sufficient/correct file permissions ... OK
* checking whether package ‘doppelgangR’ can be installed ... OK
* checking installed package size ... OK
* checking package directory ... OK
* checking ‘build’ directory ... OK
* checking DESCRIPTION meta-information ... OK
* checking top-level files ... OK
* checking for left-over files ... OK
* checking index information ... OK
* checking package subdirectories ... OK
* checking R files for non-ASCII characters ... OK
* checking R files for syntax errors ... OK
* checking whether the package can be loaded ... OK
* checking whether the package can be loaded with stated dependencies ... OK
* checking whether the package can be unloaded cleanly ... OK
* checking whether the namespace can be loaded with stated dependencies ... OK
* checking whether the namespace can be unloaded cleanly ... OK
* checking loading without being on the library search path ... OK
* checking dependencies in R code ... OK
* checking S3 generic/method consistency ... OK
* checking replacement functions ... OK
* checking foreign function calls ... OK
* checking R code for possible problems ... OK
* checking Rd files ... NOTE
checkRd: (-1) mst.mle.Rd:118: Escaped LaTeX specials: \&
* checking Rd metadata ... OK
* checking Rd cross-references ... OK
* checking for missing documentation entries ... OK
* checking for code/documentation mismatches ... OK
* checking Rd \usage sections ... OK
* checking Rd contents ... OK
* checking for unstated dependencies in examples ... OK
* checking files in ‘vignettes’ ... OK
* checking examples ... OK
Examples with CPU (user + system) or elapsed time > 5s
               user system elapsed
plot-methods 39.866  6.428  27.546
corFinder     8.687  0.465   9.155
doppelgangR   5.300  1.522   5.455
* checking for unstated dependencies in ‘tests’ ... OK
* checking tests ...
  Running ‘testthat.R’
 ERROR
Running the tests in ‘tests/testthat.R’ failed.
Last 13 lines of output:
       ▆
    1. ├─base::sort(df7a[i, 1:2]) at test_main.R:264:2
    2. └─base::sort.default(df7a[i, 1:2])
    3.   ├─x[order(x, na.last = na.last, decreasing = decreasing)]
    4.   ├─base::`[.data.frame`(x, order(x, na.last = na.last, decreasing = decreasing))
    5.   └─base::order(x, na.last = na.last, decreasing = decreasing)
    6.     └─base::lapply(z, function(x) if (is.object(x)) as.vector(xtfrm(x)) else x)
    7.       └─base (local) FUN(X[[i]], ...)
    8.         ├─base::as.vector(xtfrm(x))
    9.         ├─base::xtfrm(x)
   10.         └─base::xtfrm.data.frame(x)
  
  [ FAIL 1 | WARN 0 | SKIP 0 | PASS 85 ]
  Error: Test failures
  Execution halted
* checking for unstated dependencies in vignettes ... OK
* checking package vignettes in ‘inst/doc’ ... OK
* checking running R code from vignettes ...
  ‘doppelgangR.Rmd’ using ‘UTF-8’... OK
 NONE
* checking re-building of vignette outputs ... OK
* checking PDF version of manual ... OK
* DONE
Status: 1 ERROR, 1 NOTE
See
  ‘/home/biocbuild/bbs-3.17-bioc/meat/doppelgangR.Rcheck/00check.log’
for details.
doppelgangR.Rcheck/00install.out
############################################################################## ############################################################################## ### ### Running command: ### ### /home/biocbuild/bbs-3.17-bioc/R/bin/R CMD INSTALL doppelgangR ### ############################################################################## ############################################################################## * installing to library ‘/home/biocbuild/bbs-3.17-bioc/R/site-library’ * installing *source* package ‘doppelgangR’ ... ** using staged installation ** R ** inst ** byte-compile and prepare package for lazy loading ** help *** installing help indices ** building package indices ** installing vignettes ** testing if installed package can be loaded from temporary location ** testing if installed package can be loaded from final location ** testing if installed package keeps a record of temporary installation path * DONE (doppelgangR)
doppelgangR.Rcheck/tests/testthat.Rout.fail
R version 4.3.0 alpha (2023-04-03 r84154)
Copyright (C) 2023 The R Foundation for Statistical Computing
Platform: x86_64-pc-linux-gnu (64-bit)
R is free software and comes with ABSOLUTELY NO WARRANTY.
You are welcome to redistribute it under certain conditions.
Type 'license()' or 'licence()' for distribution details.
R is a collaborative project with many contributors.
Type 'contributors()' for more information and
'citation()' on how to cite R or R packages in publications.
Type 'demo()' for some demos, 'help()' for on-line help, or
'help.start()' for an HTML browser interface to help.
Type 'q()' to quit R.
> library(testthat)
> library(doppelgangR)
Loading required package: Biobase
Loading required package: BiocGenerics
Attaching package: 'BiocGenerics'
The following objects are masked from 'package:stats':
    IQR, mad, sd, var, xtabs
The following objects are masked from 'package:base':
    Filter, Find, Map, Position, Reduce, anyDuplicated, aperm, append,
    as.data.frame, basename, cbind, colnames, dirname, do.call,
    duplicated, eval, evalq, get, grep, grepl, intersect, is.unsorted,
    lapply, mapply, match, mget, order, paste, pmax, pmax.int, pmin,
    pmin.int, rank, rbind, rownames, sapply, setdiff, sort, table,
    tapply, union, unique, unsplit, which.max, which.min
Welcome to Bioconductor
    Vignettes contain introductory material; view with
    'browseVignettes()'. To cite Bioconductor, see
    'citation("Biobase")', and for packages 'citation("pkgname")'.
Loading required package: BiocParallel
> 
> test_check("doppelgangR")
[ FAIL 1 | WARN 0 | SKIP 0 | PASS 85 ]
══ Failed tests ════════════════════════════════════════════════════════════════
── Error ('test_main.R:264:3'): (code run outside of `test_that()`) ────────────
Error in `xtfrm.data.frame(x)`: cannot xtfrm data frames
Backtrace:
     ▆
  1. ├─base::sort(df7a[i, 1:2]) at test_main.R:264:2
  2. └─base::sort.default(df7a[i, 1:2])
  3.   ├─x[order(x, na.last = na.last, decreasing = decreasing)]
  4.   ├─base::`[.data.frame`(x, order(x, na.last = na.last, decreasing = decreasing))
  5.   └─base::order(x, na.last = na.last, decreasing = decreasing)
  6.     └─base::lapply(z, function(x) if (is.object(x)) as.vector(xtfrm(x)) else x)
  7.       └─base (local) FUN(X[[i]], ...)
  8.         ├─base::as.vector(xtfrm(x))
  9.         ├─base::xtfrm(x)
 10.         └─base::xtfrm.data.frame(x)
[ FAIL 1 | WARN 0 | SKIP 0 | PASS 85 ]
Error: Test failures
Execution halted
doppelgangR.Rcheck/doppelgangR-Ex.timings
| name | user | system | elapsed | |
| corFinder | 8.687 | 0.465 | 9.155 | |
| doppelgangR | 5.300 | 1.522 | 5.455 | |
| dst | 0.033 | 0.008 | 0.041 | |
| mst.mle | 0.142 | 0.008 | 0.150 | |
| outlierFinder | 1.658 | 0.116 | 1.774 | |
| phenoDist | 3.638 | 0.084 | 3.722 | |
| phenoFinder | 3.163 | 0.048 | 3.211 | |
| plot-methods | 39.866 | 6.428 | 27.546 | |
| smokingGunFinder | 2.629 | 0.172 | 2.801 | |
| vectorHammingDist | 0.001 | 0.000 | 0.001 | |
| vectorWeightedDist | 0.001 | 0.000 | 0.001 | |