| Back to Multiple platform build/check report for BioC 3.17 |
|
This page was generated on 2023-04-12 10:55:25 -0400 (Wed, 12 Apr 2023).
| Hostname | OS | Arch (*) | R version | Installed pkgs |
|---|---|---|---|---|
| nebbiolo1 | Linux (Ubuntu 22.04.1 LTS) | x86_64 | 4.3.0 alpha (2023-04-03 r84154) | 4547 |
| nebbiolo2 | Linux (Ubuntu 20.04.5 LTS) | x86_64 | R Under development (unstable) (2023-02-14 r83833) -- "Unsuffered Consequences" | 4333 |
| Click on any hostname to see more info about the system (e.g. compilers) (*) as reported by 'uname -p', except on Windows and Mac OS X | ||||
|
To the developers/maintainers of the genefu package: - Allow up to 24 hours (and sometimes 48 hours) for your latest push to git@git.bioconductor.org:packages/genefu.git to reflect on this report. See Troubleshooting Build Report for more information. - Use the following Renviron settings to reproduce errors and warnings. Note: If "R CMD check" recently failed on the Linux builder over a missing dependency, add the missing dependency to "Suggests" in your DESCRIPTION file. See the Renviron.bioc for details. |
| Package 770/2207 | Hostname | OS / Arch | INSTALL | BUILD | CHECK | BUILD BIN | ||||||||
| genefu 2.31.0 (landing page) Benjamin Haibe-Kains
| nebbiolo1 | Linux (Ubuntu 22.04.1 LTS) / x86_64 | OK | OK | OK | |||||||||
| nebbiolo2 | Linux (Ubuntu 20.04.5 LTS) / x86_64 | OK | OK | OK | ||||||||||
| Package: genefu |
| Version: 2.31.0 |
| Command: /home/biocbuild/bbs-3.17-bioc/R/bin/R CMD check --install=check:genefu.install-out.txt --library=/home/biocbuild/bbs-3.17-bioc/R/site-library --timings genefu_2.31.0.tar.gz |
| StartedAt: 2023-04-11 20:27:41 -0400 (Tue, 11 Apr 2023) |
| EndedAt: 2023-04-11 20:30:50 -0400 (Tue, 11 Apr 2023) |
| EllapsedTime: 189.4 seconds |
| RetCode: 0 |
| Status: OK |
| CheckDir: genefu.Rcheck |
| Warnings: 0 |
##############################################################################
##############################################################################
###
### Running command:
###
### /home/biocbuild/bbs-3.17-bioc/R/bin/R CMD check --install=check:genefu.install-out.txt --library=/home/biocbuild/bbs-3.17-bioc/R/site-library --timings genefu_2.31.0.tar.gz
###
##############################################################################
##############################################################################
* using log directory ‘/home/biocbuild/bbs-3.17-bioc/meat/genefu.Rcheck’
* using R version 4.3.0 alpha (2023-04-03 r84154)
* using platform: x86_64-pc-linux-gnu (64-bit)
* R was compiled by
gcc (Ubuntu 11.3.0-1ubuntu1~22.04) 11.3.0
GNU Fortran (Ubuntu 11.3.0-1ubuntu1~22.04) 11.3.0
* running under: Ubuntu 22.04.2 LTS
* using session charset: UTF-8
* checking for file ‘genefu/DESCRIPTION’ ... OK
* checking extension type ... Package
* this is package ‘genefu’ version ‘2.31.0’
* package encoding: UTF-8
* checking package namespace information ... OK
* checking package dependencies ... OK
* checking if this is a source package ... OK
* checking if there is a namespace ... OK
* checking for hidden files and directories ... OK
* checking for portable file names ... OK
* checking for sufficient/correct file permissions ... OK
* checking whether package ‘genefu’ can be installed ... OK
* checking installed package size ... NOTE
installed size is 5.1Mb
sub-directories of 1Mb or more:
data 4.1Mb
* checking package directory ... OK
* checking ‘build’ directory ... OK
* checking DESCRIPTION meta-information ... OK
* checking top-level files ... OK
* checking for left-over files ... OK
* checking index information ... OK
* checking package subdirectories ... OK
* checking R files for non-ASCII characters ... OK
* checking R files for syntax errors ... OK
* checking whether the package can be loaded ... OK
* checking whether the package can be loaded with stated dependencies ... OK
* checking whether the package can be unloaded cleanly ... OK
* checking whether the namespace can be loaded with stated dependencies ... OK
* checking whether the namespace can be unloaded cleanly ... OK
* checking loading without being on the library search path ... OK
* checking dependencies in R code ... NOTE
Packages in Depends field not imported from:
‘AIMS’ ‘biomaRt’ ‘iC10’
These packages need to be imported from (in the NAMESPACE file)
for when this namespace is loaded but not attached.
Unexported objects imported by ':::' calls:
‘mclust:::grid1’ ‘mclust:::grid2’
See the note in ?`:::` about the use of this operator.
* checking S3 generic/method consistency ... OK
* checking replacement functions ... OK
* checking foreign function calls ... OK
* checking R code for possible problems ... OK
* checking Rd files ... OK
* checking Rd metadata ... OK
* checking Rd cross-references ... OK
* checking for missing documentation entries ... OK
* checking for code/documentation mismatches ... OK
* checking Rd \usage sections ... OK
* checking Rd contents ... OK
* checking for unstated dependencies in examples ... OK
* checking contents of ‘data’ directory ... OK
* checking data for non-ASCII characters ... OK
* checking data for ASCII and uncompressed saves ... OK
* checking files in ‘vignettes’ ... OK
* checking examples ... OK
* checking for unstated dependencies in vignettes ... OK
* checking package vignettes in ‘inst/doc’ ... OK
* checking running R code from vignettes ...
‘genefu.Rmd’ using ‘UTF-8’... OK
NONE
* checking re-building of vignette outputs ... OK
* checking PDF version of manual ... OK
* DONE
Status: 2 NOTEs
See
‘/home/biocbuild/bbs-3.17-bioc/meat/genefu.Rcheck/00check.log’
for details.
genefu.Rcheck/00install.out
############################################################################## ############################################################################## ### ### Running command: ### ### /home/biocbuild/bbs-3.17-bioc/R/bin/R CMD INSTALL genefu ### ############################################################################## ############################################################################## * installing to library ‘/home/biocbuild/bbs-3.17-bioc/R/site-library’ * installing *source* package ‘genefu’ ... ** using staged installation ** R ** data ** inst ** byte-compile and prepare package for lazy loading ** help *** installing help indices ** building package indices ** installing vignettes ** testing if installed package can be loaded from temporary location ** testing if installed package can be loaded from final location ** testing if installed package keeps a record of temporary installation path * DONE (genefu)
genefu.Rcheck/genefu-Ex.timings
| name | user | system | elapsed | |
| bimod | 0.181 | 0.004 | 0.184 | |
| boxplotplus2 | 0.008 | 0.000 | 0.008 | |
| claudinLow | 0.584 | 0.020 | 0.603 | |
| compareProtoCor | 1.296 | 0.036 | 1.332 | |
| compute.pairw.cor.meta | 1.419 | 0.003 | 1.422 | |
| compute.proto.cor.meta | 1.194 | 0.005 | 1.198 | |
| cordiff.dep | 0.103 | 0.008 | 0.112 | |
| endoPredict | 0.107 | 0.007 | 0.114 | |
| fuzzy.ttest | 0.109 | 0.001 | 0.109 | |
| gene70 | 0.249 | 0.008 | 0.257 | |
| gene76 | 0.125 | 0.000 | 0.126 | |
| geneid.map | 0.114 | 0.003 | 0.118 | |
| genius | 0.195 | 0.012 | 0.206 | |
| ggi | 0.110 | 0.005 | 0.114 | |
| ihc4 | 0.088 | 0.020 | 0.107 | |
| intrinsic.cluster | 0.350 | 0.007 | 0.345 | |
| intrinsic.cluster.predict | 0.159 | 0.005 | 0.163 | |
| map.datasets | 1.251 | 0.072 | 1.323 | |
| molecular.subtyping | 1.823 | 0.080 | 1.907 | |
| npi | 0.108 | 0.000 | 0.108 | |
| oncotypedx | 0.116 | 0.004 | 0.120 | |
| ovcAngiogenic | 0.145 | 0.004 | 0.148 | |
| ovcCrijns | 0.116 | 0.004 | 0.120 | |
| ovcTCGA | 0.243 | 0.009 | 0.253 | |
| ovcYoshihara | 0.118 | 0.010 | 0.127 | |
| pik3cags | 0.134 | 0.000 | 0.133 | |
| power.cor | 0.001 | 0.000 | 0.001 | |
| ps.cluster | 0.328 | 0.024 | 0.339 | |
| read.m.file | 0.019 | 0.000 | 0.020 | |
| rename.duplicate | 0.000 | 0.002 | 0.002 | |
| rescale | 0.238 | 0.002 | 0.239 | |
| rorS | 0.171 | 0.000 | 0.172 | |
| setcolclass.df | 0.000 | 0.001 | 0.002 | |
| sig.score | 0.139 | 0.006 | 0.144 | |
| spearmanCI | 0.001 | 0.000 | 0.001 | |
| st.gallen | 0.103 | 0.007 | 0.109 | |
| stab.fs | 0.081 | 0.001 | 0.081 | |
| stab.fs.ranking | 0.587 | 0.019 | 0.607 | |
| strescR | 0.000 | 0.000 | 0.001 | |
| subtype.cluster | 0.678 | 0.024 | 0.703 | |
| subtype.cluster.predict | 0.256 | 0.024 | 0.281 | |
| tamr13 | 0.136 | 0.000 | 0.136 | |
| tbrm | 0.000 | 0.000 | 0.001 | |
| weighted.meanvar | 0 | 0 | 0 | |
| write.m.file | 0.003 | 0.000 | 0.004 | |