| Back to Multiple platform build/check report for BioC 3.17: simplified long | 
 | 
This page was generated on 2023-10-16 11:34:29 -0400 (Mon, 16 Oct 2023).
| Hostname | OS | Arch (*) | R version | Installed pkgs | 
|---|---|---|---|---|
| nebbiolo1 | Linux (Ubuntu 22.04.2 LTS) | x86_64 | 4.3.1 (2023-06-16) -- "Beagle Scouts" | 4626 | 
| palomino3 | Windows Server 2022 Datacenter | x64 | 4.3.1 (2023-06-16 ucrt) -- "Beagle Scouts" | 4379 | 
| merida1 | macOS 12.6.4 Monterey | x86_64 | 4.3.1 (2023-06-16) -- "Beagle Scouts" | 4395 | 
| Click on any hostname to see more info about the system (e.g. compilers) (*) as reported by 'uname -p', except on Windows and Mac OS X | ||||
| To the developers/maintainers of the edgeR package: - Allow up to 24 hours (and sometimes 48 hours) for your latest push to git@git.bioconductor.org:packages/edgeR.git to reflect on this report. See Troubleshooting Build Report for more information. - Use the following Renviron settings to reproduce errors and warnings. - If 'R CMD check' started to fail recently on the Linux builder(s) over a missing dependency, add the missing dependency to 'Suggests:' in your DESCRIPTION file. See Renviron.bioc for more information. | 
| Package 615/2230 | Hostname | OS / Arch | INSTALL | BUILD | CHECK | BUILD BIN | ||||||||
| edgeR 3.42.4  (landing page) Yunshun Chen 
 | nebbiolo1 | Linux (Ubuntu 22.04.2 LTS) / x86_64 | OK | OK | OK |  | ||||||||
| palomino3 | Windows Server 2022 Datacenter / x64 | OK | OK | OK | OK |  | ||||||||
| merida1 | macOS 12.6.4 Monterey / x86_64 | OK | OK | OK | OK |  | ||||||||
| kjohnson2 | macOS 12.6.1 Monterey / arm64 | see weekly results here | ||||||||||||
| QUICK STATS | OS / Arch | INSTALL | BUILD | CHECK | BUILD BIN | |||||||||||||||||
| nebbiolo1 | Linux (Ubuntu 22.04.2 LTS) / x86_64 | 
 | 
 | 
 | ||||||||||||||||||
| palomino3 | Windows Server 2022 Datacenter / x64 | 
 | 
 | 
 | 
 | |||||||||||||||||
| merida1 | macOS 12.6.4 Monterey / x86_64 | 
 | 
 | 
 | 
 | |||||||||||||||||
| Package 1/113 | Hostname | OS / Arch | INSTALL | BUILD | CHECK | BUILD BIN | ||||||||||||||||
| affycoretools 1.72.0  (landing page) James W. MacDonald 
 | nebbiolo1 | Linux (Ubuntu 22.04.2 LTS) / x86_64 | OK | OK | OK |  | ||||||||||||||||
| palomino3 | Windows Server 2022 Datacenter / x64 | OK | OK | OK | OK |  | ||||||||||||||||
| merida1 | macOS 12.6.4 Monterey / x86_64 | OK | OK | OK | OK |  | ||||||||||||||||
| kjohnson2 | macOS 12.6.1 Monterey / arm64 | see weekly results here | ||||||||||||||||||||
| Package 2/113 | Hostname | OS / Arch | INSTALL | BUILD | CHECK | BUILD BIN | ||||||||||||||||
| anota2seq 1.22.0  (landing page) Christian Oertlin 
 | nebbiolo1 | Linux (Ubuntu 22.04.2 LTS) / x86_64 | OK | OK | WARNINGS |  | ||||||||||||||||
| palomino3 | Windows Server 2022 Datacenter / x64 | OK | OK | OK | OK |  | ||||||||||||||||
| merida1 | macOS 12.6.4 Monterey / x86_64 | OK | OK | OK | OK |  | ||||||||||||||||
| kjohnson2 | macOS 12.6.1 Monterey / arm64 | see weekly results here | ||||||||||||||||||||
| Package 3/113 | Hostname | OS / Arch | INSTALL | BUILD | CHECK | BUILD BIN | ||||||||||||||||
| Angela Goncalves 
 | nebbiolo1 | Linux (Ubuntu 22.04.2 LTS) / x86_64 | ERROR | ERROR | skipped | |||||||||||||||||
| palomino3 | Windows Server 2022 Datacenter / x64 | ... NOT SUPPORTED ... | ||||||||||||||||||||
| merida1 | macOS 12.6.4 Monterey / x86_64 | ERROR | ERROR | skipped | skipped | |||||||||||||||||
| kjohnson2 | macOS 12.6.1 Monterey / arm64 | see weekly results here | ||||||||||||||||||||
| Package 4/113 | Hostname | OS / Arch | INSTALL | BUILD | CHECK | BUILD BIN | ||||||||||||||||
| ASpli 2.10.0  (landing page) Estefania Mancini 
 | nebbiolo1 | Linux (Ubuntu 22.04.2 LTS) / x86_64 | OK | OK | ERROR | |||||||||||||||||
| palomino3 | Windows Server 2022 Datacenter / x64 | OK | OK | WARNINGS | OK |  | ||||||||||||||||
| merida1 | macOS 12.6.4 Monterey / x86_64 | OK | OK | WARNINGS | OK |  | ||||||||||||||||
| kjohnson2 | macOS 12.6.1 Monterey / arm64 | see weekly results here | ||||||||||||||||||||
| Package 5/113 | Hostname | OS / Arch | INSTALL | BUILD | CHECK | BUILD BIN | ||||||||||||||||
| ATACseqQC 1.24.0  (landing page) Jianhong Ou 
 | nebbiolo1 | Linux (Ubuntu 22.04.2 LTS) / x86_64 | OK | OK | OK |  | ||||||||||||||||
| palomino3 | Windows Server 2022 Datacenter / x64 | OK | OK | OK | OK |  | ||||||||||||||||
| merida1 | macOS 12.6.4 Monterey / x86_64 | OK | OK | OK | OK |  | ||||||||||||||||
| kjohnson2 | macOS 12.6.1 Monterey / arm64 | see weekly results here | ||||||||||||||||||||
| Package 6/113 | Hostname | OS / Arch | INSTALL | BUILD | CHECK | BUILD BIN | ||||||||||||||||
| autonomics 1.8.0  (landing page) Aditya Bhagwat 
 | nebbiolo1 | Linux (Ubuntu 22.04.2 LTS) / x86_64 | OK | OK | WARNINGS |  | ||||||||||||||||
| palomino3 | Windows Server 2022 Datacenter / x64 | OK | OK | WARNINGS | OK |  | ||||||||||||||||
| merida1 | macOS 12.6.4 Monterey / x86_64 | OK | OK | WARNINGS | OK |  | ||||||||||||||||
| kjohnson2 | macOS 12.6.1 Monterey / arm64 | see weekly results here | ||||||||||||||||||||
| Package 7/113 | Hostname | OS / Arch | INSTALL | BUILD | CHECK | BUILD BIN | ||||||||||||||||
| AWFisher 1.14.0  (landing page) Zhiguang Huo 
 | nebbiolo1 | Linux (Ubuntu 22.04.2 LTS) / x86_64 | OK | OK | OK |  | ||||||||||||||||
| palomino3 | Windows Server 2022 Datacenter / x64 | OK | OK | OK | OK |  | ||||||||||||||||
| merida1 | macOS 12.6.4 Monterey / x86_64 | OK | OK | OK | OK |  | ||||||||||||||||
| kjohnson2 | macOS 12.6.1 Monterey / arm64 | see weekly results here | ||||||||||||||||||||
| Package 8/113 | Hostname | OS / Arch | INSTALL | BUILD | CHECK | BUILD BIN | ||||||||||||||||
| baySeq 2.34.0  (landing page) Thomas J. Hardcastle 
 | nebbiolo1 | Linux (Ubuntu 22.04.2 LTS) / x86_64 | OK | ERROR | skipped | |||||||||||||||||
| palomino3 | Windows Server 2022 Datacenter / x64 | OK | ERROR | skipped | skipped | |||||||||||||||||
| merida1 | macOS 12.6.4 Monterey / x86_64 | OK | ERROR | skipped | skipped | |||||||||||||||||
| kjohnson2 | macOS 12.6.1 Monterey / arm64 | see weekly results here | ||||||||||||||||||||
| Package 9/113 | Hostname | OS / Arch | INSTALL | BUILD | CHECK | BUILD BIN | ||||||||||||||||
| beer 1.4.0  (landing page) Athena Chen 
 | nebbiolo1 | Linux (Ubuntu 22.04.2 LTS) / x86_64 | OK | OK | OK |  | ||||||||||||||||
| palomino3 | Windows Server 2022 Datacenter / x64 | OK | OK | OK | OK |  | ||||||||||||||||
| merida1 | macOS 12.6.4 Monterey / x86_64 | OK | OK | OK | OK |  | ||||||||||||||||
| kjohnson2 | macOS 12.6.1 Monterey / arm64 | see weekly results here | ||||||||||||||||||||
| Package 10/113 | Hostname | OS / Arch | INSTALL | BUILD | CHECK | BUILD BIN | ||||||||||||||||
| benchdamic 1.6.4  (landing page) Matteo Calgaro 
 | nebbiolo1 | Linux (Ubuntu 22.04.2 LTS) / x86_64 | OK | OK | OK |  | ||||||||||||||||
| palomino3 | Windows Server 2022 Datacenter / x64 | OK | OK | OK | OK |  | ||||||||||||||||
| merida1 | macOS 12.6.4 Monterey / x86_64 | OK | TIMEOUT | skipped | skipped | |||||||||||||||||
| kjohnson2 | macOS 12.6.1 Monterey / arm64 | see weekly results here | ||||||||||||||||||||
| Package 11/113 | Hostname | OS / Arch | INSTALL | BUILD | CHECK | BUILD BIN | ||||||||||||||||
| BioQC 1.28.0  (landing page) Jitao David Zhang 
 | nebbiolo1 | Linux (Ubuntu 22.04.2 LTS) / x86_64 | OK | OK | OK |  | ||||||||||||||||
| palomino3 | Windows Server 2022 Datacenter / x64 | OK | OK | OK | OK |  | ||||||||||||||||
| merida1 | macOS 12.6.4 Monterey / x86_64 | OK | OK | OK | OK |  | ||||||||||||||||
| kjohnson2 | macOS 12.6.1 Monterey / arm64 | see weekly results here | ||||||||||||||||||||
| Package 12/113 | Hostname | OS / Arch | INSTALL | BUILD | CHECK | BUILD BIN | ||||||||||||||||
| censcyt 1.8.0  (landing page) Reto Gerber 
 | nebbiolo1 | Linux (Ubuntu 22.04.2 LTS) / x86_64 | OK | OK | OK |  | ||||||||||||||||
| palomino3 | Windows Server 2022 Datacenter / x64 | OK | OK | OK | OK |  | ||||||||||||||||
| merida1 | macOS 12.6.4 Monterey / x86_64 | OK | OK | OK | OK |  | ||||||||||||||||
| kjohnson2 | macOS 12.6.1 Monterey / arm64 | see weekly results here | ||||||||||||||||||||
| Package 13/113 | Hostname | OS / Arch | INSTALL | BUILD | CHECK | BUILD BIN | ||||||||||||||||
| ChromSCape 1.10.0  (landing page) Pacome Prompsy 
 | nebbiolo1 | Linux (Ubuntu 22.04.2 LTS) / x86_64 | OK | OK | WARNINGS |  | ||||||||||||||||
| palomino3 | Windows Server 2022 Datacenter / x64 | OK | OK | WARNINGS | OK |  | ||||||||||||||||
| merida1 | macOS 12.6.4 Monterey / x86_64 | OK | OK | WARNINGS | OK |  | ||||||||||||||||
| kjohnson2 | macOS 12.6.1 Monterey / arm64 | see weekly results here | ||||||||||||||||||||
| Package 14/113 | Hostname | OS / Arch | INSTALL | BUILD | CHECK | BUILD BIN | ||||||||||||||||
| circRNAprofiler 1.14.0  (landing page) Simona Aufiero 
 | nebbiolo1 | Linux (Ubuntu 22.04.2 LTS) / x86_64 | OK | OK | OK |  | ||||||||||||||||
| palomino3 | Windows Server 2022 Datacenter / x64 | OK | OK | OK | OK |  | ||||||||||||||||
| merida1 | macOS 12.6.4 Monterey / x86_64 | OK | OK | OK | OK |  | ||||||||||||||||
| kjohnson2 | macOS 12.6.1 Monterey / arm64 | see weekly results here | ||||||||||||||||||||
| Package 15/113 | Hostname | OS / Arch | INSTALL | BUILD | CHECK | BUILD BIN | ||||||||||||||||
| clusterExperiment 2.20.0  (landing page) Elizabeth Purdom 
 | nebbiolo1 | Linux (Ubuntu 22.04.2 LTS) / x86_64 | OK | OK | WARNINGS |  | ||||||||||||||||
| palomino3 | Windows Server 2022 Datacenter / x64 | OK | OK | WARNINGS | OK |  | ||||||||||||||||
| merida1 | macOS 12.6.4 Monterey / x86_64 | OK | OK | TIMEOUT | OK | |||||||||||||||||
| kjohnson2 | macOS 12.6.1 Monterey / arm64 | see weekly results here | ||||||||||||||||||||
| Package 16/113 | Hostname | OS / Arch | INSTALL | BUILD | CHECK | BUILD BIN | ||||||||||||||||
| CNVRanger 1.16.5  (landing page) Ludwig Geistlinger 
 | nebbiolo1 | Linux (Ubuntu 22.04.2 LTS) / x86_64 | OK | OK | OK |  | ||||||||||||||||
| palomino3 | Windows Server 2022 Datacenter / x64 | OK | OK | OK | OK |  | ||||||||||||||||
| merida1 | macOS 12.6.4 Monterey / x86_64 | OK | OK | OK | OK |  | ||||||||||||||||
| kjohnson2 | macOS 12.6.1 Monterey / arm64 | see weekly results here | ||||||||||||||||||||
| Package 17/113 | Hostname | OS / Arch | INSTALL | BUILD | CHECK | BUILD BIN | ||||||||||||||||
| compcodeR 1.36.2  (landing page) Charlotte Soneson 
 | nebbiolo1 | Linux (Ubuntu 22.04.2 LTS) / x86_64 | OK | OK | OK |  | ||||||||||||||||
| palomino3 | Windows Server 2022 Datacenter / x64 | OK | OK | OK | OK |  | ||||||||||||||||
| merida1 | macOS 12.6.4 Monterey / x86_64 | OK | OK | OK | OK |  | ||||||||||||||||
| kjohnson2 | macOS 12.6.1 Monterey / arm64 | see weekly results here | ||||||||||||||||||||
| Package 18/113 | Hostname | OS / Arch | INSTALL | BUILD | CHECK | BUILD BIN | ||||||||||||||||
| consensusDE 1.18.0  (landing page) Ashley J. Waardenberg 
 | nebbiolo1 | Linux (Ubuntu 22.04.2 LTS) / x86_64 | OK | OK | OK |  | ||||||||||||||||
| palomino3 | Windows Server 2022 Datacenter / x64 | OK | OK | OK | OK |  | ||||||||||||||||
| merida1 | macOS 12.6.4 Monterey / x86_64 | OK | OK | OK | OK |  | ||||||||||||||||
| kjohnson2 | macOS 12.6.1 Monterey / arm64 | see weekly results here | ||||||||||||||||||||
| Package 19/113 | Hostname | OS / Arch | INSTALL | BUILD | CHECK | BUILD BIN | ||||||||||||||||
| coseq 1.24.0  (landing page) Andrea Rau 
 | nebbiolo1 | Linux (Ubuntu 22.04.2 LTS) / x86_64 | OK | OK | OK |  | ||||||||||||||||
| palomino3 | Windows Server 2022 Datacenter / x64 | OK | OK | OK | OK |  | ||||||||||||||||
| merida1 | macOS 12.6.4 Monterey / x86_64 | OK | OK | OK | OK |  | ||||||||||||||||
| kjohnson2 | macOS 12.6.1 Monterey / arm64 | see weekly results here | ||||||||||||||||||||
| Package 20/113 | Hostname | OS / Arch | INSTALL | BUILD | CHECK | BUILD BIN | ||||||||||||||||
| countsimQC 1.18.0  (landing page) Charlotte Soneson 
 | nebbiolo1 | Linux (Ubuntu 22.04.2 LTS) / x86_64 | OK | OK | OK |  | ||||||||||||||||
| palomino3 | Windows Server 2022 Datacenter / x64 | OK | OK | OK | OK |  | ||||||||||||||||
| merida1 | macOS 12.6.4 Monterey / x86_64 | OK | OK | OK | OK |  | ||||||||||||||||
| kjohnson2 | macOS 12.6.1 Monterey / arm64 | see weekly results here | ||||||||||||||||||||
| Package 21/113 | Hostname | OS / Arch | INSTALL | BUILD | CHECK | BUILD BIN | ||||||||||||||||
| crossmeta 1.26.0  (landing page) Alex Pickering 
 | nebbiolo1 | Linux (Ubuntu 22.04.2 LTS) / x86_64 | OK | OK | ERROR | |||||||||||||||||
| palomino3 | Windows Server 2022 Datacenter / x64 | OK | OK | OK | OK |  | ||||||||||||||||
| merida1 | macOS 12.6.4 Monterey / x86_64 | OK | OK | OK | OK |  | ||||||||||||||||
| kjohnson2 | macOS 12.6.1 Monterey / arm64 | see weekly results here | ||||||||||||||||||||
| Package 22/113 | Hostname | OS / Arch | INSTALL | BUILD | CHECK | BUILD BIN | ||||||||||||||||
| csaw 1.34.0  (landing page) Aaron Lun 
 | nebbiolo1 | Linux (Ubuntu 22.04.2 LTS) / x86_64 | OK | OK | WARNINGS |  | ||||||||||||||||
| palomino3 | Windows Server 2022 Datacenter / x64 | OK | OK | WARNINGS | OK |  | ||||||||||||||||
| merida1 | macOS 12.6.4 Monterey / x86_64 | OK | OK | WARNINGS | OK |  | ||||||||||||||||
| kjohnson2 | macOS 12.6.1 Monterey / arm64 | see weekly results here | ||||||||||||||||||||
| Package 23/113 | Hostname | OS / Arch | INSTALL | BUILD | CHECK | BUILD BIN | ||||||||||||||||
| DaMiRseq 2.12.0  (landing page) Mattia Chiesa 
 | nebbiolo1 | Linux (Ubuntu 22.04.2 LTS) / x86_64 | OK | OK | OK |  | ||||||||||||||||
| palomino3 | Windows Server 2022 Datacenter / x64 | OK | OK | OK | OK |  | ||||||||||||||||
| merida1 | macOS 12.6.4 Monterey / x86_64 | OK | OK | OK | OK |  | ||||||||||||||||
| kjohnson2 | macOS 12.6.1 Monterey / arm64 | see weekly results here | ||||||||||||||||||||
| Package 24/113 | Hostname | OS / Arch | INSTALL | BUILD | CHECK | BUILD BIN | ||||||||||||||||
| dce 1.8.2  (landing page) Kim Philipp Jablonski 
 | nebbiolo1 | Linux (Ubuntu 22.04.2 LTS) / x86_64 | OK | OK | OK |  | ||||||||||||||||
| palomino3 | Windows Server 2022 Datacenter / x64 | OK | OK | OK | OK |  | ||||||||||||||||
| merida1 | macOS 12.6.4 Monterey / x86_64 | OK | OK | OK | OK |  | ||||||||||||||||
| kjohnson2 | macOS 12.6.1 Monterey / arm64 | see weekly results here | ||||||||||||||||||||
| Package 25/113 | Hostname | OS / Arch | INSTALL | BUILD | CHECK | BUILD BIN | ||||||||||||||||
| debrowser 1.28.3  (landing page) Alper Kucukural 
 | nebbiolo1 | Linux (Ubuntu 22.04.2 LTS) / x86_64 | OK | OK | OK |  | ||||||||||||||||
| palomino3 | Windows Server 2022 Datacenter / x64 | OK | OK | OK | OK |  | ||||||||||||||||
| merida1 | macOS 12.6.4 Monterey / x86_64 | OK | OK | OK | OK |  | ||||||||||||||||
| kjohnson2 | macOS 12.6.1 Monterey / arm64 | see weekly results here | ||||||||||||||||||||
| Package 26/113 | Hostname | OS / Arch | INSTALL | BUILD | CHECK | BUILD BIN | ||||||||||||||||
| DEFormats 1.28.0  (landing page) Andrzej OleĆ 
 | nebbiolo1 | Linux (Ubuntu 22.04.2 LTS) / x86_64 | OK | OK | OK |  | ||||||||||||||||
| palomino3 | Windows Server 2022 Datacenter / x64 | OK | OK | OK | OK |  | ||||||||||||||||
| merida1 | macOS 12.6.4 Monterey / x86_64 | OK | OK | OK | OK |  | ||||||||||||||||
| kjohnson2 | macOS 12.6.1 Monterey / arm64 | see weekly results here | ||||||||||||||||||||
| Package 27/113 | Hostname | OS / Arch | INSTALL | BUILD | CHECK | BUILD BIN | ||||||||||||||||
| DEGreport 1.36.0  (landing page) Lorena Pantano 
 | nebbiolo1 | Linux (Ubuntu 22.04.2 LTS) / x86_64 | OK | OK | WARNINGS |  | ||||||||||||||||
| palomino3 | Windows Server 2022 Datacenter / x64 | OK | OK | WARNINGS | OK |  | ||||||||||||||||
| merida1 | macOS 12.6.4 Monterey / x86_64 | OK | OK | WARNINGS | OK |  | ||||||||||||||||
| kjohnson2 | macOS 12.6.1 Monterey / arm64 | see weekly results here | ||||||||||||||||||||
| Package 28/113 | Hostname | OS / Arch | INSTALL | BUILD | CHECK | BUILD BIN | ||||||||||||||||
| DEsubs 1.26.0  (landing page) Aristidis G. Vrahatis 
 | nebbiolo1 | Linux (Ubuntu 22.04.2 LTS) / x86_64 | OK | OK | WARNINGS |  | ||||||||||||||||
| palomino3 | Windows Server 2022 Datacenter / x64 | OK | OK | WARNINGS | OK |  | ||||||||||||||||
| merida1 | macOS 12.6.4 Monterey / x86_64 | OK | OK | WARNINGS | OK |  | ||||||||||||||||
| kjohnson2 | macOS 12.6.1 Monterey / arm64 | see weekly results here | ||||||||||||||||||||
| Package 29/113 | Hostname | OS / Arch | INSTALL | BUILD | CHECK | BUILD BIN | ||||||||||||||||
| diffcyt 1.20.0  (landing page) Lukas M. Weber 
 | nebbiolo1 | Linux (Ubuntu 22.04.2 LTS) / x86_64 | OK | OK | OK |  | ||||||||||||||||
| palomino3 | Windows Server 2022 Datacenter / x64 | OK | OK | OK | OK |  | ||||||||||||||||
| merida1 | macOS 12.6.4 Monterey / x86_64 | OK | OK | OK | OK |  | ||||||||||||||||
| kjohnson2 | macOS 12.6.1 Monterey / arm64 | see weekly results here | ||||||||||||||||||||
| Package 30/113 | Hostname | OS / Arch | INSTALL | BUILD | CHECK | BUILD BIN | ||||||||||||||||
| diffHic 1.32.0  (landing page) Aaron Lun 
 | nebbiolo1 | Linux (Ubuntu 22.04.2 LTS) / x86_64 | OK | OK | WARNINGS |  | ||||||||||||||||
| palomino3 | Windows Server 2022 Datacenter / x64 | OK | OK | WARNINGS | OK |  | ||||||||||||||||
| merida1 | macOS 12.6.4 Monterey / x86_64 | OK | OK | WARNINGS | OK |  | ||||||||||||||||
| kjohnson2 | macOS 12.6.1 Monterey / arm64 | see weekly results here | ||||||||||||||||||||
| Package 31/113 | Hostname | OS / Arch | INSTALL | BUILD | CHECK | BUILD BIN | ||||||||||||||||
| diffUTR 1.8.0  (landing page) Pierre-Luc Germain 
 | nebbiolo1 | Linux (Ubuntu 22.04.2 LTS) / x86_64 | OK | OK | OK |  | ||||||||||||||||
| palomino3 | Windows Server 2022 Datacenter / x64 | OK | OK | OK | OK |  | ||||||||||||||||
| merida1 | macOS 12.6.4 Monterey / x86_64 | OK | OK | OK | OK |  | ||||||||||||||||
| kjohnson2 | macOS 12.6.1 Monterey / arm64 | see weekly results here | ||||||||||||||||||||
| Package 32/113 | Hostname | OS / Arch | INSTALL | BUILD | CHECK | BUILD BIN | ||||||||||||||||
| DMRcate 2.14.1  (landing page) Tim Peters 
 | nebbiolo1 | Linux (Ubuntu 22.04.2 LTS) / x86_64 | OK | OK | ERROR | |||||||||||||||||
| palomino3 | Windows Server 2022 Datacenter / x64 | OK | OK | TIMEOUT | OK | |||||||||||||||||
| merida1 | macOS 12.6.4 Monterey / x86_64 | OK | OK | TIMEOUT | OK | |||||||||||||||||
| kjohnson2 | macOS 12.6.1 Monterey / arm64 | see weekly results here | ||||||||||||||||||||
| Package 33/113 | Hostname | OS / Arch | INSTALL | BUILD | CHECK | BUILD BIN | ||||||||||||||||
| doseR 1.16.0  (landing page) ake.vastermark 
 | nebbiolo1 | Linux (Ubuntu 22.04.2 LTS) / x86_64 | OK | OK | OK |  | ||||||||||||||||
| palomino3 | Windows Server 2022 Datacenter / x64 | OK | OK | OK | OK |  | ||||||||||||||||
| merida1 | macOS 12.6.4 Monterey / x86_64 | OK | OK | OK | OK |  | ||||||||||||||||
| kjohnson2 | macOS 12.6.1 Monterey / arm64 | see weekly results here | ||||||||||||||||||||
| Package 34/113 | Hostname | OS / Arch | INSTALL | BUILD | CHECK | BUILD BIN | ||||||||||||||||
| DRIMSeq 1.28.0  (landing page) Malgorzata Nowicka 
 | nebbiolo1 | Linux (Ubuntu 22.04.2 LTS) / x86_64 | OK | OK | WARNINGS |  | ||||||||||||||||
| palomino3 | Windows Server 2022 Datacenter / x64 | OK | OK | WARNINGS | OK |  | ||||||||||||||||
| merida1 | macOS 12.6.4 Monterey / x86_64 | OK | OK | WARNINGS | OK |  | ||||||||||||||||
| kjohnson2 | macOS 12.6.1 Monterey / arm64 | see weekly results here | ||||||||||||||||||||
| Package 35/113 | Hostname | OS / Arch | INSTALL | BUILD | CHECK | BUILD BIN | ||||||||||||||||
| DropletUtils 1.20.0  (landing page) Jonathan Griffiths 
 | nebbiolo1 | Linux (Ubuntu 22.04.2 LTS) / x86_64 | OK | OK | WARNINGS |  | ||||||||||||||||
| palomino3 | Windows Server 2022 Datacenter / x64 | OK | OK | OK | OK |  | ||||||||||||||||
| merida1 | macOS 12.6.4 Monterey / x86_64 | OK | OK | WARNINGS | OK |  | ||||||||||||||||
| kjohnson2 | macOS 12.6.1 Monterey / arm64 | see weekly results here | ||||||||||||||||||||
| Package 36/113 | Hostname | OS / Arch | INSTALL | BUILD | CHECK | BUILD BIN | ||||||||||||||||
| easyRNASeq 2.36.0  (landing page) Nicolas Delhomme 
 | nebbiolo1 | Linux (Ubuntu 22.04.2 LTS) / x86_64 | OK | OK | OK |  | ||||||||||||||||
| palomino3 | Windows Server 2022 Datacenter / x64 | OK | OK | OK | OK |  | ||||||||||||||||
| merida1 | macOS 12.6.4 Monterey / x86_64 | OK | OK | OK | OK |  | ||||||||||||||||
| kjohnson2 | macOS 12.6.1 Monterey / arm64 | see weekly results here | ||||||||||||||||||||
| Package 37/113 | Hostname | OS / Arch | INSTALL | BUILD | CHECK | BUILD BIN | ||||||||||||||||
| eegc 1.26.0  (landing page) Xiaoyuan Zhou 
 | nebbiolo1 | Linux (Ubuntu 22.04.2 LTS) / x86_64 | OK | OK | ERROR | |||||||||||||||||
| palomino3 | Windows Server 2022 Datacenter / x64 | OK | OK | WARNINGS | OK |  | ||||||||||||||||
| merida1 | macOS 12.6.4 Monterey / x86_64 | OK | OK | ERROR | OK | |||||||||||||||||
| kjohnson2 | macOS 12.6.1 Monterey / arm64 | see weekly results here | ||||||||||||||||||||
| Package 38/113 | Hostname | OS / Arch | INSTALL | BUILD | CHECK | BUILD BIN | ||||||||||||||||
| EGSEA 1.28.0  (landing page) Monther Alhamdoosh 
 | nebbiolo1 | Linux (Ubuntu 22.04.2 LTS) / x86_64 | OK | OK | ERROR | |||||||||||||||||
| palomino3 | Windows Server 2022 Datacenter / x64 | OK | OK | WARNINGS | OK |  | ||||||||||||||||
| merida1 | macOS 12.6.4 Monterey / x86_64 | OK | OK | WARNINGS | OK |  | ||||||||||||||||
| kjohnson2 | macOS 12.6.1 Monterey / arm64 | see weekly results here | ||||||||||||||||||||
| Package 39/113 | Hostname | OS / Arch | INSTALL | BUILD | CHECK | BUILD BIN | ||||||||||||||||
| eisaR 1.12.0  (landing page) Michael Stadler 
 | nebbiolo1 | Linux (Ubuntu 22.04.2 LTS) / x86_64 | OK | OK | OK |  | ||||||||||||||||
| palomino3 | Windows Server 2022 Datacenter / x64 | OK | OK | OK | OK |  | ||||||||||||||||
| merida1 | macOS 12.6.4 Monterey / x86_64 | OK | OK | OK | OK |  | ||||||||||||||||
| kjohnson2 | macOS 12.6.1 Monterey / arm64 | see weekly results here | ||||||||||||||||||||
| Package 40/113 | Hostname | OS / Arch | INSTALL | BUILD | CHECK | BUILD BIN | ||||||||||||||||
| EnrichmentBrowser 2.30.2  (landing page) Ludwig Geistlinger 
 | nebbiolo1 | Linux (Ubuntu 22.04.2 LTS) / x86_64 | OK | OK | OK |  | ||||||||||||||||
| palomino3 | Windows Server 2022 Datacenter / x64 | OK | OK | OK | OK |  | ||||||||||||||||
| merida1 | macOS 12.6.4 Monterey / x86_64 | OK | OK | ERROR | OK | |||||||||||||||||
| kjohnson2 | macOS 12.6.1 Monterey / arm64 | see weekly results here | ||||||||||||||||||||
| Package 41/113 | Hostname | OS / Arch | INSTALL | BUILD | CHECK | BUILD BIN | ||||||||||||||||
| erccdashboard 1.34.0  (landing page) Sarah Munro 
 | nebbiolo1 | Linux (Ubuntu 22.04.2 LTS) / x86_64 | OK | OK | OK |  | ||||||||||||||||
| palomino3 | Windows Server 2022 Datacenter / x64 | OK | OK | OK | OK |  | ||||||||||||||||
| merida1 | macOS 12.6.4 Monterey / x86_64 | OK | OK | OK | OK |  | ||||||||||||||||
| kjohnson2 | macOS 12.6.1 Monterey / arm64 | see weekly results here | ||||||||||||||||||||
| Package 42/113 | Hostname | OS / Arch | INSTALL | BUILD | CHECK | BUILD BIN | ||||||||||||||||
| ERSSA 1.18.0  (landing page) Zixuan Shao 
 | nebbiolo1 | Linux (Ubuntu 22.04.2 LTS) / x86_64 | OK | OK | ERROR | |||||||||||||||||
| palomino3 | Windows Server 2022 Datacenter / x64 | OK | OK | OK | OK |  | ||||||||||||||||
| merida1 | macOS 12.6.4 Monterey / x86_64 | OK | OK | OK | OK |  | ||||||||||||||||
| kjohnson2 | macOS 12.6.1 Monterey / arm64 | see weekly results here | ||||||||||||||||||||
| Package 43/113 | Hostname | OS / Arch | INSTALL | BUILD | CHECK | BUILD BIN | ||||||||||||||||
| extraChIPs 1.4.6  (landing page) Stephen Pederson 
 | nebbiolo1 | Linux (Ubuntu 22.04.2 LTS) / x86_64 | OK | OK | OK |  | ||||||||||||||||
| palomino3 | Windows Server 2022 Datacenter / x64 | OK | OK | OK | OK |  | ||||||||||||||||
| merida1 | macOS 12.6.4 Monterey / x86_64 | OK | OK | OK | OK |  | ||||||||||||||||
| kjohnson2 | macOS 12.6.1 Monterey / arm64 | see weekly results here | ||||||||||||||||||||
| Package 44/113 | Hostname | OS / Arch | INSTALL | BUILD | CHECK | BUILD BIN | ||||||||||||||||
| GDCRNATools 1.20.1  (landing page) Ruidong Li 
 | nebbiolo1 | Linux (Ubuntu 22.04.2 LTS) / x86_64 | OK | OK | OK |  | ||||||||||||||||
| palomino3 | Windows Server 2022 Datacenter / x64 | OK | OK | OK | OK |  | ||||||||||||||||
| merida1 | macOS 12.6.4 Monterey / x86_64 | OK | OK | OK | OK |  | ||||||||||||||||
| kjohnson2 | macOS 12.6.1 Monterey / arm64 | see weekly results here | ||||||||||||||||||||
| Package 45/113 | Hostname | OS / Arch | INSTALL | BUILD | CHECK | BUILD BIN | ||||||||||||||||
| Glimma 2.10.0  (landing page) Shian Su 
 | nebbiolo1 | Linux (Ubuntu 22.04.2 LTS) / x86_64 | OK | OK | OK |  | ||||||||||||||||
| palomino3 | Windows Server 2022 Datacenter / x64 | OK | OK | OK | OK |  | ||||||||||||||||
| merida1 | macOS 12.6.4 Monterey / x86_64 | OK | OK | OK | OK |  | ||||||||||||||||
| kjohnson2 | macOS 12.6.1 Monterey / arm64 | see weekly results here | ||||||||||||||||||||
| Package 46/113 | Hostname | OS / Arch | INSTALL | BUILD | CHECK | BUILD BIN | ||||||||||||||||
| GSEABenchmarkeR 1.20.1  (landing page) Ludwig Geistlinger 
 | nebbiolo1 | Linux (Ubuntu 22.04.2 LTS) / x86_64 | OK | OK | OK |  | ||||||||||||||||
| palomino3 | Windows Server 2022 Datacenter / x64 | OK | OK | OK | OK |  | ||||||||||||||||
| merida1 | macOS 12.6.4 Monterey / x86_64 | OK | OK | OK | OK |  | ||||||||||||||||
| kjohnson2 | macOS 12.6.1 Monterey / arm64 | see weekly results here | ||||||||||||||||||||
| Package 47/113 | Hostname | OS / Arch | INSTALL | BUILD | CHECK | BUILD BIN | ||||||||||||||||
| hermes 1.4.0  (landing page) Daniel SabanĂ©s BovĂ© 
 | nebbiolo1 | Linux (Ubuntu 22.04.2 LTS) / x86_64 | OK | OK | OK |  | ||||||||||||||||
| palomino3 | Windows Server 2022 Datacenter / x64 | OK | OK | OK | OK |  | ||||||||||||||||
| merida1 | macOS 12.6.4 Monterey / x86_64 | OK | OK | OK | OK |  | ||||||||||||||||
| kjohnson2 | macOS 12.6.1 Monterey / arm64 | see weekly results here | ||||||||||||||||||||
| Package 48/113 | Hostname | OS / Arch | INSTALL | BUILD | CHECK | BUILD BIN | ||||||||||||||||
| HTSFilter 1.40.0  (landing page) Andrea Rau 
 | nebbiolo1 | Linux (Ubuntu 22.04.2 LTS) / x86_64 | OK | OK | OK |  | ||||||||||||||||
| palomino3 | Windows Server 2022 Datacenter / x64 | OK | OK | OK | OK |  | ||||||||||||||||
| merida1 | macOS 12.6.4 Monterey / x86_64 | OK | OK | OK | OK |  | ||||||||||||||||
| kjohnson2 | macOS 12.6.1 Monterey / arm64 | see weekly results here | ||||||||||||||||||||
| Package 49/113 | Hostname | OS / Arch | INSTALL | BUILD | CHECK | BUILD BIN | ||||||||||||||||
| icetea 1.18.1  (landing page) Vivek Bhardwaj 
 | nebbiolo1 | Linux (Ubuntu 22.04.2 LTS) / x86_64 | OK | OK | WARNINGS |  | ||||||||||||||||
| palomino3 | Windows Server 2022 Datacenter / x64 | OK | OK | WARNINGS | OK |  | ||||||||||||||||
| merida1 | macOS 12.6.4 Monterey / x86_64 | OK | OK | WARNINGS | OK |  | ||||||||||||||||
| kjohnson2 | macOS 12.6.1 Monterey / arm64 | see weekly results here | ||||||||||||||||||||
| Package 50/113 | Hostname | OS / Arch | INSTALL | BUILD | CHECK | BUILD BIN | ||||||||||||||||
| infercnv 1.16.0  (landing page) Christophe Georgescu 
 | nebbiolo1 | Linux (Ubuntu 22.04.2 LTS) / x86_64 | OK | OK | OK |  | ||||||||||||||||
| palomino3 | Windows Server 2022 Datacenter / x64 | OK | OK | OK | OK |  | ||||||||||||||||
| merida1 | macOS 12.6.4 Monterey / x86_64 | OK | OK | OK | OK |  | ||||||||||||||||
| kjohnson2 | macOS 12.6.1 Monterey / arm64 | see weekly results here | ||||||||||||||||||||
| Package 51/113 | Hostname | OS / Arch | INSTALL | BUILD | CHECK | BUILD BIN | ||||||||||||||||
| IntEREst 1.24.0  (landing page) Ali Oghabian 
 | nebbiolo1 | Linux (Ubuntu 22.04.2 LTS) / x86_64 | OK | OK | OK |  | ||||||||||||||||
| palomino3 | Windows Server 2022 Datacenter / x64 | OK | OK | OK | OK |  | ||||||||||||||||
| merida1 | macOS 12.6.4 Monterey / x86_64 | OK | OK | OK | OK |  | ||||||||||||||||
| kjohnson2 | macOS 12.6.1 Monterey / arm64 | see weekly results here | ||||||||||||||||||||
| Package 52/113 | Hostname | OS / Arch | INSTALL | BUILD | CHECK | BUILD BIN | ||||||||||||||||
| IsoformSwitchAnalyzeR 2.0.1  (landing page) Kristoffer Vitting-Seerup 
 | nebbiolo1 | Linux (Ubuntu 22.04.2 LTS) / x86_64 | OK | OK | OK |  | ||||||||||||||||
| palomino3 | Windows Server 2022 Datacenter / x64 | OK | OK | OK | OK |  | ||||||||||||||||
| merida1 | macOS 12.6.4 Monterey / x86_64 | OK | OK | OK | OK |  | ||||||||||||||||
| kjohnson2 | macOS 12.6.1 Monterey / arm64 | see weekly results here | ||||||||||||||||||||
| Package 53/113 | Hostname | OS / Arch | INSTALL | BUILD | CHECK | BUILD BIN | ||||||||||||||||
| KnowSeq 1.14.1  (landing page) Daniel Castillo-Secilla 
 | nebbiolo1 | Linux (Ubuntu 22.04.2 LTS) / x86_64 | OK | OK | OK |  | ||||||||||||||||
| palomino3 | Windows Server 2022 Datacenter / x64 | OK | OK | OK | OK |  | ||||||||||||||||
| merida1 | macOS 12.6.4 Monterey / x86_64 | OK | OK | OK | OK |  | ||||||||||||||||
| kjohnson2 | macOS 12.6.1 Monterey / arm64 | see weekly results here | ||||||||||||||||||||
| Package 54/113 | Hostname | OS / Arch | INSTALL | BUILD | CHECK | BUILD BIN | ||||||||||||||||
| Maaslin2 1.14.1  (landing page) Lauren McIver 
 | nebbiolo1 | Linux (Ubuntu 22.04.2 LTS) / x86_64 | OK | OK | OK |  | ||||||||||||||||
| palomino3 | Windows Server 2022 Datacenter / x64 | OK | OK | OK | OK |  | ||||||||||||||||
| merida1 | macOS 12.6.4 Monterey / x86_64 | OK | OK | OK | OK |  | ||||||||||||||||
| kjohnson2 | macOS 12.6.1 Monterey / arm64 | see weekly results here | ||||||||||||||||||||
| Package 55/113 | Hostname | OS / Arch | INSTALL | BUILD | CHECK | BUILD BIN | ||||||||||||||||
| mastR 1.0.0  (landing page) Jinjin Chen 
 | nebbiolo1 | Linux (Ubuntu 22.04.2 LTS) / x86_64 | OK | OK | OK |  | ||||||||||||||||
| palomino3 | Windows Server 2022 Datacenter / x64 | OK | OK | OK | OK |  | ||||||||||||||||
| merida1 | macOS 12.6.4 Monterey / x86_64 | OK | OK | OK | OK |  | ||||||||||||||||
| kjohnson2 | macOS 12.6.1 Monterey / arm64 | see weekly results here | ||||||||||||||||||||
| Package 56/113 | Hostname | OS / Arch | INSTALL | BUILD | CHECK | BUILD BIN | ||||||||||||||||
| MEB 1.14.0  (landing page) Jiadi Zhu 
 | nebbiolo1 | Linux (Ubuntu 22.04.2 LTS) / x86_64 | OK | OK | OK |  | ||||||||||||||||
| palomino3 | Windows Server 2022 Datacenter / x64 | OK | OK | OK | OK |  | ||||||||||||||||
| merida1 | macOS 12.6.4 Monterey / x86_64 | OK | OK | OK | OK |  | ||||||||||||||||
| kjohnson2 | macOS 12.6.1 Monterey / arm64 | see weekly results here | ||||||||||||||||||||
| Package 57/113 | Hostname | OS / Arch | INSTALL | BUILD | CHECK | BUILD BIN | ||||||||||||||||
| MEDIPS 1.52.0  (landing page) Lukas Chavez 
 | nebbiolo1 | Linux (Ubuntu 22.04.2 LTS) / x86_64 | OK | OK | OK |  | ||||||||||||||||
| palomino3 | Windows Server 2022 Datacenter / x64 | OK | OK | OK | OK |  | ||||||||||||||||
| merida1 | macOS 12.6.4 Monterey / x86_64 | OK | OK | OK | OK |  | ||||||||||||||||
| kjohnson2 | macOS 12.6.1 Monterey / arm64 | see weekly results here | ||||||||||||||||||||
| Package 58/113 | Hostname | OS / Arch | INSTALL | BUILD | CHECK | BUILD BIN | ||||||||||||||||
| metaseqR2 1.12.0  (landing page) Panagiotis Moulos 
 | nebbiolo1 | Linux (Ubuntu 22.04.2 LTS) / x86_64 | OK | OK | OK |  | ||||||||||||||||
| palomino3 | Windows Server 2022 Datacenter / x64 | OK | OK | OK | OK |  | ||||||||||||||||
| merida1 | macOS 12.6.4 Monterey / x86_64 | OK | OK | OK | OK |  | ||||||||||||||||
| kjohnson2 | macOS 12.6.1 Monterey / arm64 | see weekly results here | ||||||||||||||||||||
| Package 59/113 | Hostname | OS / Arch | INSTALL | BUILD | CHECK | BUILD BIN | ||||||||||||||||
| methylMnM 1.38.0  (landing page) Yan Zhou 
 | nebbiolo1 | Linux (Ubuntu 22.04.2 LTS) / x86_64 | OK | OK | OK |  | ||||||||||||||||
| palomino3 | Windows Server 2022 Datacenter / x64 | OK | OK | OK | OK |  | ||||||||||||||||
| merida1 | macOS 12.6.4 Monterey / x86_64 | OK | OK | OK | OK |  | ||||||||||||||||
| kjohnson2 | macOS 12.6.1 Monterey / arm64 | see weekly results here | ||||||||||||||||||||
| Package 60/113 | Hostname | OS / Arch | INSTALL | BUILD | CHECK | BUILD BIN | ||||||||||||||||
| microbiomeMarker 1.6.0  (landing page) Yang Cao 
 | nebbiolo1 | Linux (Ubuntu 22.04.2 LTS) / x86_64 | OK | OK | OK |  | ||||||||||||||||
| palomino3 | Windows Server 2022 Datacenter / x64 | OK | OK | OK | OK |  | ||||||||||||||||
| merida1 | macOS 12.6.4 Monterey / x86_64 | OK | OK | OK | OK |  | ||||||||||||||||
| kjohnson2 | macOS 12.6.1 Monterey / arm64 | see weekly results here | ||||||||||||||||||||
| Package 61/113 | Hostname | OS / Arch | INSTALL | BUILD | CHECK | BUILD BIN | ||||||||||||||||
| Juan C. Rodriguez 
 | nebbiolo1 | Linux (Ubuntu 22.04.2 LTS) / x86_64 | OK | ERROR | skipped | |||||||||||||||||
| palomino3 | Windows Server 2022 Datacenter / x64 | OK | ERROR | skipped | skipped | |||||||||||||||||
| merida1 | macOS 12.6.4 Monterey / x86_64 | OK | ERROR | skipped | skipped | |||||||||||||||||
| kjohnson2 | macOS 12.6.1 Monterey / arm64 | see weekly results here | ||||||||||||||||||||
| Package 62/113 | Hostname | OS / Arch | INSTALL | BUILD | CHECK | BUILD BIN | ||||||||||||||||
| miloR 1.8.1  (landing page) Mike Morgan 
 | nebbiolo1 | Linux (Ubuntu 22.04.2 LTS) / x86_64 | OK | OK | OK |  | ||||||||||||||||
| palomino3 | Windows Server 2022 Datacenter / x64 | OK | OK | OK | OK |  | ||||||||||||||||
| merida1 | macOS 12.6.4 Monterey / x86_64 | OK | OK | OK | OK |  | ||||||||||||||||
| kjohnson2 | macOS 12.6.1 Monterey / arm64 | see weekly results here | ||||||||||||||||||||
| Package 63/113 | Hostname | OS / Arch | INSTALL | BUILD | CHECK | BUILD BIN | ||||||||||||||||
| MLSeq 2.18.0  (landing page) Gokmen Zararsiz 
 | nebbiolo1 | Linux (Ubuntu 22.04.2 LTS) / x86_64 | OK | OK | OK |  | ||||||||||||||||
| palomino3 | Windows Server 2022 Datacenter / x64 | OK | OK | OK | OK |  | ||||||||||||||||
| merida1 | macOS 12.6.4 Monterey / x86_64 | OK | OK | OK | OK |  | ||||||||||||||||
| kjohnson2 | macOS 12.6.1 Monterey / arm64 | see weekly results here | ||||||||||||||||||||
| Package 64/113 | Hostname | OS / Arch | INSTALL | BUILD | CHECK | BUILD BIN | ||||||||||||||||
| moanin 1.8.0  (landing page) Nelle Varoquaux 
 | nebbiolo1 | Linux (Ubuntu 22.04.2 LTS) / x86_64 | OK | OK | OK |  | ||||||||||||||||
| palomino3 | Windows Server 2022 Datacenter / x64 | OK | OK | OK | OK |  | ||||||||||||||||
| merida1 | macOS 12.6.4 Monterey / x86_64 | OK | OK | OK | OK |  | ||||||||||||||||
| kjohnson2 | macOS 12.6.1 Monterey / arm64 | see weekly results here | ||||||||||||||||||||
| Package 65/113 | Hostname | OS / Arch | INSTALL | BUILD | CHECK | BUILD BIN | ||||||||||||||||
| Motif2Site 1.4.0  (landing page) Peyman Zarrineh 
 | nebbiolo1 | Linux (Ubuntu 22.04.2 LTS) / x86_64 | OK | OK | OK |  | ||||||||||||||||
| palomino3 | Windows Server 2022 Datacenter / x64 | OK | OK | OK | OK |  | ||||||||||||||||
| merida1 | macOS 12.6.4 Monterey / x86_64 | OK | OK | OK | OK |  | ||||||||||||||||
| kjohnson2 | macOS 12.6.1 Monterey / arm64 | see weekly results here | ||||||||||||||||||||
| Package 66/113 | Hostname | OS / Arch | INSTALL | BUILD | CHECK | BUILD BIN | ||||||||||||||||
| msgbsR 1.24.0  (landing page) Benjamin Mayne 
 | nebbiolo1 | Linux (Ubuntu 22.04.2 LTS) / x86_64 | OK | OK | OK |  | ||||||||||||||||
| palomino3 | Windows Server 2022 Datacenter / x64 | OK | OK | OK | OK |  | ||||||||||||||||
| merida1 | macOS 12.6.4 Monterey / x86_64 | OK | OK | OK | OK |  | ||||||||||||||||
| kjohnson2 | macOS 12.6.1 Monterey / arm64 | see weekly results here | ||||||||||||||||||||
| Package 67/113 | Hostname | OS / Arch | INSTALL | BUILD | CHECK | BUILD BIN | ||||||||||||||||
| msmsTests 1.38.0  (landing page) Josep Gregori i Font 
 | nebbiolo1 | Linux (Ubuntu 22.04.2 LTS) / x86_64 | OK | OK | WARNINGS |  | ||||||||||||||||
| palomino3 | Windows Server 2022 Datacenter / x64 | OK | OK | OK | OK |  | ||||||||||||||||
| merida1 | macOS 12.6.4 Monterey / x86_64 | OK | OK | OK | OK |  | ||||||||||||||||
| kjohnson2 | macOS 12.6.1 Monterey / arm64 | see weekly results here | ||||||||||||||||||||
| Package 68/113 | Hostname | OS / Arch | INSTALL | BUILD | CHECK | BUILD BIN | ||||||||||||||||
| multiHiCcompare 1.18.1  (landing page) Mikhail Dozmorov 
 | nebbiolo1 | Linux (Ubuntu 22.04.2 LTS) / x86_64 | OK | OK | OK |  | ||||||||||||||||
| palomino3 | Windows Server 2022 Datacenter / x64 | OK | OK | OK | OK |  | ||||||||||||||||
| merida1 | macOS 12.6.4 Monterey / x86_64 | OK | OK | OK | OK |  | ||||||||||||||||
| kjohnson2 | macOS 12.6.1 Monterey / arm64 | see weekly results here | ||||||||||||||||||||
| Package 69/113 | Hostname | OS / Arch | INSTALL | BUILD | CHECK | BUILD BIN | ||||||||||||||||
| muscat 1.14.0  (landing page) Helena L. Crowell 
 | nebbiolo1 | Linux (Ubuntu 22.04.2 LTS) / x86_64 | OK | OK | OK |  | ||||||||||||||||
| palomino3 | Windows Server 2022 Datacenter / x64 | OK | OK | OK | OK |  | ||||||||||||||||
| merida1 | macOS 12.6.4 Monterey / x86_64 | OK | OK | OK | OK |  | ||||||||||||||||
| kjohnson2 | macOS 12.6.1 Monterey / arm64 | see weekly results here | ||||||||||||||||||||
| Package 70/113 | Hostname | OS / Arch | INSTALL | BUILD | CHECK | BUILD BIN | ||||||||||||||||
| Gabriela Merino 
 | nebbiolo1 | Linux (Ubuntu 22.04.2 LTS) / x86_64 | ERROR | ERROR | skipped | |||||||||||||||||
| palomino3 | Windows Server 2022 Datacenter / x64 | ERROR | ERROR | skipped | skipped | |||||||||||||||||
| merida1 | macOS 12.6.4 Monterey / x86_64 | ERROR | ERROR | skipped | skipped | |||||||||||||||||
| kjohnson2 | macOS 12.6.1 Monterey / arm64 | see weekly results here | ||||||||||||||||||||
| Package 71/113 | Hostname | OS / Arch | INSTALL | BUILD | CHECK | BUILD BIN | ||||||||||||||||
| octad 1.2.0  (landing page) E. Chekalin 
 | nebbiolo1 | Linux (Ubuntu 22.04.2 LTS) / x86_64 | OK | OK | ERROR | |||||||||||||||||
| palomino3 | Windows Server 2022 Datacenter / x64 | OK | OK | OK | OK |  | ||||||||||||||||
| merida1 | macOS 12.6.4 Monterey / x86_64 | OK | OK | OK | OK |  | ||||||||||||||||
| kjohnson2 | macOS 12.6.1 Monterey / arm64 | see weekly results here | ||||||||||||||||||||
| Package 72/113 | Hostname | OS / Arch | INSTALL | BUILD | CHECK | BUILD BIN | ||||||||||||||||
| PathoStat 1.26.0  (landing page) Solaiappan Manimaran 
 | nebbiolo1 | Linux (Ubuntu 22.04.2 LTS) / x86_64 | OK | OK | OK |  | ||||||||||||||||
| palomino3 | Windows Server 2022 Datacenter / x64 | OK | OK | OK | OK |  | ||||||||||||||||
| merida1 | macOS 12.6.4 Monterey / x86_64 | OK | OK | OK | OK |  | ||||||||||||||||
| kjohnson2 | macOS 12.6.1 Monterey / arm64 | see weekly results here | ||||||||||||||||||||
| Package 73/113 | Hostname | OS / Arch | INSTALL | BUILD | CHECK | BUILD BIN | ||||||||||||||||
| PhIPData 1.8.0  (landing page) Athena Chen 
 | nebbiolo1 | Linux (Ubuntu 22.04.2 LTS) / x86_64 | OK | OK | OK |  | ||||||||||||||||
| palomino3 | Windows Server 2022 Datacenter / x64 | OK | OK | OK | OK |  | ||||||||||||||||
| merida1 | macOS 12.6.4 Monterey / x86_64 | OK | ERROR | skipped | skipped | |||||||||||||||||
| kjohnson2 | macOS 12.6.1 Monterey / arm64 | see weekly results here | ||||||||||||||||||||
| Package 74/113 | Hostname | OS / Arch | INSTALL | BUILD | CHECK | BUILD BIN | ||||||||||||||||
| ppcseq 1.8.1  (landing page) Stefano Mangiola 
 | nebbiolo1 | Linux (Ubuntu 22.04.2 LTS) / x86_64 | OK | OK | OK |  | ||||||||||||||||
| palomino3 | Windows Server 2022 Datacenter / x64 | OK | OK | OK | OK |  | ||||||||||||||||
| merida1 | macOS 12.6.4 Monterey / x86_64 | OK | OK | OK | OK |  | ||||||||||||||||
| kjohnson2 | macOS 12.6.1 Monterey / arm64 | see weekly results here | ||||||||||||||||||||
| Package 75/113 | Hostname | OS / Arch | INSTALL | BUILD | CHECK | BUILD BIN | ||||||||||||||||
| PROPER 1.32.0  (landing page) Hao Wu 
 | nebbiolo1 | Linux (Ubuntu 22.04.2 LTS) / x86_64 | OK | OK | WARNINGS |  | ||||||||||||||||
| palomino3 | Windows Server 2022 Datacenter / x64 | OK | OK | WARNINGS | OK |  | ||||||||||||||||
| merida1 | macOS 12.6.4 Monterey / x86_64 | OK | OK | WARNINGS | OK |  | ||||||||||||||||
| kjohnson2 | macOS 12.6.1 Monterey / arm64 | see weekly results here | ||||||||||||||||||||
| Package 76/113 | Hostname | OS / Arch | INSTALL | BUILD | CHECK | BUILD BIN | ||||||||||||||||
| psichomics 1.26.0  (landing page) Nuno Saraiva-Agostinho 
 | nebbiolo1 | Linux (Ubuntu 22.04.2 LTS) / x86_64 | OK | OK | WARNINGS |  | ||||||||||||||||
| palomino3 | Windows Server 2022 Datacenter / x64 | OK | OK | WARNINGS | OK |  | ||||||||||||||||
| merida1 | macOS 12.6.4 Monterey / x86_64 | OK | OK | WARNINGS | OK |  | ||||||||||||||||
| kjohnson2 | macOS 12.6.1 Monterey / arm64 | see weekly results here | ||||||||||||||||||||
| Package 77/113 | Hostname | OS / Arch | INSTALL | BUILD | CHECK | BUILD BIN | ||||||||||||||||
| RCM 1.16.0  (landing page) Stijn Hawinkel 
 | nebbiolo1 | Linux (Ubuntu 22.04.2 LTS) / x86_64 | OK | OK | OK |  | ||||||||||||||||
| palomino3 | Windows Server 2022 Datacenter / x64 | OK | OK | OK | OK |  | ||||||||||||||||
| merida1 | macOS 12.6.4 Monterey / x86_64 | OK | OK | OK | OK |  | ||||||||||||||||
| kjohnson2 | macOS 12.6.1 Monterey / arm64 | see weekly results here | ||||||||||||||||||||
| Package 78/113 | Hostname | OS / Arch | INSTALL | BUILD | CHECK | BUILD BIN | ||||||||||||||||
| regsplice 1.26.0  (landing page) Lukas M. Weber 
 | nebbiolo1 | Linux (Ubuntu 22.04.2 LTS) / x86_64 | OK | OK | OK |  | ||||||||||||||||
| palomino3 | Windows Server 2022 Datacenter / x64 | OK | OK | OK | OK |  | ||||||||||||||||
| merida1 | macOS 12.6.4 Monterey / x86_64 | OK | OK | OK | OK |  | ||||||||||||||||
| kjohnson2 | macOS 12.6.1 Monterey / arm64 | see weekly results here | ||||||||||||||||||||
| Package 79/113 | Hostname | OS / Arch | INSTALL | BUILD | CHECK | BUILD BIN | ||||||||||||||||
| Repitools 1.46.0  (landing page) Mark Robinson 
 | nebbiolo1 | Linux (Ubuntu 22.04.2 LTS) / x86_64 | OK | OK | WARNINGS |  | ||||||||||||||||
| palomino3 | Windows Server 2022 Datacenter / x64 | OK | OK | WARNINGS | OK |  | ||||||||||||||||
| merida1 | macOS 12.6.4 Monterey / x86_64 | OK | OK | WARNINGS | OK |  | ||||||||||||||||
| kjohnson2 | macOS 12.6.1 Monterey / arm64 | see weekly results here | ||||||||||||||||||||
| Package 80/113 | Hostname | OS / Arch | INSTALL | BUILD | CHECK | BUILD BIN | ||||||||||||||||
| ReportingTools 2.40.0  (landing page) Jason A. Hackney 
 | nebbiolo1 | Linux (Ubuntu 22.04.2 LTS) / x86_64 | OK | ERROR | skipped | |||||||||||||||||
| palomino3 | Windows Server 2022 Datacenter / x64 | OK | ERROR | skipped | skipped | |||||||||||||||||
| merida1 | macOS 12.6.4 Monterey / x86_64 | OK | ERROR | skipped | skipped | |||||||||||||||||
| kjohnson2 | macOS 12.6.1 Monterey / arm64 | see weekly results here | ||||||||||||||||||||
| Package 81/113 | Hostname | OS / Arch | INSTALL | BUILD | CHECK | BUILD BIN | ||||||||||||||||
| RnaSeqSampleSize 2.10.0  (landing page) Shilin Zhao Developer 
 | nebbiolo1 | Linux (Ubuntu 22.04.2 LTS) / x86_64 | OK | OK | OK |  | ||||||||||||||||
| palomino3 | Windows Server 2022 Datacenter / x64 | OK | OK | OK | OK |  | ||||||||||||||||
| merida1 | macOS 12.6.4 Monterey / x86_64 | OK | OK | OK | OK |  | ||||||||||||||||
| kjohnson2 | macOS 12.6.1 Monterey / arm64 | see weekly results here | ||||||||||||||||||||
| Package 82/113 | Hostname | OS / Arch | INSTALL | BUILD | CHECK | BUILD BIN | ||||||||||||||||
| ROSeq 1.12.0  (landing page) Krishan Gupta 
 | nebbiolo1 | Linux (Ubuntu 22.04.2 LTS) / x86_64 | OK | OK | WARNINGS |  | ||||||||||||||||
| palomino3 | Windows Server 2022 Datacenter / x64 | OK | OK | WARNINGS | OK |  | ||||||||||||||||
| merida1 | macOS 12.6.4 Monterey / x86_64 | OK | OK | WARNINGS | OK |  | ||||||||||||||||
| kjohnson2 | macOS 12.6.1 Monterey / arm64 | see weekly results here | ||||||||||||||||||||
| Package 83/113 | Hostname | OS / Arch | INSTALL | BUILD | CHECK | BUILD BIN | ||||||||||||||||
| RUVSeq 1.34.0  (landing page) Davide Risso 
 | nebbiolo1 | Linux (Ubuntu 22.04.2 LTS) / x86_64 | OK | OK | OK |  | ||||||||||||||||
| palomino3 | Windows Server 2022 Datacenter / x64 | OK | OK | OK | OK |  | ||||||||||||||||
| merida1 | macOS 12.6.4 Monterey / x86_64 | OK | OK | OK | OK |  | ||||||||||||||||
| kjohnson2 | macOS 12.6.1 Monterey / arm64 | see weekly results here | ||||||||||||||||||||
| Package 84/113 | Hostname | OS / Arch | INSTALL | BUILD | CHECK | BUILD BIN | ||||||||||||||||
| scCB2 1.10.0  (landing page) Zijian Ni 
 | nebbiolo1 | Linux (Ubuntu 22.04.2 LTS) / x86_64 | OK | OK | OK |  | ||||||||||||||||
| palomino3 | Windows Server 2022 Datacenter / x64 | OK | OK | OK | OK |  | ||||||||||||||||
| merida1 | macOS 12.6.4 Monterey / x86_64 | OK | OK | OK | OK |  | ||||||||||||||||
| kjohnson2 | macOS 12.6.1 Monterey / arm64 | see weekly results here | ||||||||||||||||||||
| Package 85/113 | Hostname | OS / Arch | INSTALL | BUILD | CHECK | BUILD BIN | ||||||||||||||||
| scde 2.28.2  (landing page) Evan Biederstedt 
 | nebbiolo1 | Linux (Ubuntu 22.04.2 LTS) / x86_64 | OK | OK | WARNINGS |  | ||||||||||||||||
| palomino3 | Windows Server 2022 Datacenter / x64 | OK | OK | WARNINGS | OK |  | ||||||||||||||||
| merida1 | macOS 12.6.4 Monterey / x86_64 | OK | OK | WARNINGS | OK |  | ||||||||||||||||
| kjohnson2 | macOS 12.6.1 Monterey / arm64 | see weekly results here | ||||||||||||||||||||
| Package 86/113 | Hostname | OS / Arch | INSTALL | BUILD | CHECK | BUILD BIN | ||||||||||||||||
| scone 1.24.0  (landing page) Davide Risso 
 | nebbiolo1 | Linux (Ubuntu 22.04.2 LTS) / x86_64 | OK | OK | OK |  | ||||||||||||||||
| palomino3 | Windows Server 2022 Datacenter / x64 | OK | OK | OK | OK |  | ||||||||||||||||
| merida1 | macOS 12.6.4 Monterey / x86_64 | OK | OK | OK | OK |  | ||||||||||||||||
| kjohnson2 | macOS 12.6.1 Monterey / arm64 | see weekly results here | ||||||||||||||||||||
| Package 87/113 | Hostname | OS / Arch | INSTALL | BUILD | CHECK | BUILD BIN | ||||||||||||||||
| scran 1.28.2  (landing page) Aaron Lun 
 | nebbiolo1 | Linux (Ubuntu 22.04.2 LTS) / x86_64 | OK | OK | WARNINGS |  | ||||||||||||||||
| palomino3 | Windows Server 2022 Datacenter / x64 | OK | OK | WARNINGS | OK |  | ||||||||||||||||
| merida1 | macOS 12.6.4 Monterey / x86_64 | OK | OK | WARNINGS | OK |  | ||||||||||||||||
| kjohnson2 | macOS 12.6.1 Monterey / arm64 | see weekly results here | ||||||||||||||||||||
| Package 88/113 | Hostname | OS / Arch | INSTALL | BUILD | CHECK | BUILD BIN | ||||||||||||||||
| ScreenR 1.2.0  (landing page) Emanuel Michele Soda 
 | nebbiolo1 | Linux (Ubuntu 22.04.2 LTS) / x86_64 | OK | OK | OK |  | ||||||||||||||||
| palomino3 | Windows Server 2022 Datacenter / x64 | OK | OK | OK | OK |  | ||||||||||||||||
| merida1 | macOS 12.6.4 Monterey / x86_64 | OK | OK | OK | OK |  | ||||||||||||||||
| kjohnson2 | macOS 12.6.1 Monterey / arm64 | see weekly results here | ||||||||||||||||||||
| Package 89/113 | Hostname | OS / Arch | INSTALL | BUILD | CHECK | BUILD BIN | ||||||||||||||||
| SEtools 1.14.0  (landing page) Pierre-Luc Germain 
 | nebbiolo1 | Linux (Ubuntu 22.04.2 LTS) / x86_64 | OK | OK | OK |  | ||||||||||||||||
| palomino3 | Windows Server 2022 Datacenter / x64 | OK | OK | OK | OK |  | ||||||||||||||||
| merida1 | macOS 12.6.4 Monterey / x86_64 | OK | OK | OK | OK |  | ||||||||||||||||
| kjohnson2 | macOS 12.6.1 Monterey / arm64 | see weekly results here | ||||||||||||||||||||
| Package 90/113 | Hostname | OS / Arch | INSTALL | BUILD | CHECK | BUILD BIN | ||||||||||||||||
| SIMD 1.18.0  (landing page) Jiadi Zhu 
 | nebbiolo1 | Linux (Ubuntu 22.04.2 LTS) / x86_64 | OK | OK | OK |  | ||||||||||||||||
| palomino3 | Windows Server 2022 Datacenter / x64 | OK | OK | OK | OK |  | ||||||||||||||||
| merida1 | macOS 12.6.4 Monterey / x86_64 | OK | OK | OK | OK |  | ||||||||||||||||
| kjohnson2 | macOS 12.6.1 Monterey / arm64 | see weekly results here | ||||||||||||||||||||
| Package 91/113 | Hostname | OS / Arch | INSTALL | BUILD | CHECK | BUILD BIN | ||||||||||||||||
| SingleCellSignalR 1.12.0  (landing page) Jacques Colinge Developer 
 | nebbiolo1 | Linux (Ubuntu 22.04.2 LTS) / x86_64 | OK | OK | WARNINGS |  | ||||||||||||||||
| palomino3 | Windows Server 2022 Datacenter / x64 | OK | OK | WARNINGS | OK |  | ||||||||||||||||
| merida1 | macOS 12.6.4 Monterey / x86_64 | OK | OK | WARNINGS | OK |  | ||||||||||||||||
| kjohnson2 | macOS 12.6.1 Monterey / arm64 | see weekly results here | ||||||||||||||||||||
| Package 92/113 | Hostname | OS / Arch | INSTALL | BUILD | CHECK | BUILD BIN | ||||||||||||||||
| singscore 1.20.0  (landing page) Malvika Kharbanda 
 | nebbiolo1 | Linux (Ubuntu 22.04.2 LTS) / x86_64 | OK | OK | OK |  | ||||||||||||||||
| palomino3 | Windows Server 2022 Datacenter / x64 | OK | OK | OK | OK |  | ||||||||||||||||
| merida1 | macOS 12.6.4 Monterey / x86_64 | OK | OK | OK | OK |  | ||||||||||||||||
| kjohnson2 | macOS 12.6.1 Monterey / arm64 | see weekly results here | ||||||||||||||||||||
| Package 93/113 | Hostname | OS / Arch | INSTALL | BUILD | CHECK | BUILD BIN | ||||||||||||||||
| sparrow 1.6.0  (landing page) Steve Lianoglou 
 | nebbiolo1 | Linux (Ubuntu 22.04.2 LTS) / x86_64 | OK | OK | OK |  | ||||||||||||||||
| palomino3 | Windows Server 2022 Datacenter / x64 | OK | OK | OK | OK |  | ||||||||||||||||
| merida1 | macOS 12.6.4 Monterey / x86_64 | OK | OK | OK | OK |  | ||||||||||||||||
| kjohnson2 | macOS 12.6.1 Monterey / arm64 | see weekly results here | ||||||||||||||||||||
| Package 94/113 | Hostname | OS / Arch | INSTALL | BUILD | CHECK | BUILD BIN | ||||||||||||||||
| spatialHeatmap 2.6.2  (landing page) Jianhai Zhang 
 | nebbiolo1 | Linux (Ubuntu 22.04.2 LTS) / x86_64 | OK | OK | OK |  | ||||||||||||||||
| palomino3 | Windows Server 2022 Datacenter / x64 | OK | OK | OK | OK |  | ||||||||||||||||
| merida1 | macOS 12.6.4 Monterey / x86_64 | OK | OK | OK | OK |  | ||||||||||||||||
| kjohnson2 | macOS 12.6.1 Monterey / arm64 | see weekly results here | ||||||||||||||||||||
| Package 95/113 | Hostname | OS / Arch | INSTALL | BUILD | CHECK | BUILD BIN | ||||||||||||||||
| speckle 1.0.0  (landing page) Belinda Phipson 
 | nebbiolo1 | Linux (Ubuntu 22.04.2 LTS) / x86_64 | OK | OK | OK |  | ||||||||||||||||
| palomino3 | Windows Server 2022 Datacenter / x64 | OK | OK | OK | OK |  | ||||||||||||||||
| merida1 | macOS 12.6.4 Monterey / x86_64 | OK | OK | OK | OK |  | ||||||||||||||||
| kjohnson2 | macOS 12.6.1 Monterey / arm64 | see weekly results here | ||||||||||||||||||||
| Package 96/113 | Hostname | OS / Arch | INSTALL | BUILD | CHECK | BUILD BIN | ||||||||||||||||
| splatter 1.24.0  (landing page) Luke Zappia 
 | nebbiolo1 | Linux (Ubuntu 22.04.2 LTS) / x86_64 | OK | OK | OK |  | ||||||||||||||||
| palomino3 | Windows Server 2022 Datacenter / x64 | OK | OK | OK | OK |  | ||||||||||||||||
| merida1 | macOS 12.6.4 Monterey / x86_64 | OK | OK | OK | OK |  | ||||||||||||||||
| kjohnson2 | macOS 12.6.1 Monterey / arm64 | see weekly results here | ||||||||||||||||||||
| Package 97/113 | Hostname | OS / Arch | INSTALL | BUILD | CHECK | BUILD BIN | ||||||||||||||||
| SPsimSeq 1.10.0  (landing page) Joris Meys 
 | nebbiolo1 | Linux (Ubuntu 22.04.2 LTS) / x86_64 | OK | OK | OK |  | ||||||||||||||||
| palomino3 | Windows Server 2022 Datacenter / x64 | OK | OK | OK | OK |  | ||||||||||||||||
| merida1 | macOS 12.6.4 Monterey / x86_64 | OK | OK | OK | OK |  | ||||||||||||||||
| kjohnson2 | macOS 12.6.1 Monterey / arm64 | see weekly results here | ||||||||||||||||||||
| Package 98/113 | Hostname | OS / Arch | INSTALL | BUILD | CHECK | BUILD BIN | ||||||||||||||||
| srnadiff 1.20.0  (landing page) Zytnicki Matthias 
 | nebbiolo1 | Linux (Ubuntu 22.04.2 LTS) / x86_64 | OK | OK | WARNINGS |  | ||||||||||||||||
| palomino3 | Windows Server 2022 Datacenter / x64 | OK | OK | WARNINGS | OK |  | ||||||||||||||||
| merida1 | macOS 12.6.4 Monterey / x86_64 | OK | OK | WARNINGS | OK |  | ||||||||||||||||
| kjohnson2 | macOS 12.6.1 Monterey / arm64 | see weekly results here | ||||||||||||||||||||
| Package 99/113 | Hostname | OS / Arch | INSTALL | BUILD | CHECK | BUILD BIN | ||||||||||||||||
| sSNAPPY 1.4.6  (landing page) Wenjun Liu 
 | nebbiolo1 | Linux (Ubuntu 22.04.2 LTS) / x86_64 | OK | OK | OK |  | ||||||||||||||||
| palomino3 | Windows Server 2022 Datacenter / x64 | OK | OK | OK | OK |  | ||||||||||||||||
| merida1 | macOS 12.6.4 Monterey / x86_64 | OK | ERROR | skipped | skipped | |||||||||||||||||
| kjohnson2 | macOS 12.6.1 Monterey / arm64 | see weekly results here | ||||||||||||||||||||
| Package 100/113 | Hostname | OS / Arch | INSTALL | BUILD | CHECK | BUILD BIN | ||||||||||||||||
| standR 1.4.2  (landing page) Ning Liu 
 | nebbiolo1 | Linux (Ubuntu 22.04.2 LTS) / x86_64 | OK | OK | OK |  | ||||||||||||||||
| palomino3 | Windows Server 2022 Datacenter / x64 | OK | OK | OK | OK |  | ||||||||||||||||
| merida1 | macOS 12.6.4 Monterey / x86_64 | OK | ERROR | skipped | skipped | |||||||||||||||||
| kjohnson2 | macOS 12.6.1 Monterey / arm64 | see weekly results here | ||||||||||||||||||||
| Package 101/113 | Hostname | OS / Arch | INSTALL | BUILD | CHECK | BUILD BIN | ||||||||||||||||
| STATegRa 1.36.0  (landing page) David Gomez-Cabrero 
 | nebbiolo1 | Linux (Ubuntu 22.04.2 LTS) / x86_64 | OK | OK | OK |  | ||||||||||||||||
| palomino3 | Windows Server 2022 Datacenter / x64 | OK | OK | OK | OK |  | ||||||||||||||||
| merida1 | macOS 12.6.4 Monterey / x86_64 | OK | OK | OK | OK |  | ||||||||||||||||
| kjohnson2 | macOS 12.6.1 Monterey / arm64 | see weekly results here | ||||||||||||||||||||
| Package 102/113 | Hostname | OS / Arch | INSTALL | BUILD | CHECK | BUILD BIN | ||||||||||||||||
| sva 3.48.0  (landing page) Jeffrey T. Leek 
 | nebbiolo1 | Linux (Ubuntu 22.04.2 LTS) / x86_64 | OK | OK | OK |  | ||||||||||||||||
| palomino3 | Windows Server 2022 Datacenter / x64 | OK | OK | OK | OK |  | ||||||||||||||||
| merida1 | macOS 12.6.4 Monterey / x86_64 | OK | OK | OK | OK |  | ||||||||||||||||
| kjohnson2 | macOS 12.6.1 Monterey / arm64 | see weekly results here | ||||||||||||||||||||
| Package 103/113 | Hostname | OS / Arch | INSTALL | BUILD | CHECK | BUILD BIN | ||||||||||||||||
| TBSignatureProfiler 1.12.0  (landing page) Aubrey R. Odom-Mabey 
 | nebbiolo1 | Linux (Ubuntu 22.04.2 LTS) / x86_64 | OK | OK | OK |  | ||||||||||||||||
| palomino3 | Windows Server 2022 Datacenter / x64 | OK | OK | OK | OK |  | ||||||||||||||||
| merida1 | macOS 12.6.4 Monterey / x86_64 | OK | OK | OK | OK |  | ||||||||||||||||
| kjohnson2 | macOS 12.6.1 Monterey / arm64 | see weekly results here | ||||||||||||||||||||
| Package 104/113 | Hostname | OS / Arch | INSTALL | BUILD | CHECK | BUILD BIN | ||||||||||||||||
| TCC 1.40.0  (landing page) Jianqiang Sun 
 | nebbiolo1 | Linux (Ubuntu 22.04.2 LTS) / x86_64 | OK | OK | OK |  | ||||||||||||||||
| palomino3 | Windows Server 2022 Datacenter / x64 | OK | OK | OK | OK |  | ||||||||||||||||
| merida1 | macOS 12.6.4 Monterey / x86_64 | OK | OK | OK | OK |  | ||||||||||||||||
| kjohnson2 | macOS 12.6.1 Monterey / arm64 | see weekly results here | ||||||||||||||||||||
| Package 105/113 | Hostname | OS / Arch | INSTALL | BUILD | CHECK | BUILD BIN | ||||||||||||||||
| TCseq 1.24.3  (landing page) Mengjun Wu 
 | nebbiolo1 | Linux (Ubuntu 22.04.2 LTS) / x86_64 | OK | OK | WARNINGS |  | ||||||||||||||||
| palomino3 | Windows Server 2022 Datacenter / x64 | OK | OK | WARNINGS | OK |  | ||||||||||||||||
| merida1 | macOS 12.6.4 Monterey / x86_64 | OK | OK | WARNINGS | OK |  | ||||||||||||||||
| kjohnson2 | macOS 12.6.1 Monterey / arm64 | see weekly results here | ||||||||||||||||||||
| Package 106/113 | Hostname | OS / Arch | INSTALL | BUILD | CHECK | BUILD BIN | ||||||||||||||||
| tradeSeq 1.14.0  (landing page) Hector Roux de Bezieux 
 | nebbiolo1 | Linux (Ubuntu 22.04.2 LTS) / x86_64 | OK | OK | OK |  | ||||||||||||||||
| palomino3 | Windows Server 2022 Datacenter / x64 | OK | OK | OK | OK |  | ||||||||||||||||
| merida1 | macOS 12.6.4 Monterey / x86_64 | OK | OK | OK | OK |  | ||||||||||||||||
| kjohnson2 | macOS 12.6.1 Monterey / arm64 | see weekly results here | ||||||||||||||||||||
| Package 107/113 | Hostname | OS / Arch | INSTALL | BUILD | CHECK | BUILD BIN | ||||||||||||||||
| tRanslatome 1.38.0  (landing page) Toma Tebaldi 
 | nebbiolo1 | Linux (Ubuntu 22.04.2 LTS) / x86_64 | OK | OK | OK |  | ||||||||||||||||
| palomino3 | Windows Server 2022 Datacenter / x64 | OK | OK | OK | OK |  | ||||||||||||||||
| merida1 | macOS 12.6.4 Monterey / x86_64 | OK | OK | OK | OK |  | ||||||||||||||||
| kjohnson2 | macOS 12.6.1 Monterey / arm64 | see weekly results here | ||||||||||||||||||||
| Package 108/113 | Hostname | OS / Arch | INSTALL | BUILD | CHECK | BUILD BIN | ||||||||||||||||
| treekoR 1.8.0  (landing page) Adam Chan 
 | nebbiolo1 | Linux (Ubuntu 22.04.2 LTS) / x86_64 | OK | OK | OK |  | ||||||||||||||||
| palomino3 | Windows Server 2022 Datacenter / x64 | OK | OK | OK | OK |  | ||||||||||||||||
| merida1 | macOS 12.6.4 Monterey / x86_64 | OK | OK | OK | OK |  | ||||||||||||||||
| kjohnson2 | macOS 12.6.1 Monterey / arm64 | see weekly results here | ||||||||||||||||||||
| Package 109/113 | Hostname | OS / Arch | INSTALL | BUILD | CHECK | BUILD BIN | ||||||||||||||||
| tweeDEseq 1.46.2  (landing page) Dolors Pelegri-Siso 
 | nebbiolo1 | Linux (Ubuntu 22.04.2 LTS) / x86_64 | OK | OK | WARNINGS |  | ||||||||||||||||
| palomino3 | Windows Server 2022 Datacenter / x64 | OK | OK | WARNINGS | OK |  | ||||||||||||||||
| merida1 | macOS 12.6.4 Monterey / x86_64 | OK | OK | WARNINGS | OK |  | ||||||||||||||||
| kjohnson2 | macOS 12.6.1 Monterey / arm64 | see weekly results here | ||||||||||||||||||||
| Package 110/113 | Hostname | OS / Arch | INSTALL | BUILD | CHECK | BUILD BIN | ||||||||||||||||
| vidger 1.20.0  (landing page) Brandon Monier 
 | nebbiolo1 | Linux (Ubuntu 22.04.2 LTS) / x86_64 | OK | OK | OK |  | ||||||||||||||||
| palomino3 | Windows Server 2022 Datacenter / x64 | OK | OK | OK | OK |  | ||||||||||||||||
| merida1 | macOS 12.6.4 Monterey / x86_64 | OK | OK | OK | OK |  | ||||||||||||||||
| kjohnson2 | macOS 12.6.1 Monterey / arm64 | see weekly results here | ||||||||||||||||||||
| Package 111/113 | Hostname | OS / Arch | INSTALL | BUILD | CHECK | BUILD BIN | ||||||||||||||||
| xcore 1.4.0  (landing page) Maciej MigdaĆ 
 | nebbiolo1 | Linux (Ubuntu 22.04.2 LTS) / x86_64 | OK | OK | OK |  | ||||||||||||||||
| palomino3 | Windows Server 2022 Datacenter / x64 | OK | OK | OK | OK |  | ||||||||||||||||
| merida1 | macOS 12.6.4 Monterey / x86_64 | OK | OK | OK | OK |  | ||||||||||||||||
| kjohnson2 | macOS 12.6.1 Monterey / arm64 | see weekly results here | ||||||||||||||||||||
| Package 112/113 | Hostname | OS / Arch | INSTALL | BUILD | CHECK | BUILD BIN | ||||||||||||||||
| yarn 1.26.0  (landing page) Joseph N Paulson 
 | nebbiolo1 | Linux (Ubuntu 22.04.2 LTS) / x86_64 | OK | OK | OK |  | ||||||||||||||||
| palomino3 | Windows Server 2022 Datacenter / x64 | OK | OK | OK | OK |  | ||||||||||||||||
| merida1 | macOS 12.6.4 Monterey / x86_64 | OK | OK | OK | OK |  | ||||||||||||||||
| kjohnson2 | macOS 12.6.1 Monterey / arm64 | see weekly results here | ||||||||||||||||||||
| Package 113/113 | Hostname | OS / Arch | INSTALL | BUILD | CHECK | BUILD BIN | ||||||||||||||||
| zinbwave 1.22.0  (landing page) Davide Risso 
 | nebbiolo1 | Linux (Ubuntu 22.04.2 LTS) / x86_64 | OK | OK | OK |  | ||||||||||||||||
| palomino3 | Windows Server 2022 Datacenter / x64 | OK | OK | OK | OK |  | ||||||||||||||||
| merida1 | macOS 12.6.4 Monterey / x86_64 | OK | OK | OK | OK |  | ||||||||||||||||
| kjohnson2 | macOS 12.6.1 Monterey / arm64 | see weekly results here | ||||||||||||||||||||