| Back to Multiple platform build/check report for BioC 3.17: simplified long |
|
This page was generated on 2023-10-16 11:35:20 -0400 (Mon, 16 Oct 2023).
| Hostname | OS | Arch (*) | R version | Installed pkgs |
|---|---|---|---|---|
| nebbiolo1 | Linux (Ubuntu 22.04.2 LTS) | x86_64 | 4.3.1 (2023-06-16) -- "Beagle Scouts" | 4626 |
| palomino3 | Windows Server 2022 Datacenter | x64 | 4.3.1 (2023-06-16 ucrt) -- "Beagle Scouts" | 4379 |
| merida1 | macOS 12.6.4 Monterey | x86_64 | 4.3.1 (2023-06-16) -- "Beagle Scouts" | 4395 |
| Click on any hostname to see more info about the system (e.g. compilers) (*) as reported by 'uname -p', except on Windows and Mac OS X | ||||
| Package 631/2230 | Hostname | OS / Arch | INSTALL | BUILD | CHECK | BUILD BIN | ||||||||
| EnrichmentBrowser 2.30.2 (landing page) Ludwig Geistlinger
| nebbiolo1 | Linux (Ubuntu 22.04.2 LTS) / x86_64 | OK | OK | OK | |||||||||
| palomino3 | Windows Server 2022 Datacenter / x64 | OK | OK | OK | OK | |||||||||
| merida1 | macOS 12.6.4 Monterey / x86_64 | OK | OK | ERROR | OK | |||||||||
| kjohnson2 | macOS 12.6.1 Monterey / arm64 | see weekly results here | ||||||||||||
|
To the developers/maintainers of the EnrichmentBrowser package: - Allow up to 24 hours (and sometimes 48 hours) for your latest push to git@git.bioconductor.org:packages/EnrichmentBrowser.git to reflect on this report. See Troubleshooting Build Report for more information. - Use the following Renviron settings to reproduce errors and warnings. - If 'R CMD check' started to fail recently on the Linux builder(s) over a missing dependency, add the missing dependency to 'Suggests:' in your DESCRIPTION file. See Renviron.bioc for more information. |
| Package: EnrichmentBrowser |
| Version: 2.30.2 |
| Command: /home/biocbuild/bbs-3.17-bioc/R/bin/R CMD check --install=check:EnrichmentBrowser.install-out.txt --library=/home/biocbuild/bbs-3.17-bioc/R/site-library --timings EnrichmentBrowser_2.30.2.tar.gz |
| StartedAt: 2023-10-15 21:04:09 -0400 (Sun, 15 Oct 2023) |
| EndedAt: 2023-10-15 21:17:16 -0400 (Sun, 15 Oct 2023) |
| EllapsedTime: 786.9 seconds |
| RetCode: 0 |
| Status: OK |
| CheckDir: EnrichmentBrowser.Rcheck |
| Warnings: 0 |
##############################################################################
##############################################################################
###
### Running command:
###
### /home/biocbuild/bbs-3.17-bioc/R/bin/R CMD check --install=check:EnrichmentBrowser.install-out.txt --library=/home/biocbuild/bbs-3.17-bioc/R/site-library --timings EnrichmentBrowser_2.30.2.tar.gz
###
##############################################################################
##############################################################################
* using log directory ‘/home/biocbuild/bbs-3.17-bioc/meat/EnrichmentBrowser.Rcheck’
* using R version 4.3.1 (2023-06-16)
* using platform: x86_64-pc-linux-gnu (64-bit)
* R was compiled by
gcc (Ubuntu 11.3.0-1ubuntu1~22.04.1) 11.3.0
GNU Fortran (Ubuntu 11.3.0-1ubuntu1~22.04.1) 11.3.0
* running under: Ubuntu 22.04.3 LTS
* using session charset: UTF-8
* checking for file ‘EnrichmentBrowser/DESCRIPTION’ ... OK
* this is package ‘EnrichmentBrowser’ version ‘2.30.2’
* package encoding: UTF-8
* checking package namespace information ... OK
* checking package dependencies ... OK
* checking if this is a source package ... OK
* checking if there is a namespace ... OK
* checking for hidden files and directories ... OK
* checking for portable file names ... OK
* checking for sufficient/correct file permissions ... OK
* checking whether package ‘EnrichmentBrowser’ can be installed ... OK
* checking installed package size ... OK
* checking package directory ... OK
* checking ‘build’ directory ... OK
* checking DESCRIPTION meta-information ... OK
* checking top-level files ... OK
* checking for left-over files ... OK
* checking index information ... OK
* checking package subdirectories ... OK
* checking R files for non-ASCII characters ... OK
* checking R files for syntax errors ... OK
* checking whether the package can be loaded ... OK
* checking whether the package can be loaded with stated dependencies ... OK
* checking whether the package can be unloaded cleanly ... OK
* checking whether the namespace can be loaded with stated dependencies ... OK
* checking whether the namespace can be unloaded cleanly ... OK
* checking loading without being on the library search path ... OK
* checking startup messages can be suppressed ... OK
* checking dependencies in R code ... NOTE
Unexported object imported by a ':::' call: 'pathview:::parseKGML2Graph2'
See the note in ?`:::` about the use of this operator.
* checking S3 generic/method consistency ... OK
* checking replacement functions ... OK
* checking foreign function calls ... OK
* checking R code for possible problems ... NOTE
.getGOFromBiomart: no visible binding for global variable
‘go_linkage_type’
Undefined global functions or variables:
go_linkage_type
* checking Rd files ... OK
* checking Rd metadata ... OK
* checking Rd cross-references ... OK
* checking for missing documentation entries ... OK
* checking for code/documentation mismatches ... OK
* checking Rd \usage sections ... OK
* checking Rd contents ... OK
* checking for unstated dependencies in examples ... OK
* checking files in ‘vignettes’ ... OK
* checking examples ... OK
Examples with CPU (user + system) or elapsed time > 5s
user system elapsed
ebrowser 414.209 27.193 448.398
getGenesets 12.840 1.208 19.970
eaBrowse 8.649 0.682 9.336
* checking for unstated dependencies in vignettes ... OK
* checking package vignettes in ‘inst/doc’ ... OK
* checking running R code from vignettes ...
‘EnrichmentBrowser.Rnw’ using ‘UTF-8’... OK
NONE
* checking re-building of vignette outputs ... OK
* checking PDF version of manual ... OK
* DONE
Status: 2 NOTEs
See
‘/home/biocbuild/bbs-3.17-bioc/meat/EnrichmentBrowser.Rcheck/00check.log’
for details.
EnrichmentBrowser.Rcheck/00install.out
############################################################################## ############################################################################## ### ### Running command: ### ### /home/biocbuild/bbs-3.17-bioc/R/bin/R CMD INSTALL EnrichmentBrowser ### ############################################################################## ############################################################################## * installing to library ‘/home/biocbuild/bbs-3.17-bioc/R/site-library’ * installing *source* package ‘EnrichmentBrowser’ ... ** using staged installation ** R ** inst ** byte-compile and prepare package for lazy loading ** help *** installing help indices ** building package indices ** installing vignettes ** testing if installed package can be loaded from temporary location ** testing if installed package can be loaded from final location ** testing if installed package keeps a record of temporary installation path * DONE (EnrichmentBrowser)
EnrichmentBrowser.Rcheck/EnrichmentBrowser-Ex.timings
| name | user | system | elapsed | |
| combResults | 0.456 | 0.040 | 0.496 | |
| compileGRN | 4.257 | 0.195 | 4.452 | |
| configEBrowser | 0.001 | 0.000 | 0.001 | |
| deAna | 3.092 | 0.116 | 3.208 | |
| downloadPathways | 0 | 0 | 0 | |
| eaBrowse | 8.649 | 0.682 | 9.336 | |
| ebrowser | 414.209 | 27.193 | 448.398 | |
| getGenesets | 12.840 | 1.208 | 19.970 | |
| ggeaGraph | 1.836 | 0.180 | 2.016 | |
| idMap | 1.081 | 0.072 | 1.153 | |
| import | 3.651 | 0.116 | 3.767 | |
| isAvailable | 0 | 0 | 0 | |
| makeExampleData | 0.026 | 0.000 | 0.026 | |
| nbea | 0.363 | 0.036 | 0.399 | |
| normalize | 0.396 | 0.020 | 0.416 | |
| plots | 1.340 | 0.084 | 1.424 | |
| probe2gene | 0.062 | 0.000 | 0.062 | |
| readSE | 0.029 | 0.004 | 0.033 | |
| sbea | 0.170 | 0.004 | 0.174 | |