| Back to Multiple platform build/check report for BioC 3.17: simplified long |
|
This page was generated on 2023-10-16 11:35:27 -0400 (Mon, 16 Oct 2023).
| Hostname | OS | Arch (*) | R version | Installed pkgs |
|---|---|---|---|---|
| nebbiolo1 | Linux (Ubuntu 22.04.2 LTS) | x86_64 | 4.3.1 (2023-06-16) -- "Beagle Scouts" | 4626 |
| palomino3 | Windows Server 2022 Datacenter | x64 | 4.3.1 (2023-06-16 ucrt) -- "Beagle Scouts" | 4379 |
| merida1 | macOS 12.6.4 Monterey | x86_64 | 4.3.1 (2023-06-16) -- "Beagle Scouts" | 4395 |
| Click on any hostname to see more info about the system (e.g. compilers) (*) as reported by 'uname -p', except on Windows and Mac OS X | ||||
| Package 1031/2230 | Hostname | OS / Arch | INSTALL | BUILD | CHECK | BUILD BIN | ||||||||
| IsoformSwitchAnalyzeR 2.0.1 (landing page) Kristoffer Vitting-Seerup
| nebbiolo1 | Linux (Ubuntu 22.04.2 LTS) / x86_64 | OK | OK | OK | |||||||||
| palomino3 | Windows Server 2022 Datacenter / x64 | OK | OK | OK | OK | |||||||||
| merida1 | macOS 12.6.4 Monterey / x86_64 | OK | OK | OK | OK | |||||||||
| kjohnson2 | macOS 12.6.1 Monterey / arm64 | see weekly results here | ||||||||||||
|
To the developers/maintainers of the IsoformSwitchAnalyzeR package: - Allow up to 24 hours (and sometimes 48 hours) for your latest push to git@git.bioconductor.org:packages/IsoformSwitchAnalyzeR.git to reflect on this report. See Troubleshooting Build Report for more information. - Use the following Renviron settings to reproduce errors and warnings. - If 'R CMD check' started to fail recently on the Linux builder(s) over a missing dependency, add the missing dependency to 'Suggests:' in your DESCRIPTION file. See Renviron.bioc for more information. |
| Package: IsoformSwitchAnalyzeR |
| Version: 2.0.1 |
| Command: /home/biocbuild/bbs-3.17-bioc/R/bin/R CMD check --install=check:IsoformSwitchAnalyzeR.install-out.txt --library=/home/biocbuild/bbs-3.17-bioc/R/site-library --timings IsoformSwitchAnalyzeR_2.0.1.tar.gz |
| StartedAt: 2023-10-15 22:16:47 -0400 (Sun, 15 Oct 2023) |
| EndedAt: 2023-10-15 22:29:01 -0400 (Sun, 15 Oct 2023) |
| EllapsedTime: 734.3 seconds |
| RetCode: 0 |
| Status: OK |
| CheckDir: IsoformSwitchAnalyzeR.Rcheck |
| Warnings: 0 |
##############################################################################
##############################################################################
###
### Running command:
###
### /home/biocbuild/bbs-3.17-bioc/R/bin/R CMD check --install=check:IsoformSwitchAnalyzeR.install-out.txt --library=/home/biocbuild/bbs-3.17-bioc/R/site-library --timings IsoformSwitchAnalyzeR_2.0.1.tar.gz
###
##############################################################################
##############################################################################
* using log directory ‘/home/biocbuild/bbs-3.17-bioc/meat/IsoformSwitchAnalyzeR.Rcheck’
* using R version 4.3.1 (2023-06-16)
* using platform: x86_64-pc-linux-gnu (64-bit)
* R was compiled by
gcc (Ubuntu 11.3.0-1ubuntu1~22.04.1) 11.3.0
GNU Fortran (Ubuntu 11.3.0-1ubuntu1~22.04.1) 11.3.0
* running under: Ubuntu 22.04.3 LTS
* using session charset: UTF-8
* checking for file ‘IsoformSwitchAnalyzeR/DESCRIPTION’ ... OK
* checking extension type ... Package
* this is package ‘IsoformSwitchAnalyzeR’ version ‘2.0.1’
* checking package namespace information ... OK
* checking package dependencies ... NOTE
Depends: includes the non-default packages:
'limma', 'DEXSeq', 'satuRn', 'sva', 'ggplot2', 'pfamAnalyzeR'
Adding so many packages to the search path is excessive and importing
selectively is preferable.
* checking if this is a source package ... OK
* checking if there is a namespace ... OK
* checking for hidden files and directories ... OK
* checking for portable file names ... OK
* checking for sufficient/correct file permissions ... OK
* checking whether package ‘IsoformSwitchAnalyzeR’ can be installed ... OK
* used C compiler: ‘gcc (Ubuntu 11.4.0-1ubuntu1~22.04) 11.4.0’
* checking installed package size ... NOTE
installed size is 5.5Mb
sub-directories of 1Mb or more:
R 1.0Mb
data 1.1Mb
extdata 3.0Mb
* checking package directory ... OK
* checking ‘build’ directory ... OK
* checking DESCRIPTION meta-information ... OK
* checking top-level files ... OK
* checking for left-over files ... OK
* checking index information ... OK
* checking package subdirectories ... OK
* checking R files for non-ASCII characters ... OK
* checking R files for syntax errors ... OK
* checking whether the package can be loaded ... OK
* checking whether the package can be loaded with stated dependencies ... OK
* checking whether the package can be unloaded cleanly ... OK
* checking whether the namespace can be loaded with stated dependencies ... OK
* checking whether the namespace can be unloaded cleanly ... OK
* checking loading without being on the library search path ... OK
* checking dependencies in R code ... OK
* checking S3 generic/method consistency ... OK
* checking replacement functions ... OK
* checking foreign function calls ... OK
* checking R code for possible problems ... NOTE
analyzeIUPred2A: no visible global function definition for 'queryHits'
analyzeIUPred2A: no visible global function definition for
'subjectHits'
analyzeNovelIsoformORF: no visible binding for global variable
'orf_origin'
analyzeNovelIsoformORF: no visible binding for global variable
'orfStartGenomic'
analyzeNovelIsoformORF: no visible binding for global variable
'isoform_id'
analyzeNovelIsoformORF: no visible binding for global variable
'orfEndGenomic'
compareAnnotationOfTwoIsoforms: no visible global function definition
for 'queryHits'
compareAnnotationOfTwoIsoforms: no visible global function definition
for 'subjectHits'
expressionAnalysisPlot: no visible binding for global variable
'Condition'
expressionAnalysisPlot: no visible binding for global variable
'gene_expression'
expressionAnalysisPlot: no visible binding for global variable 'CI_up'
expressionAnalysisPlot: no visible binding for global variable
'CI_down'
expressionAnalysisPlot: no visible binding for global variable
'sigLevelPos'
expressionAnalysisPlot: no visible binding for global variable
'sigLevel'
expressionAnalysisPlot: no visible binding for global variable 'CI_hi'
expressionAnalysisPlot: no visible binding for global variable 'CI_low'
expressionAnalysisPlot: no visible binding for global variable 'ymax'
expressionAnalysisPlot: no visible binding for global variable
'sigEval'
expressionAnalysisPlot: no visible binding for global variable 'idNr'
expressionAnalysisPlot: no visible binding for global variable 'IF'
extractConsequenceEnrichment: no visible binding for global variable
'feature2'
extractConsequenceEnrichment: no visible binding for global variable
'propOfRelevantEvents'
extractConsequenceEnrichment: no visible binding for global variable
'Significant'
extractConsequenceEnrichment: no visible binding for global variable
'propCiLo'
extractConsequenceEnrichment: no visible binding for global variable
'propCiHi'
extractConsequenceEnrichment: no visible binding for global variable
'nTot'
extractConsequenceEnrichmentComparison: no visible binding for global
variable 'Comparison'
extractConsequenceEnrichmentComparison: no visible binding for global
variable 'propOfRelevantEvents'
extractConsequenceEnrichmentComparison: no visible binding for global
variable 'Significant'
extractConsequenceEnrichmentComparison: no visible binding for global
variable 'nTot'
extractConsequenceEnrichmentComparison: no visible binding for global
variable 'propCiHi'
extractConsequenceEnrichmentComparison: no visible binding for global
variable 'propCiLo'
extractConsequenceGenomeWide: no visible binding for global variable
'isoform_feature'
extractConsequenceGenomeWide: no visible binding for global variable
'value'
extractConsequenceGenomeWide: no visible binding for global variable
'variable'
extractConsequenceGenomeWide: no visible binding for global variable
'ymax'
extractConsequenceGenomeWide: no visible binding for global variable
'significance'
extractConsequenceGenomeWide: no visible binding for global variable
'idNr'
extractConsequenceSummary: no visible binding for global variable
'switchConsequence'
extractConsequenceSummary: no visible binding for global variable
'geneFraction'
extractConsequenceSummary: no visible binding for global variable
'nrGenesWithConsequences'
extractConsequenceSummary: no visible binding for global variable
'isoFraction'
extractConsequenceSummary: no visible binding for global variable
'nrIsoWithConsequences'
extractSplicingEnrichment: no visible binding for global variable
'AStype'
extractSplicingEnrichment: no visible binding for global variable
'propUp'
extractSplicingEnrichment: no visible binding for global variable
'Significant'
extractSplicingEnrichment: no visible binding for global variable
'nTot'
extractSplicingEnrichment: no visible binding for global variable
'propUpCiHi'
extractSplicingEnrichment: no visible binding for global variable
'propUpCiLo'
extractSplicingEnrichmentComparison: no visible binding for global
variable 'Comparison'
extractSplicingEnrichmentComparison: no visible binding for global
variable 'propUp'
extractSplicingEnrichmentComparison: no visible binding for global
variable 'Significant'
extractSplicingEnrichmentComparison: no visible binding for global
variable 'nTot'
extractSplicingEnrichmentComparison: no visible binding for global
variable 'propUpCiHi'
extractSplicingEnrichmentComparison: no visible binding for global
variable 'propUpCiLo'
extractSplicingGenomeWide: no visible binding for global variable
'isoform_feature'
extractSplicingGenomeWide: no visible binding for global variable
'value'
extractSplicingGenomeWide: no visible binding for global variable
'variable'
extractSplicingGenomeWide: no visible binding for global variable
'ymax'
extractSplicingGenomeWide: no visible binding for global variable
'significance'
extractSplicingGenomeWide: no visible binding for global variable
'idNr'
extractSplicingSummary: no visible binding for global variable
'splicingResult'
extractSplicingSummary: no visible binding for global variable
'geneFraction'
extractSplicingSummary: no visible binding for global variable
'nrGenesWithConsequences'
extractSplicingSummary: no visible binding for global variable
'isoFraction'
extractSplicingSummary: no visible binding for global variable
'nrIsoWithConsequences'
extractSubCellShifts: no visible binding for global variable 'gene_ref'
extractSubCellShifts: no visible binding for global variable 'gene_id'
extractSubCellShifts: no visible binding for global variable
'condition_1'
extractSubCellShifts: no visible binding for global variable
'condition_2'
extractSubCellShifts: no visible binding for global variable
'isoformUpregulated'
extractSubCellShifts: no visible binding for global variable
'isoformDownregulated'
extractSubCellShifts: no visible binding for global variable
'featureCompared'
extractSubCellShifts: no visible binding for global variable
'isoformsDifferent'
extractSubCellShifts: no visible binding for global variable
'isoform_id'
extractSubCellShifts: no visible binding for global variable
'Localizations'
extractSubCellShifts: no visible binding for global variable
'location_gain'
extractSubCellShifts: no visible binding for global variable
'location_loss'
extractSubCellShifts: no visible binding for global variable 'n_genes'
extractSubCellShifts: no visible binding for global variable 'n_switch'
extractSubCellShifts: no visible binding for global variable 'Genes'
extractSubCellShifts: no visible binding for global variable 'Switch'
grangesFracOverlap: no visible global function definition for
'queryHits'
grangesFracOverlap: no visible global function definition for
'subjectHits'
importGTF: no visible binding for global variable 'gene_id'
importGTF: no visible binding for global variable 'gene_name'
importRdata: no visible binding for global variable 'isoform_id'
importRdata: no visible binding for global variable 'gene_id'
importRdata: no visible binding for global variable 'ref_gene_id'
importRdata: no visible binding for global variable 'n_ref_gene_ids'
importRdata: no visible binding for global variable 'n_iso_na'
importRdata: no visible global function definition for 'queryHits'
importRdata: no visible global function definition for 'subjectHits'
importRdata: no visible binding for global variable 'novel_iso'
importRdata: no visible binding for global variable 'known_ref_gene_id'
importRdata: no visible binding for global variable 'nt_overlap'
importRdata: no visible binding for global variable 'frac_overlap'
importRdata: no visible binding for global variable
'log2_overlap_ratio'
importRdata: no visible binding for global variable 'has_ref_gene_id'
importRdata: no visible binding for global variable 'has_novel_iso'
importRdata: no visible binding for global variable 'gene_name'
importRdata: no visible binding for global variable 'n_ref'
importSalmonData: no visible global function definition for 'metadata'
importSalmonData: no visible global function definition for 'assay'
isoformSwitchTestSatuRn: no visible global function definition for
'rowData'
isoformToGeneExp: no visible binding for global variable 'gene_id'
isoformToGeneExp: no visible binding for global variable 'gene_name'
preFilter: no visible global function definition for 'setdff'
switchPlotTranscript: no visible global function definition for
'queryHits'
switchPlotTranscript: no visible binding for global variable 'topology'
switchPlotTranscript: no visible binding for global variable 'idNr'
switchPlotTranscript: no visible binding for global variable 'Topology'
switchPlotTranscript: no visible binding for global variable 'topGroup'
switchPlotTranscript: no visible binding for global variable 'y'
switchPlotTranscript: no visible binding for global variable 'yend'
switchPlotTranscript: no visible binding for global variable 'x'
switchPlotTranscript: no visible binding for global variable 'ymin'
switchPlotTranscript: no visible binding for global variable 'xmin'
switchPlotTranscript: no visible binding for global variable 'ymax'
switchPlotTranscript: no visible binding for global variable 'xmax'
switchPlotTranscript: no visible binding for global variable 'Domain'
switchPlotTranscript: no visible binding for global variable 'value'
Undefined global functions or variables:
AStype CI_down CI_hi CI_low CI_up Comparison Condition Domain Genes
IF Localizations Significant Switch Topology assay condition_1
condition_2 feature2 featureCompared frac_overlap geneFraction
gene_expression gene_id gene_name gene_ref has_novel_iso
has_ref_gene_id idNr isoFraction isoformDownregulated
isoformUpregulated isoform_feature isoform_id isoformsDifferent
known_ref_gene_id location_gain location_loss log2_overlap_ratio
metadata nTot n_genes n_iso_na n_ref n_ref_gene_ids n_switch
novel_iso nrGenesWithConsequences nrIsoWithConsequences nt_overlap
orfEndGenomic orfStartGenomic orf_origin propCiHi propCiLo
propOfRelevantEvents propUp propUpCiHi propUpCiLo queryHits
ref_gene_id rowData setdff sigEval sigLevel sigLevelPos significance
splicingResult subjectHits switchConsequence topGroup topology value
variable x xmax xmin y yend ymax ymin
* checking Rd files ... OK
* checking Rd metadata ... OK
* checking Rd cross-references ... OK
* checking for missing documentation entries ... OK
* checking for code/documentation mismatches ... OK
* checking Rd \usage sections ... OK
* checking Rd contents ... OK
* checking for unstated dependencies in examples ... OK
* checking contents of ‘data’ directory ... OK
* checking data for non-ASCII characters ... OK
* checking data for ASCII and uncompressed saves ... OK
* checking line endings in C/C++/Fortran sources/headers ... OK
* checking compiled code ... NOTE
Note: information on .o files is not available
* checking files in ‘vignettes’ ... OK
* checking examples ... OK
Examples with CPU (user + system) or elapsed time > 5s
user system elapsed
IsoformSwitchTestDEXSeq 66.528 1.736 68.267
isoformSwitchAnalysisCombined 31.697 1.120 32.817
importSalmonData 30.528 1.924 42.740
prepareSalmonFilesDataFrame 12.370 0.264 17.188
analyzeORF 9.396 0.068 9.464
extractSequence 9.360 0.040 9.400
extractSwitchSummary 8.408 0.024 8.432
extractTopSwitches 8.291 0.040 8.332
isoformSwitchAnalysisPart1 7.949 0.068 8.017
analyzeAlternativSplicing 6.226 0.058 6.284
* checking for unstated dependencies in vignettes ... OK
* checking package vignettes in ‘inst/doc’ ... OK
* checking running R code from vignettes ...
‘IsoformSwitchAnalyzeR.Rmd’ using ‘UTF-8’... OK
NONE
* checking re-building of vignette outputs ... OK
* checking PDF version of manual ... OK
* DONE
Status: 4 NOTEs
See
‘/home/biocbuild/bbs-3.17-bioc/meat/IsoformSwitchAnalyzeR.Rcheck/00check.log’
for details.
IsoformSwitchAnalyzeR.Rcheck/00install.out
############################################################################## ############################################################################## ### ### Running command: ### ### /home/biocbuild/bbs-3.17-bioc/R/bin/R CMD INSTALL IsoformSwitchAnalyzeR ### ############################################################################## ############################################################################## * installing to library ‘/home/biocbuild/bbs-3.17-bioc/R/site-library’ * installing *source* package ‘IsoformSwitchAnalyzeR’ ... ** using staged installation ** libs using C compiler: ‘gcc (Ubuntu 11.4.0-1ubuntu1~22.04) 11.4.0’ gcc -I"/home/biocbuild/bbs-3.17-bioc/R/include" -DNDEBUG -I/usr/local/include -fpic -g -O2 -Wall -c utils.c -o utils.o gcc -shared -L/home/biocbuild/bbs-3.17-bioc/R/lib -L/usr/local/lib -o IsoformSwitchAnalyzeR.so utils.o -L/home/biocbuild/bbs-3.17-bioc/R/lib -lR installing to /home/biocbuild/bbs-3.17-bioc/R/site-library/00LOCK-IsoformSwitchAnalyzeR/00new/IsoformSwitchAnalyzeR/libs ** R ** data ** inst ** byte-compile and prepare package for lazy loading ** help *** installing help indices ** building package indices ** installing vignettes ** testing if installed package can be loaded from temporary location ** checking absolute paths in shared objects and dynamic libraries ** testing if installed package can be loaded from final location ** testing if installed package keeps a record of temporary installation path * DONE (IsoformSwitchAnalyzeR)
IsoformSwitchAnalyzeR.Rcheck/IsoformSwitchAnalyzeR-Ex.timings
| name | user | system | elapsed | |
| IsoformSwitchTestDEXSeq | 66.528 | 1.736 | 68.267 | |
| IsoformSwitchTestSatuRn | 2.630 | 0.115 | 2.716 | |
| addORFfromGTF | 0.80 | 0.04 | 0.84 | |
| analyzeAlternativSplicing | 6.226 | 0.058 | 6.284 | |
| analyzeCPAT | 0.052 | 0.002 | 0.054 | |
| analyzeCPC2 | 0.045 | 0.003 | 0.050 | |
| analyzeDeepLoc2 | 0.210 | 0.037 | 0.234 | |
| analyzeDeepTMHMM | 0.469 | 0.004 | 0.472 | |
| analyzeIUPred2A | 2.334 | 0.015 | 2.351 | |
| analyzeNovelIsoformORF | 0.671 | 0.000 | 0.672 | |
| analyzeORF | 9.396 | 0.068 | 9.464 | |
| analyzePFAM | 0.504 | 0.000 | 0.504 | |
| analyzeSignalP | 0.080 | 0.008 | 0.089 | |
| analyzeSwitchConsequences | 0.978 | 0.012 | 0.990 | |
| expressionAnalysisPlots | 1.072 | 0.024 | 1.096 | |
| extractConsequenceEnrichment | 0.514 | 0.032 | 0.546 | |
| extractConsequenceEnrichmentComparison | 0.745 | 0.004 | 0.749 | |
| extractConsequenceSummary | 0.718 | 0.008 | 0.726 | |
| extractGeneExpression | 0.050 | 0.004 | 0.054 | |
| extractGenomeWideAnalysis | 3.053 | 0.044 | 3.097 | |
| extractGenomeWideSplicingAnalysis | 3.726 | 0.092 | 3.818 | |
| extractSequence | 9.36 | 0.04 | 9.40 | |
| extractSplicingEnrichment | 1.116 | 0.008 | 1.124 | |
| extractSplicingEnrichmentComparison | 1.309 | 0.008 | 1.317 | |
| extractSplicingSummary | 0.983 | 0.024 | 1.007 | |
| extractSwitchOverlap | 0.334 | 0.004 | 0.338 | |
| extractSwitchSummary | 8.408 | 0.024 | 8.432 | |
| extractTopSwitches | 8.291 | 0.040 | 8.332 | |
| importCufflinksGalaxyData | 0.000 | 0.000 | 0.001 | |
| importGTF | 0.810 | 0.032 | 0.843 | |
| importIsoformExpression | 0.633 | 0.132 | 0.714 | |
| importRdata | 2.566 | 0.116 | 2.650 | |
| importSalmonData | 30.528 | 1.924 | 42.740 | |
| isoformSwitchAnalysisCombined | 31.697 | 1.120 | 32.817 | |
| isoformSwitchAnalysisPart1 | 7.949 | 0.068 | 8.017 | |
| isoformSwitchAnalysisPart2 | 3.011 | 0.088 | 3.088 | |
| isoformToGeneExp | 3.148 | 0.145 | 3.261 | |
| isoformToIsoformFraction | 0.234 | 0.060 | 0.263 | |
| preFilter | 0.021 | 0.004 | 0.025 | |
| prepareSalmonFilesDataFrame | 12.370 | 0.264 | 17.188 | |
| subsetSwitchAnalyzeRlist | 0.026 | 0.000 | 0.026 | |
| switchAnalyzeRlist | 2.549 | 0.136 | 2.654 | |
| switchPlot | 3.270 | 0.056 | 3.327 | |
| switchPlotTranscript | 3.099 | 0.148 | 3.247 | |
| testData | 0.014 | 0.000 | 0.015 | |