| Back to Multiple platform build/check report for BioC 3.17: simplified long |
|
This page was generated on 2023-10-16 11:35:28 -0400 (Mon, 16 Oct 2023).
| Hostname | OS | Arch (*) | R version | Installed pkgs |
|---|---|---|---|---|
| nebbiolo1 | Linux (Ubuntu 22.04.2 LTS) | x86_64 | 4.3.1 (2023-06-16) -- "Beagle Scouts" | 4626 |
| palomino3 | Windows Server 2022 Datacenter | x64 | 4.3.1 (2023-06-16 ucrt) -- "Beagle Scouts" | 4379 |
| merida1 | macOS 12.6.4 Monterey | x86_64 | 4.3.1 (2023-06-16) -- "Beagle Scouts" | 4395 |
| Click on any hostname to see more info about the system (e.g. compilers) (*) as reported by 'uname -p', except on Windows and Mac OS X | ||||
| Package 1052/2230 | Hostname | OS / Arch | INSTALL | BUILD | CHECK | BUILD BIN | ||||||||
| KnowSeq 1.14.1 (landing page) Daniel Castillo-Secilla
| nebbiolo1 | Linux (Ubuntu 22.04.2 LTS) / x86_64 | OK | OK | OK | |||||||||
| palomino3 | Windows Server 2022 Datacenter / x64 | OK | OK | OK | OK | |||||||||
| merida1 | macOS 12.6.4 Monterey / x86_64 | OK | OK | OK | OK | |||||||||
| kjohnson2 | macOS 12.6.1 Monterey / arm64 | see weekly results here | ||||||||||||
|
To the developers/maintainers of the KnowSeq package: - Allow up to 24 hours (and sometimes 48 hours) for your latest push to git@git.bioconductor.org:packages/KnowSeq.git to reflect on this report. See Troubleshooting Build Report for more information. - Use the following Renviron settings to reproduce errors and warnings. - If 'R CMD check' started to fail recently on the Linux builder(s) over a missing dependency, add the missing dependency to 'Suggests:' in your DESCRIPTION file. See Renviron.bioc for more information. |
| Package: KnowSeq |
| Version: 1.14.1 |
| Command: /home/biocbuild/bbs-3.17-bioc/R/bin/R CMD check --install=check:KnowSeq.install-out.txt --library=/home/biocbuild/bbs-3.17-bioc/R/site-library --timings KnowSeq_1.14.1.tar.gz |
| StartedAt: 2023-10-15 22:20:31 -0400 (Sun, 15 Oct 2023) |
| EndedAt: 2023-10-15 22:27:02 -0400 (Sun, 15 Oct 2023) |
| EllapsedTime: 391.6 seconds |
| RetCode: 0 |
| Status: OK |
| CheckDir: KnowSeq.Rcheck |
| Warnings: 0 |
##############################################################################
##############################################################################
###
### Running command:
###
### /home/biocbuild/bbs-3.17-bioc/R/bin/R CMD check --install=check:KnowSeq.install-out.txt --library=/home/biocbuild/bbs-3.17-bioc/R/site-library --timings KnowSeq_1.14.1.tar.gz
###
##############################################################################
##############################################################################
* using log directory ‘/home/biocbuild/bbs-3.17-bioc/meat/KnowSeq.Rcheck’
* using R version 4.3.1 (2023-06-16)
* using platform: x86_64-pc-linux-gnu (64-bit)
* R was compiled by
gcc (Ubuntu 11.3.0-1ubuntu1~22.04.1) 11.3.0
GNU Fortran (Ubuntu 11.3.0-1ubuntu1~22.04.1) 11.3.0
* running under: Ubuntu 22.04.3 LTS
* using session charset: UTF-8
* checking for file ‘KnowSeq/DESCRIPTION’ ... OK
* checking extension type ... Package
* this is package ‘KnowSeq’ version ‘1.14.1’
* package encoding: UTF-8
* checking package namespace information ... OK
* checking package dependencies ... OK
* checking if this is a source package ... OK
* checking if there is a namespace ... OK
* checking for hidden files and directories ... OK
* checking for portable file names ... OK
* checking for sufficient/correct file permissions ... OK
* checking whether package ‘KnowSeq’ can be installed ... OK
* checking installed package size ... OK
* checking package directory ... OK
* checking ‘build’ directory ... OK
* checking DESCRIPTION meta-information ... OK
* checking top-level files ... OK
* checking for left-over files ... OK
* checking index information ... OK
* checking package subdirectories ... OK
* checking R files for non-ASCII characters ... OK
* checking R files for syntax errors ... OK
* checking whether the package can be loaded ... OK
* checking whether the package can be loaded with stated dependencies ... OK
* checking whether the package can be unloaded cleanly ... OK
* checking whether the namespace can be loaded with stated dependencies ... OK
* checking whether the namespace can be unloaded cleanly ... OK
* checking loading without being on the library search path ... OK
* checking dependencies in R code ... OK
* checking S3 generic/method consistency ... OK
* checking replacement functions ... OK
* checking foreign function calls ... OK
* checking R code for possible problems ... NOTE
DEGsExtraction: warning in topTable(fit, number = number, coef = 2,
sort.by = "logFC", p.value = pvalue, adjust = "fdr", lfc = lfc):
partial argument match of 'adjust' to 'adjust.method'
RNAseqQA : outlierBarPlot: no visible binding for global variable ‘x’
RNAseqQA : outlierBarPlot: no visible binding for global variable ‘y’
RNAseqQA: no visible binding for global variable ‘Var1’
RNAseqQA: no visible binding for global variable ‘Var2’
RNAseqQA: no visible binding for global variable ‘value’
RNAseqQA: no visible binding for global variable ‘Expression’
RNAseqQA: no visible binding for global variable ‘Samples’
dataPlot: no visible binding for global variable ‘Var1’
dataPlot: no visible binding for global variable ‘Var2’
dataPlot: no visible binding for global variable ‘value’
dataPlot: no visible binding for global variable ‘Classes’
dataPlot: no visible binding for global variable ‘Value’
knowseqReport: no visible binding for global variable ‘target’
Undefined global functions or variables:
Classes Expression Samples Value Var1 Var2 target value x y
* checking Rd files ... OK
* checking Rd metadata ... OK
* checking Rd cross-references ... OK
* checking for missing documentation entries ... OK
* checking for code/documentation mismatches ... OK
* checking Rd \usage sections ... OK
* checking Rd contents ... OK
* checking for unstated dependencies in examples ... OK
* checking files in ‘vignettes’ ... OK
* checking examples ... OK
Examples with CPU (user + system) or elapsed time > 5s
user system elapsed
dataPlot 19.134 0.448 19.525
svm_trn 15.530 0.100 15.630
svm_test 15.437 0.133 15.570
rf_trn 15.192 0.164 15.356
downloadPublicSeries 0.906 0.054 16.357
* checking for unstated dependencies in vignettes ... OK
* checking package vignettes in ‘inst/doc’ ... OK
* checking running R code from vignettes ...
‘KnowSeq.Rmd’ using ‘UTF-8’... OK
NONE
* checking re-building of vignette outputs ... OK
* checking PDF version of manual ... OK
* DONE
Status: 1 NOTE
See
‘/home/biocbuild/bbs-3.17-bioc/meat/KnowSeq.Rcheck/00check.log’
for details.
KnowSeq.Rcheck/00install.out
############################################################################## ############################################################################## ### ### Running command: ### ### /home/biocbuild/bbs-3.17-bioc/R/bin/R CMD INSTALL KnowSeq ### ############################################################################## ############################################################################## * installing to library ‘/home/biocbuild/bbs-3.17-bioc/R/site-library’ * installing *source* package ‘KnowSeq’ ... ** using staged installation ** R ** inst ** byte-compile and prepare package for lazy loading ** help *** installing help indices ** building package indices ** installing vignettes ** testing if installed package can be loaded from temporary location ** testing if installed package can be loaded from final location ** testing if installed package keeps a record of temporary installation path * DONE (KnowSeq)
KnowSeq.Rcheck/KnowSeq-Ex.timings
| name | user | system | elapsed | |
| DEGsEvidences | 1.176 | 0.505 | 2.248 | |
| DEGsExtraction | 1.400 | 0.556 | 1.958 | |
| DEGsToDiseases | 0.170 | 0.028 | 0.376 | |
| DEGsToPathways | 0.285 | 0.007 | 0.294 | |
| RNAseqQA | 1.744 | 0.148 | 1.862 | |
| batchEffectRemoval | 2.791 | 0.180 | 2.971 | |
| calculateGeneExpressionValues | 0.516 | 0.036 | 0.552 | |
| countsToMatrix | 0.064 | 0.004 | 0.070 | |
| dataPlot | 19.134 | 0.448 | 19.525 | |
| downloadPublicSeries | 0.906 | 0.054 | 16.357 | |
| featureSelection | 0.019 | 0.007 | 0.021 | |
| fileMove | 0.001 | 0.000 | 0.001 | |
| gdcClientDownload | 0.000 | 0.000 | 0.001 | |
| geneOntologyEnrichment | 0.000 | 0.000 | 0.001 | |
| getGenesAnnotation | 0.183 | 0.014 | 0.198 | |
| hisatAlignment | 0.000 | 0.002 | 0.002 | |
| knn_test | 0.041 | 0.001 | 0.043 | |
| knn_trn | 1.408 | 0.032 | 1.439 | |
| knowseqReport | 0.006 | 0.000 | 0.006 | |
| plotConfMatrix | 0.014 | 0.004 | 0.018 | |
| rawAlignment | 0.002 | 0.000 | 0.001 | |
| rf_test | 3.930 | 0.056 | 3.986 | |
| rf_trn | 15.192 | 0.164 | 15.356 | |
| sraToFastq | 0 | 0 | 0 | |
| svm_test | 15.437 | 0.133 | 15.570 | |
| svm_trn | 15.53 | 0.10 | 15.63 | |