| Package STATUS - Package status is indicated by one of the following glyphs: | 
|  -  TIMEOUT  | 
BUILD, CHECK or BUILD BIN of package took more than 40 minutes | 
|  -  ERROR  | 
BUILD, CHECK or BUILD BIN of package returned an error | 
|  -  WARNINGS  | 
CHECK of package produced warnings | 
|  -  OK  | 
BUILD, CHECK or BUILD BIN of package was OK | 
|  - skipped  | 
CHECK or BUILD BIN of package was skipped because the BUILD step failed (or because something bad happened with the Build System itself) | 
| Click on any glyph in the report below to see the status details (command output). | 
| george2 | 
Linux (Ubuntu 12.04.1 LTS) / x86_64  |  |  |  | 
| [moscato2] | 
Windows Server 2008 R2 Enterprise SP1 (64-bit) / x64  |  |  |  | 
| petty | 
Mac OS X Snow Leopard (10.6.8) / x86_64  |  |  |  | 
 | 
| affycompData 1.1.5 | Harris Jaffee |  OK  |  OK  |  OK  | 
| affydata 1.11.18 | Harris Jaffee |  OK  |  WARNINGS  |  OK  | 
| AffymetrixDataTestFiles 0.1.6 | Henrik Bengtsson |  OK  |  OK  |  OK  | 
| ALL 1.4.14 | Robert Gentleman |  OK  |  OK  |  OK  | 
| ALLMLL 1.2.14 | B. M. Bolstad |  OK  |  OK  |  OK  | 
| AmpAffyExample 1.2.12 | Rafael A. Irizarry |  OK  |  WARNINGS  |  OK  | 
| antiProfilesData 0.99.1 | Hector Corrada Bravo |  OK  |  OK  |  OK  | 
| ARRmData 0.99.2 | Jean-Philippe Fortin |  OK  |  OK  |  OK  | 
| beadarrayExampleData 1.0.6 | Mark Dunning |  OK  |  OK  |  OK  | 
| BeadArrayUseCases 1.0.10 | Mike Smith |  OK  |  OK  |  OK  | 
| beta7 1.0.5 | Jean Yang |  OK  |  WARNINGS  |  OK  | 
| bladderbatch 1.0.5 | Jeffrey T. Leek |  OK  |  WARNINGS  |  OK  | 
| breastCancerMAINZ 1.0.5 | Markus Schroeder , Benjamin Haibe-Kains |  OK  |  WARNINGS  |  OK  | 
| breastCancerNKI 1.0.5 | Markus Schroeder , Benjamin Haibe-Kains |  OK  |  WARNINGS  |  OK  | 
| breastCancerTRANSBIG 1.0.5 | Markus Schroeder , Benjamin Haibe-Kains |  OK  |  WARNINGS  |  OK  | 
| breastCancerUNT 1.0.5 | Markus Schroeder , Benjamin Haibe-Kains |  OK  |  WARNINGS  |  OK  | 
| breastCancerUPP 1.0.5 | Markus Schroeder , Benjamin Haibe-Kains |  OK  |  WARNINGS  |  OK  | 
| breastCancerVDX 1.0.5 | Markus Schroeder , Benjamin Haibe-Kains |  OK  |  WARNINGS  |  OK  | 
| bronchialIL13 1.0.11 | Vince Carey |  OK  |  OK  |  OK  | 
| bsseqData 0.1.4 | Kasper Daniel Hansen |  OK  |  ERROR  |  ERROR  | 
| cancerdata 1.1.2 | Daniel Kosztyla |  OK  |  OK  |  OK  | 
| CCl4 1.0.14 | Audrey Kauffmann |  OK  |  WARNINGS  |  OK  | 
| ccTutorial 1.0.23 | Joern Toedling |  OK  |  OK  |  OK  | 
| ceu1kg 0.0.32 | VJ Carey |  OK  |  OK  |  OK  | 
| ceuhm3 0.0.15 | VJ Carey |  OK  |  OK  |  OK  | 
| cgdv17 0.0.20 | VJ Carey |  OK  |  OK  |  OK  | 
| charmData 0.99.8 | Martin Aryee |  OK  |  WARNINGS  |  OK  | 
| cheung2010 0.0.27 | Vince Carey |  OK  |  OK  |  OK  | 
| ChIPXpressData 1.0.0 | George Wu | N O T   S U P P O R T E D | 
| CLL 1.2.14 | Robert Gentleman |  OK  |  OK  |  OK  | 
| cMap2data 0.99.2 | J. Saez-Rodriguez |  OK  |  OK  |  OK  | 
| cnvGSAdata 0.99.4 | Robert Ziman |  OK  |  OK  |  OK  | 
| colonCA 1.4.11 | W Sylvia Merk |  OK  |  WARNINGS  |  OK  | 
| ConnectivityMap 0.99.10 | Paul Shannon |  OK  |  OK  |  OK  | 
| curatedOvarianData 1.0.3 | Levi Waldron |  OK  |  OK  |  OK  | 
| davidTiling 1.2.17 | Wolfgang Huber |  OK  |  OK  |  OK  | 
| DLBCL 1.3.6 | Marcus Dittrich |  OK  |  WARNINGS  |  OK  | 
| DREAM4 0.99.17 | Paul Shannon |  OK  |  OK  |  OK  | 
| dressCheck 0.1.7 | Vincent Carey |  OK  |  OK  |  OK  | 
| DrugVsDiseasedata 0.99.4 | J. Saez-Rodriguez |  OK  |  OK  |  OK  | 
| dsQTL 0.0.23 | VJ Carey |  OK  |  OK  |  OK  | 
| DvDdata 0.99.1 | J. Saez-Rodriguez |  OK  |  OK  |  OK  | 
| dyebiasexamples 1.0.10 | Philip Lijnzaad |  OK  |  WARNINGS  |  OK  | 
| EatonEtAlChIPseq 0.0.9 | Patrick Aboyoun |  OK  |  OK  |  OK  | 
| ecoliLeucine 1.2.10 | Laurent Gautier |  OK  |  WARNINGS  |  OK  | 
| encoDnaseI 0.1.16 | VJ Carey |  OK  |  OK  |  OK  | 
| estrogen 1.8.10 | R. Gentleman |  OK  |  OK  |  OK  | 
| faahKO 1.2.15 | Colin A. Smith |  OK  |  WARNINGS  |  OK  | 
| fabiaData 1.0.2 | Sepp Hochreiter |  OK  |  OK  |  OK  | 
| facsDorit 1.4.7 | Florian Hahne |  OK  |  OK  |  OK  | 
| FANTOM3and4CAGE 0.99.1 | Vanja Haberle |  OK  |  OK  |  OK  | 
| ffpeExampleData 1.0.3 | Levi Waldron |  OK  |  OK  |  OK  | 
| fibroEset 1.4.9 | Sylvia Merk |  OK  |  WARNINGS  |  OK  | 
| flowWorkspaceData 1.99.9 | Mike Jiang |  OK  |  WARNINGS  |  OK  | 
| frmaExampleData 0.99.5 | Matthew N. McCall |  OK  |  WARNINGS  |  OK  | 
| FunciSNP.data 0.99.2 | Simon G. Coetzee |  OK  |  OK  |  OK  | 
| gageData 2.0.2 | Weijun Luo |  OK  |  OK  |  OK  | 
| gaschYHS 1.0.11 | Vince Carey |  OK  |  OK  |  OK  | 
| gatingMLData 1.0.7 | Nishant Gopalakrishnan |  OK  |  OK  |  OK  | 
| gcspikelite 1.0.9 | Mark Robinson |  OK  |  WARNINGS  |  OK  | 
| geneLenDataBase 0.99.11 | Matthew Young , Nadia Davidson |  OK  |  TIMEOUT  |  OK  | 
| GGdata 1.0.21 | VJ Carey |  OK  |  OK  |  OK  | 
| ggtut 0.0.44 | VJ Carey |  OK  |  OK  |  OK  | 
| golubEsets 1.4.13 | Vince Carey |  OK  |  OK  |  OK  | 
| GSVAdata 0.99.10 | Robert Castelo |  OK  |  OK  |  OK  | 
| GWASdata 1.0.9 | Stephanie Gogarten , Adrienne Stilp |  OK  |  OK  |  OK  | 
| hapmap100khind 1.4.2 | Benilton Carvalho |  OK  |  OK  |  OK  | 
| hapmap100kxba 1.4.2 | Benilton Carvalho |  OK  |  OK  |  OK  | 
| hapmap500knsp 1.4.2 | Benilton Carvalho |  OK  |  OK  |  OK  | 
| hapmap500ksty 1.4.2 | Benilton Carvalho |  OK  |  OK  |  OK  | 
| hapmapsnp5 1.4.2 | Benilton Carvalho |  OK  |  OK  |  OK  | 
| hapmapsnp6 1.4.2 | Benilton Carvalho |  OK  |  OK  |  OK  | 
| harbChIP 1.0.10 | VJ Carey |  OK  |  OK  |  OK  | 
| HD2013SGI 1.0.4 | Bernd Fischer |  ERROR  |  skipped  |  skipped  | 
| HEEBOdata 1.0.5 | Agnes Paquet |  OK  |  WARNINGS  |  OK  | 
| hgu133abarcodevecs 1.0.6 | Matthew N. McCall |  OK  |  OK  |  OK  | 
| hgu133plus2barcodevecs 1.0.6 | Matthew N. McCall |  OK  |  OK  |  OK  | 
| hgu2beta7 1.2.8 | Bioconductor Package Maintainer |  OK  |  WARNINGS  |  OK  | 
| HIVcDNAvantWout03 1.2.8 | Chris Fraley |  OK  |  OK  |  OK  | 
| hmyriB36 0.99.17 | Vincent Carey |  OK  |  OK  |  OK  | 
| humanStemCell 0.2.8 | R. Gentleman |  OK  |  WARNINGS  |  OK  | 
| ind1KG 0.1.15 | VJ Carey |  OK  |  OK  |  OK  | 
| iontreeData 0.99.8 | Mingshu Cao |  OK  |  WARNINGS  |  OK  | 
| ITALICSData 2.0.7 | Guillem Rigaill |  OK  |  WARNINGS  |  OK  | 
| Iyer517 1.4.12 | Vince Carey |  OK  |  OK  |  OK  | 
| KEGGdzPathwaysGEO 1.1.2 | Gaurav Bhatti |  OK  |  OK  |  OK  | 
| kidpack 1.5.12 | Wolfgang Huber |  OK  |  WARNINGS  |  OK  | 
| leeBamViews 0.99.22 | VJ Carey |  OK  |  OK  |  OK  | 
| leukemiasEset 0.99.3 | Sara Aibar |  OK  |  OK  |  OK  | 
| LiebermanAidenHiC2009 0.1.14 | Felix Klein |  OK  |  WARNINGS  |  OK  | 
| lumiBarnes 1.3.10 | Pan Du |  OK  |  WARNINGS  |  OK  | 
| LungCancerLines 0.0.8 | Cory Barr |  OK  |  OK  |  OK  | 
| lungExpression 0.0.15 | Robert Scharpf |  OK  |  OK  |  OK  | 
| maqcExpression4plex 1.6.2 | Benilton Carvalho |  OK  |  OK  |  OK  | 
| MAQCsubset 1.0.27 | VJ Carey |  OK  |  OK  |  OK  | 
| MAQCsubsetAFX 1.0.11 | Laurent Gatto |  OK  |  OK  |  OK  | 
| MAQCsubsetILM 1.0.10 | Laurent Gatto |  OK  |  OK  |  OK  | 
| MEDIPSData 0.99.4 | Lukas Chavez |  OK  |  OK  |  OK  | 
| MEEBOdata 1.0.5 | Agnes Paquet |  OK  |  WARNINGS  |  OK  | 
| minfiData 0.3.4 | Kasper Daniel Hansen |  OK  |  OK  |  OK  | 
| miRNATarget 0.99.3 | Y-h. Taguchi |  OK  |  OK  |  OK  | 
| MMDiffBamSubset 0.99.3 | Gabriele Schweikert |  OK  |  OK  |  OK  | 
| mosaicsExample 0.99.8 | Dongjun Chung |  OK  |  OK  |  OK  | 
| mouse4302barcodevecs 1.0.6 | Matthew N. McCall |  OK  |  OK  |  OK  | 
| msdata 0.1.13 | Steffen Neumann |  OK  |  WARNINGS  |  OK  | 
| Mulder2012 0.2.3 | Xin Wang |  OK  |  WARNINGS  |  OK  | 
| mvoutData 0.99.10 | VJ Carey |  OK  |  OK  |  OK  | 
| NCIgraphData 0.99.6 | Laurent Jacob |  OK  |  WARNINGS  |  OK  | 
| Neve2006 0.1.16 | VJ Carey |  OK  |  OK  |  OK  | 
| parathyroid 0.99.6 | Michael Love |  OK  |  OK  |  OK  | 
| parathyroidSE 1.0.2 | Michael Love |  ERROR  |  skipped  |  skipped  | 
| pasilla 0.2.16 | Alejandro Reyes |  OK  |  WARNINGS  |  OK  | 
| pasillaBamSubset 0.0.7 | H. Pages |  OK  |  OK  |  OK  | 
| PathNetData 0.99.2 | Jason B. Smith |  OK  |  OK  |  OK  | 
| pcaGoPromoter.Hs.hg19 0.99.4 | Morten Hansen, |  OK  |  OK  |  OK  | 
| pcaGoPromoter.Mm.mm9 0.99.4 | Morten Hansen, |  OK  |  OK  |  OK  | 
| pcaGoPromoter.Rn.rn4 0.99.4 | Morten Hansen, |  OK  |  OK  |  OK  | 
| pd.atdschip.tiling 0.0.5 | Kristof De Beuf |  OK  |  OK  |  OK  | 
| ppiData 0.1.22 | Bioconductor Package Maintainer |  OK  |  WARNINGS  |  OK  | 
| prebsdata 0.99.4 | Karolis Uziela |  OK  |  OK  |  OK  | 
| PREDAsampledata 0.2.7 | Francesco Ferrari |  OK  |  WARNINGS  |  OK  | 
| ProData 1.0.8 | Xiaochun Li |  OK  |  OK  |  OK  | 
| pRolocdata 1.0.2 | Laurent Gatto |  OK  |  WARNINGS  |  OK  | 
| pumadata 1.99.5 | Richard Pearson |  OK  |  OK  |  OK  | 
| PWMEnrich.Dmelanogaster.background 2.1.0 | Robert Stojnic |  OK  |  WARNINGS  |  OK  | 
| RforProteomics 1.0.13 | Laurent Gatto |  OK  |  OK  |  OK  | 
| rheumaticConditionWOLLBOLD 1.0.3 | Alejandro Quiroz-Zarate |  OK  |  OK  |  OK  | 
| RIPSeekerData 0.99.1 | Alejandro Reyes |  OK  |  OK  |  OK  | 
| RMassBankData 0.99.2 | Michael Stravs |  OK  |  OK  |  OK  | 
| RNAinteractMAPK 1.0.11 | Bernd Fischer |  OK  |  WARNINGS  |  OK  | 
| RNAseqData.HeLa.bam.chr14 0.1.4 | H. Pages |  OK  |  WARNINGS  |  OK  | 
| RNAseqData.HNRNPC.bam.chr14 0.1.3 | H. Pages |  OK  |  WARNINGS  |  OK  | 
| RnaSeqTutorial 0.0.12 | Nicolas Delhomme |  OK  |  OK  |  OK  | 
| serumStimulation 0.99.4 | Morten Hansen, |  OK  |  OK  |  OK  | 
| simpIntLists 0.99.4 | Kircicegi Korkmaz |  OK  |  WARNINGS  |  OK  | 
| SNAData 1.8.6 | Denise Scholtens |  OK  |  OK  |  OK  | 
| SNAGEEdata 0.99.1 | David Venet |  OK  |  OK  |  OK  | 
| SomatiCAData 1.1.0 | Mengjie Chen |  OK  |  WARNINGS  |  OK  | 
| SpikeIn 1.4.10 | Rafael A. Irizarry |  OK  |  WARNINGS  |  OK  | 
| SpikeInSubset 1.2.13 | Rafael A. Irizarry |  OK  |  WARNINGS  |  OK  | 
| stemHypoxia 0.99.3 | Cristobal Fresno |  OK  |  OK  |  OK  | 
| stjudem 1.2.9 | Joern Toedling |  OK  |  OK  |  OK  | 
| synapterdata 1.0.0 | Laurent Gatto |  OK  |  WARNINGS  |  OK  | 
| TargetSearchData 1.0.9 | Alvaro Cuadros-Inostroza |  OK  |  WARNINGS  |  OK  | 
| TBX20BamSubset 0.99.2 | D. Bindreither |  OK  |  OK  |  OK  | 
| TCGAMethylation450k 0.99.4 | Sean Davis |  OK  |  OK  |  OK  | 
| tinesath1cdf 1.0.9 | Tine Casneuf |  OK  |  WARNINGS  |  OK  | 
| tinesath1probe 1.0.9 | Tine Casneuf |  OK  |  WARNINGS  |  OK  | 
| tweeDEseqCountData 1.0.9 | Juan R Gonzalez |  OK  |  OK  |  OK  | 
| waveTilingData 0.99.2 | Kristof De Beuf |  OK  |  OK  |  OK  | 
| XhybCasneuf 1.0.11 | Tineke Casneuf |  OK  |  WARNINGS  |  OK  | 
| yeastCC 1.2.18 | Sandrine Dudoit |  OK  |  WARNINGS  |  OK  | 
| yeastExpData 0.9.22 | R. Gentleman |  OK  |  WARNINGS  |  OK  | 
| yeastGSData 0.1.10 | R. Gentleman |  OK  |  WARNINGS  |  OK  | 
| yeastNagalakshmi 0.99.6 | Bioconductor Package Maintainer |  OK  |  OK  |  OK  | 
| yeastRNASeq 0.0.8 | J. Bullard |  OK  |  WARNINGS  |  OK  |