| Back to the "Multiple platform build/check report" |
This page was generated on 2013-10-08 16:07:26 -0700 (Tue, 08 Oct 2013).
| Package 54/156 | Hostname | OS / Arch | BUILD | CHECK | BUILD BIN | ||||
| flowWorkspaceData 1.99.9 Mike Jiang
| george2 | Linux (Ubuntu 12.04.1 LTS) / x86_64 | OK | WARNINGS | |||||
| moscato2 | Windows Server 2008 R2 Enterprise SP1 (64-bit) / x64 | [ OK ] | WARNINGS | OK | |||||
| petty | Mac OS X Snow Leopard (10.6.8) / x86_64 | OK | WARNINGS | OK |
| Package: flowWorkspaceData |
| Version: 1.99.9 |
| Command: chmod a+r flowWorkspaceData -R && E:\biocbld\bbs-2.12-bioc\R\bin\R.exe CMD build --keep-empty-dirs --no-resave-data flowWorkspaceData |
| StartedAt: 2013-10-08 12:38:28 -0700 (Tue, 08 Oct 2013) |
| EndedAt: 2013-10-08 12:39:27 -0700 (Tue, 08 Oct 2013) |
| EllapsedTime: 59.3 seconds |
| RetCode: 0 |
| Status: OK |
| PackageFile: flowWorkspaceData_1.99.9.tar.gz |
| PackageFileSize: 42.24 MiB |
* checking for file 'flowWorkspaceData/DESCRIPTION' ... OK * preparing 'flowWorkspaceData': * checking DESCRIPTION meta-information ... OK * checking for LF line-endings in source and make files * checking for empty or unneeded directories * building 'flowWorkspaceData_1.99.9.tar.gz'