| Back to the "Multiple platform build/check report" | 
This page was generated on 2013-10-08 16:07:27 -0700 (Tue, 08 Oct 2013).
| Package 20/156 | Hostname | OS / Arch | BUILD | CHECK | BUILD BIN | ||||
| bsseqData 0.1.4 Kasper Daniel Hansen 
  | george2 | Linux (Ubuntu 12.04.1 LTS) / x86_64 | OK | ERROR | |||||
| moscato2 | Windows Server 2008 R2 Enterprise SP1 (64-bit) / x64 | OK | [ ERROR ] | ERROR | |||||
| petty | Mac OS X Snow Leopard (10.6.8) / x86_64 | OK | ERROR | ERROR | 
| Package: bsseqData | 
| Version: 0.1.4 | 
| Command: rm -rf bsseqData.buildbin-libdir && mkdir bsseqData.buildbin-libdir && E:\biocbld\bbs-2.12-bioc\R\bin\R.exe CMD INSTALL --build --merge-multiarch --library=bsseqData.buildbin-libdir bsseqData_0.1.4.tar.gz >bsseqData-install.out 2>&1 && E:\biocbld\bbs-2.12-bioc\R\bin\R.exe CMD check --library=bsseqData.buildbin-libdir --install="check:bsseqData-install.out" --force-multiarch --no-vignettes --timings bsseqData_0.1.4.tar.gz && mv bsseqData.buildbin-libdir/* bsseqData.Rcheck/ && rmdir bsseqData.buildbin-libdir | 
| StartedAt: 2013-10-08 12:59:20 -0700 (Tue, 08 Oct 2013) | 
| EndedAt: 2013-10-08 13:08:27 -0700 (Tue, 08 Oct 2013) | 
| EllapsedTime: 547.7 seconds | 
| RetCode: 1 | 
| Status: ERROR | 
| CheckDir: None | 
| Warnings: NA |