| Back to the "Multiple platform build/check report" |
This page was generated on 2013-10-08 16:07:27 -0700 (Tue, 08 Oct 2013).
| Package 129/156 | Hostname | OS / Arch | BUILD | CHECK | BUILD BIN | ||||
| RMassBankData 0.99.2 Michael Stravs
| george2 | Linux (Ubuntu 12.04.1 LTS) / x86_64 | OK | OK | |||||
| moscato2 | Windows Server 2008 R2 Enterprise SP1 (64-bit) / x64 | [ OK ] | OK | OK | |||||
| petty | Mac OS X Snow Leopard (10.6.8) / x86_64 | OK | OK | OK |
| Package: RMassBankData |
| Version: 0.99.2 |
| Command: chmod a+r RMassBankData -R && E:\biocbld\bbs-2.12-bioc\R\bin\R.exe CMD build --keep-empty-dirs --no-resave-data RMassBankData |
| StartedAt: 2013-10-08 12:43:22 -0700 (Tue, 08 Oct 2013) |
| EndedAt: 2013-10-08 12:45:25 -0700 (Tue, 08 Oct 2013) |
| EllapsedTime: 123.0 seconds |
| RetCode: 0 |
| Status: OK |
| PackageFile: RMassBankData_0.99.2.tar.gz |
| PackageFileSize: 51.45 MiB |
* checking for file 'RMassBankData/DESCRIPTION' ... OK * preparing 'RMassBankData': * checking DESCRIPTION meta-information ... OK * checking for LF line-endings in source and make files * checking for empty or unneeded directories * building 'RMassBankData_0.99.2.tar.gz'