maqcExpression4plex 1.6.2 Benilton Carvalho
 | Snapshot Date: 2013-10-08 10:15:19 -0700 (Tue, 08 Oct 2013) |  | URL: https://hedgehog.fhcrc.org/bioc-data/trunk/experiment/pkgs/maqcExpression4plex |  | Last Changed Rev: 2317 / Revision: 2510 |  | Last Changed Date: 2013-04-03 15:11:40 -0700 (Wed, 03 Apr 2013) |  
  | george2  | Linux (Ubuntu 12.04.1 LTS) / x86_64  |  OK  |  OK  |  | 
| moscato2  | Windows Server 2008 R2 Enterprise SP1 (64-bit) / x64  |  OK  |  OK  | [ OK ] | 
| petty  | Mac OS X Snow Leopard (10.6.8) / x86_64  |  OK  |  OK  |  OK  | 
install for i386
* installing *source* package 'maqcExpression4plex' ...
** R
** inst
** preparing package for lazy loading
** help
*** installing help indices
** building package indices
** testing if installed package can be loaded
install for x64
* installing *source* package 'maqcExpression4plex' ...
** testing if installed package can be loaded
* MD5 sums
packaged installation of 'maqcExpression4plex' as maqcExpression4plex_1.6.2.zip
* DONE (maqcExpression4plex)