Back to Multiple platform build/check report for BioC 3.22:   simplified   long
ABCDE[F]GHIJKLMNOPQRSTUVWXYZ

This page was generated on 2025-11-05 12:39 -0500 (Wed, 05 Nov 2025).

HostnameOSArch (*)R versionInstalled pkgs
nebbiolo2Linux (Ubuntu 24.04.3 LTS)x86_644.5.1 Patched (2025-08-23 r88802) -- "Great Square Root" 4902
kjohnson3macOS 13.7.7 Venturaarm644.5.1 Patched (2025-09-10 r88807) -- "Great Square Root" 4638
Click on any hostname to see more info about the system (e.g. compilers)      (*) as reported by 'uname -p', except on Windows and Mac OS X

All results for package flowCore


To the developers/maintainers of the flowCore package:
- Allow up to 24 hours (and sometimes 48 hours) for your latest push to git@git.bioconductor.org:packages/flowCore.git to reflect on this report. See Troubleshooting Build Report for more information.
- Use the following Renviron settings to reproduce errors and warnings.
- If 'R CMD check' started to fail recently on the Linux builder(s) over a missing dependency, add the missing dependency to 'Suggests:' in your DESCRIPTION file. See Renviron.bioc for more information.

raw results

Package 752/2361HostnameOS / ArchINSTALLBUILDCHECKBUILD BIN
flowCore 2.22.0  (landing page)
Mike Jiang
Snapshot Date: 2025-11-04 13:45 -0500 (Tue, 04 Nov 2025)
git_url: https://git.bioconductor.org/packages/flowCore
git_branch: RELEASE_3_22
git_last_commit: ec29bd6
git_last_commit_date: 2025-10-29 09:58:38 -0500 (Wed, 29 Oct 2025)
nebbiolo2Linux (Ubuntu 24.04.3 LTS) / x86_64  OK    OK    WARNINGS  UNNEEDED, same version is already published
kjohnson3macOS 13.7.7 Ventura / arm64  OK    OK    WARNINGS    OK  UNNEEDED, same version is already published



Results for Bioconductor software packages that depend directly on package flowCore

QUICK STATSOS / ArchINSTALLBUILDCHECKBUILD BIN
nebbiolo2Linux (Ubuntu 24.04.3 LTS) / x86_64
0149
0149
011335
kjohnson3macOS 13.7.7 Ventura / arm64
0149
0248
011433
0048
Package 1/50HostnameOS / ArchINSTALLBUILDCHECKBUILD BIN
CATALYST 1.34.0  (landing page)
Helena L. Crowell
git_last_commit: 8ec200e
git_last_commit_date: 2025-10-29 10:38:04 -0500
nebbiolo2Linux (Ubuntu 24.04.3 LTS) / x86_64  OK    OK    OK  UNNEEDED, same version is already published
kjohnson3macOS 13.7.7 Ventura / arm64  OK    OK    OK    OK  UNNEEDED, same version is already published
Package 2/50HostnameOS / ArchINSTALLBUILDCHECKBUILD BIN
cmapR 1.22.0  (landing page)
Ted Natoli
git_last_commit: 7a01f1e
git_last_commit_date: 2025-10-29 10:57:41 -0500
nebbiolo2Linux (Ubuntu 24.04.3 LTS) / x86_64  OK    OK    OK  UNNEEDED, same version is already published
kjohnson3macOS 13.7.7 Ventura / arm64  OK    OK    OK    OK  UNNEEDED, same version is already published
Package 3/50HostnameOS / ArchINSTALLBUILDCHECKBUILD BIN
CONFESS 1.38.0  (landing page)
Diana LOW
git_last_commit: 5c1dbd9
git_last_commit_date: 2025-10-29 10:31:27 -0500
nebbiolo2Linux (Ubuntu 24.04.3 LTS) / x86_64  OK    OK    WARNINGS  UNNEEDED, same version is already published
kjohnson3macOS 13.7.7 Ventura / arm64  OK    OK    WARNINGS    OK  UNNEEDED, same version is already published
Package 4/50HostnameOS / ArchINSTALLBUILDCHECKBUILD BIN
cyanoFilter 1.18.0  (landing page)
Oluwafemi Olusoji
git_last_commit: e3c99a3
git_last_commit_date: 2025-10-29 11:07:55 -0500
nebbiolo2Linux (Ubuntu 24.04.3 LTS) / x86_64  OK    OK    OK  UNNEEDED, same version is already published
kjohnson3macOS 13.7.7 Ventura / arm64  OK    OK    OK    OK  UNNEEDED, same version is already published
Package 5/50HostnameOS / ArchINSTALLBUILDCHECKBUILD BIN
cydar 1.34.0  (landing page)
Aaron Lun
git_last_commit: 92bf565
git_last_commit_date: 2025-10-29 10:37:34 -0500
nebbiolo2Linux (Ubuntu 24.04.3 LTS) / x86_64  OK    OK    OK  UNNEEDED, same version is already published
kjohnson3macOS 13.7.7 Ventura / arm64  OK    OK    OK    OK  UNNEEDED, same version is already published
Package 6/50HostnameOS / ArchINSTALLBUILDCHECKBUILD BIN
CytoDx 1.30.0  (landing page)
Zicheng Hu
git_last_commit: 95e9c9a
git_last_commit_date: 2025-10-29 10:44:48 -0500
nebbiolo2Linux (Ubuntu 24.04.3 LTS) / x86_64  OK    OK    OK  UNNEEDED, same version is already published
kjohnson3macOS 13.7.7 Ventura / arm64  OK    OK    OK    OK  UNNEEDED, same version is already published
Package 7/50HostnameOS / ArchINSTALLBUILDCHECKBUILD BIN
cytofQC 1.10.0  (landing page)
Jill Lundell
git_last_commit: cec9b63
git_last_commit_date: 2025-10-29 11:21:55 -0500
nebbiolo2Linux (Ubuntu 24.04.3 LTS) / x86_64  ERROR    ERROR  skipped
kjohnson3macOS 13.7.7 Ventura / arm64  ERROR    ERROR  skippedskipped
Package 8/50HostnameOS / ArchINSTALLBUILDCHECKBUILD BIN
CytoMDS 1.6.0  (landing page)
Philippe Hauchamps
git_last_commit: 778219a
git_last_commit_date: 2025-10-29 11:28:49 -0500
nebbiolo2Linux (Ubuntu 24.04.3 LTS) / x86_64  OK    OK    OK  UNNEEDED, same version is already published
kjohnson3macOS 13.7.7 Ventura / arm64  OK    OK    OK    OK  UNNEEDED, same version is already published
Package 9/50HostnameOS / ArchINSTALLBUILDCHECKBUILD BIN
cytoMEM 1.14.0  (landing page)
Jonathan Irish
git_last_commit: e57b1e4
git_last_commit_date: 2025-10-29 11:16:07 -0500
nebbiolo2Linux (Ubuntu 24.04.3 LTS) / x86_64  OK    OK    OK  UNNEEDED, same version is already published
kjohnson3macOS 13.7.7 Ventura / arm64  OK    OK    OK    OK  UNNEEDED, same version is already published
Package 10/50HostnameOS / ArchINSTALLBUILDCHECKBUILD BIN
CytoML 2.22.0  (landing page)
Mike Jiang
git_last_commit: 8902400
git_last_commit_date: 2025-10-29 10:33:02 -0500
nebbiolo2Linux (Ubuntu 24.04.3 LTS) / x86_64  OK    OK    WARNINGS  UNNEEDED, same version is already published
kjohnson3macOS 13.7.7 Ventura / arm64  OK    OK    WARNINGS    OK  UNNEEDED, same version is already published
Package 11/50HostnameOS / ArchINSTALLBUILDCHECKBUILD BIN
CytoPipeline 1.10.0  (landing page)
Philippe Hauchamps
git_last_commit: 4cb0101
git_last_commit_date: 2025-10-29 11:20:49 -0500
nebbiolo2Linux (Ubuntu 24.04.3 LTS) / x86_64  OK    OK    OK  UNNEEDED, same version is already published
kjohnson3macOS 13.7.7 Ventura / arm64  OK    OK    OK    OK  UNNEEDED, same version is already published
Package 12/50HostnameOS / ArchINSTALLBUILDCHECKBUILD BIN
CytoPipelineGUI 1.8.0  (landing page)
Philippe Hauchamps
git_last_commit: 9a3910e
git_last_commit_date: 2025-10-29 11:25:00 -0500
nebbiolo2Linux (Ubuntu 24.04.3 LTS) / x86_64  OK    OK    OK  UNNEEDED, same version is already published
kjohnson3macOS 13.7.7 Ventura / arm64  OK    OK    OK    OK  UNNEEDED, same version is already published
Package 13/50HostnameOS / ArchINSTALLBUILDCHECKBUILD BIN
ddPCRclust 1.30.0  (landing page)
Benedikt G. Brink
git_last_commit: 79d2c75
git_last_commit_date: 2025-10-29 10:43:29 -0500
nebbiolo2Linux (Ubuntu 24.04.3 LTS) / x86_64  OK    OK    OK  UNNEEDED, same version is already published
kjohnson3macOS 13.7.7 Ventura / arm64  OK    OK    OK    OK  UNNEEDED, same version is already published
Package 14/50HostnameOS / ArchINSTALLBUILDCHECKBUILD BIN
diffcyt 1.30.0  (landing page)
Lukas M. Weber
git_last_commit: d8003b3
git_last_commit_date: 2025-10-29 10:44:30 -0500
nebbiolo2Linux (Ubuntu 24.04.3 LTS) / x86_64  OK    OK    OK  UNNEEDED, same version is already published
kjohnson3macOS 13.7.7 Ventura / arm64  OK    OK    OK    OK  UNNEEDED, same version is already published
Package 15/50HostnameOS / ArchINSTALLBUILDCHECKBUILD BIN
flowAI 1.40.0  (landing page)
Gianni Monaco
git_last_commit: 1a09303
git_last_commit_date: 2025-10-29 10:29:32 -0500
nebbiolo2Linux (Ubuntu 24.04.3 LTS) / x86_64  OK    OK    OK  UNNEEDED, same version is already published
kjohnson3macOS 13.7.7 Ventura / arm64  OK    OK    OK    OK  UNNEEDED, same version is already published
Package 16/50HostnameOS / ArchINSTALLBUILDCHECKBUILD BIN
flowBeads 1.48.0  (landing page)
Nikolas Pontikos
git_last_commit: 233be48
git_last_commit_date: 2025-10-29 10:15:03 -0500
nebbiolo2Linux (Ubuntu 24.04.3 LTS) / x86_64  OK    OK    WARNINGS  UNNEEDED, same version is already published
kjohnson3macOS 13.7.7 Ventura / arm64  OK    OK    WARNINGS    OK  UNNEEDED, same version is already published
Package 17/50HostnameOS / ArchINSTALLBUILDCHECKBUILD BIN
flowBin 1.46.0  (landing page)
Kieran O'Neill
git_last_commit: f38d785
git_last_commit_date: 2025-10-29 10:17:38 -0500
nebbiolo2Linux (Ubuntu 24.04.3 LTS) / x86_64  OK    OK    OK  UNNEEDED, same version is already published
kjohnson3macOS 13.7.7 Ventura / arm64  OK    OK    OK    OK  UNNEEDED, same version is already published
Package 18/50HostnameOS / ArchINSTALLBUILDCHECKBUILD BIN
flowCHIC 1.44.0  (landing page)
Author: Joachim Schumann
git_last_commit: bcfdd11
git_last_commit_date: 2025-10-29 10:22:16 -0500
nebbiolo2Linux (Ubuntu 24.04.3 LTS) / x86_64  OK    OK    OK  UNNEEDED, same version is already published
kjohnson3macOS 13.7.7 Ventura / arm64  OK    OK    OK    OK  UNNEEDED, same version is already published
Package 19/50HostnameOS / ArchINSTALLBUILDCHECKBUILD BIN
flowClean 1.48.0  (landing page)
Kipper Fletez-Brant
git_last_commit: e75696c
git_last_commit_date: 2025-10-29 10:19:45 -0500
nebbiolo2Linux (Ubuntu 24.04.3 LTS) / x86_64  OK    OK    WARNINGS  UNNEEDED, same version is already published
kjohnson3macOS 13.7.7 Ventura / arm64  OK    OK    WARNINGS    OK  UNNEEDED, same version is already published
Package 20/50HostnameOS / ArchINSTALLBUILDCHECKBUILD BIN
flowClust 3.48.0  (landing page)
Greg Finak , Mike Jiang
git_last_commit: b1ac58b
git_last_commit_date: 2025-10-29 10:00:22 -0500
nebbiolo2Linux (Ubuntu 24.04.3 LTS) / x86_64  OK    OK    WARNINGS  UNNEEDED, same version is already published
kjohnson3macOS 13.7.7 Ventura / arm64  OK    OK    WARNINGS    OK  UNNEEDED, same version is already published
Package 21/50HostnameOS / ArchINSTALLBUILDCHECKBUILD BIN
flowCut 1.20.0  (landing page)
Justin Meskas
git_last_commit: f67bd40
git_last_commit_date: 2025-10-29 10:59:45 -0500
nebbiolo2Linux (Ubuntu 24.04.3 LTS) / x86_64  OK    OK    OK  UNNEEDED, same version is already published
kjohnson3macOS 13.7.7 Ventura / arm64  OK    OK    OK    OK  UNNEEDED, same version is already published
Package 22/50HostnameOS / ArchINSTALLBUILDCHECKBUILD BIN
flowDensity 1.44.0  (landing page)
Mehrnoush Malek
git_last_commit: 4e0f8ef
git_last_commit_date: 2025-10-29 10:20:08 -0500
nebbiolo2Linux (Ubuntu 24.04.3 LTS) / x86_64  OK    OK    WARNINGS  UNNEEDED, same version is already published
kjohnson3macOS 13.7.7 Ventura / arm64  OK    OK    WARNINGS    OK  UNNEEDED, same version is already published
Package 23/50HostnameOS / ArchINSTALLBUILDCHECKBUILD BIN
flowFP 1.68.0  (landing page)
Herb Holyst , Wade Rogers
git_last_commit: d48aa8b
git_last_commit_date: 2025-10-29 10:03:05 -0500
nebbiolo2Linux (Ubuntu 24.04.3 LTS) / x86_64  OK    OK    OK  UNNEEDED, same version is already published
kjohnson3macOS 13.7.7 Ventura / arm64  OK    OK    WARNINGS    OK  UNNEEDED, same version is already published
Package 24/50HostnameOS / ArchINSTALLBUILDCHECKBUILD BIN
flowGate 1.10.0  (landing page)
Andrew Wight
git_last_commit: 8028a04
git_last_commit_date: 2025-10-29 11:21:45 -0500
nebbiolo2Linux (Ubuntu 24.04.3 LTS) / x86_64  OK    OK    OK  UNNEEDED, same version is already published
kjohnson3macOS 13.7.7 Ventura / arm64  OK    OK    OK    OK  UNNEEDED, same version is already published
Package 25/50HostnameOS / ArchINSTALLBUILDCHECKBUILD BIN
flowMatch 1.46.0  (landing page)
Ariful Azad
git_last_commit: 217b75f
git_last_commit_date: 2025-10-29 10:17:27 -0500
nebbiolo2Linux (Ubuntu 24.04.3 LTS) / x86_64  OK    OK    OK  UNNEEDED, same version is already published
kjohnson3macOS 13.7.7 Ventura / arm64  OK    OK    OK    OK  UNNEEDED, same version is already published
Package 26/50HostnameOS / ArchINSTALLBUILDCHECKBUILD BIN
flowMeans 1.70.0  (landing page)
Nima Aghaeepour
git_last_commit: 27e9466
git_last_commit_date: 2025-10-29 10:04:53 -0500
nebbiolo2Linux (Ubuntu 24.04.3 LTS) / x86_64  OK    OK    OK  UNNEEDED, same version is already published
kjohnson3macOS 13.7.7 Ventura / arm64  OK    OK    OK    OK  UNNEEDED, same version is already published
Package 27/50HostnameOS / ArchINSTALLBUILDCHECKBUILD BIN
flowMerge 2.58.0  (landing page)
Greg Finak
git_last_commit: 483d2da
git_last_commit_date: 2025-10-29 10:03:02 -0500
nebbiolo2Linux (Ubuntu 24.04.3 LTS) / x86_64  OK    OK    WARNINGS  UNNEEDED, same version is already published
kjohnson3macOS 13.7.7 Ventura / arm64  OK    OK    WARNINGS    OK  UNNEEDED, same version is already published
Package 28/50HostnameOS / ArchINSTALLBUILDCHECKBUILD BIN
flowPloidy 1.36.0  (landing page)
Tyler Smith
git_last_commit: 671b70e
git_last_commit_date: 2025-10-29 10:34:52 -0500
nebbiolo2Linux (Ubuntu 24.04.3 LTS) / x86_64  OK    OK    OK  UNNEEDED, same version is already published
kjohnson3macOS 13.7.7 Ventura / arm64  OK    ERROR  skippedskipped
Package 29/50HostnameOS / ArchINSTALLBUILDCHECKBUILD BIN
FlowSOM 2.18.0  (landing page)
Sofie Van Gassen
git_last_commit: b942a41
git_last_commit_date: 2025-10-29 10:23:19 -0500
nebbiolo2Linux (Ubuntu 24.04.3 LTS) / x86_64  OK    OK    OK  UNNEEDED, same version is already published
kjohnson3macOS 13.7.7 Ventura / arm64  OK    OK    OK    OK  UNNEEDED, same version is already published
Package 30/50HostnameOS / ArchINSTALLBUILDCHECKBUILD BIN
flowSpecs 1.24.0  (landing page)
Jakob Theorell
git_last_commit: 2da6fa3
git_last_commit_date: 2025-10-29 10:54:23 -0500
nebbiolo2Linux (Ubuntu 24.04.3 LTS) / x86_64  OK    OK    OK  UNNEEDED, same version is already published
kjohnson3macOS 13.7.7 Ventura / arm64  OK    OK    OK    OK  UNNEEDED, same version is already published
Package 31/50HostnameOS / ArchINSTALLBUILDCHECKBUILD BIN
flowStats 4.22.0  (landing page)
Greg Finak , Mike Jiang
git_last_commit: 3f49777
git_last_commit_date: 2025-10-29 10:02:44 -0500
nebbiolo2Linux (Ubuntu 24.04.3 LTS) / x86_64  OK    OK    WARNINGS  UNNEEDED, same version is already published
kjohnson3macOS 13.7.7 Ventura / arm64  OK    OK    WARNINGS    OK  UNNEEDED, same version is already published
Package 32/50HostnameOS / ArchINSTALLBUILDCHECKBUILD BIN
flowTime 1.34.0  (landing page)
R. Clay Wright
git_last_commit: c91aa9b
git_last_commit_date: 2025-10-29 10:37:40 -0500
nebbiolo2Linux (Ubuntu 24.04.3 LTS) / x86_64  OK    OK    OK  UNNEEDED, same version is already published
kjohnson3macOS 13.7.7 Ventura / arm64  OK    OK    OK    OK  UNNEEDED, same version is already published
Package 33/50HostnameOS / ArchINSTALLBUILDCHECKBUILD BIN
flowTrans 1.62.0  (landing page)
Greg Finak
git_last_commit: 0a2fdd0
git_last_commit_date: 2025-10-29 10:05:05 -0500
nebbiolo2Linux (Ubuntu 24.04.3 LTS) / x86_64  OK    OK    OK  UNNEEDED, same version is already published
kjohnson3macOS 13.7.7 Ventura / arm64  OK    OK    OK    OK  UNNEEDED, same version is already published
Package 34/50HostnameOS / ArchINSTALLBUILDCHECKBUILD BIN
flowViz 1.74.0  (landing page)
Mike Jiang
git_last_commit: e737e04
git_last_commit_date: 2025-10-29 09:58:41 -0500
nebbiolo2Linux (Ubuntu 24.04.3 LTS) / x86_64  OK    OK    OK  UNNEEDED, same version is already published
kjohnson3macOS 13.7.7 Ventura / arm64  OK    OK    OK    OK  UNNEEDED, same version is already published
Package 35/50HostnameOS / ArchINSTALLBUILDCHECKBUILD BIN
flowVS 1.42.0  (landing page)
Ariful Azad
git_last_commit: 9e2d194
git_last_commit_date: 2025-10-29 11:08:30 -0500
nebbiolo2Linux (Ubuntu 24.04.3 LTS) / x86_64  OK    OK    OK  UNNEEDED, same version is already published
kjohnson3macOS 13.7.7 Ventura / arm64  OK    OK    OK    OK  UNNEEDED, same version is already published
Package 36/50HostnameOS / ArchINSTALLBUILDCHECKBUILD BIN
flowWorkspace 4.22.0  (landing page)
Greg Finak , Mike Jiang
git_last_commit: e1edb9f
git_last_commit_date: 2025-10-29 10:07:43 -0500
nebbiolo2Linux (Ubuntu 24.04.3 LTS) / x86_64  OK    OK    WARNINGS  UNNEEDED, same version is already published
kjohnson3macOS 13.7.7 Ventura / arm64  OK    OK    WARNINGS    OK  UNNEEDED, same version is already published
Package 37/50HostnameOS / ArchINSTALLBUILDCHECKBUILD BIN
GateFinder 1.30.0  (landing page)
Nima Aghaeepour
git_last_commit: 2102af4
git_last_commit_date: 2025-10-29 10:44:12 -0500
nebbiolo2Linux (Ubuntu 24.04.3 LTS) / x86_64  OK    OK    WARNINGS  UNNEEDED, same version is already published
kjohnson3macOS 13.7.7 Ventura / arm64  OK    OK    WARNINGS    OK  UNNEEDED, same version is already published
Package 38/50HostnameOS / ArchINSTALLBUILDCHECKBUILD BIN
ggcyto 1.38.0  (landing page)
Mike Jiang
git_last_commit: af58dd0
git_last_commit_date: 2025-10-29 10:29:24 -0500
nebbiolo2Linux (Ubuntu 24.04.3 LTS) / x86_64  OK    OK    WARNINGS  UNNEEDED, same version is already published
kjohnson3macOS 13.7.7 Ventura / arm64  OK    OK    WARNINGS    OK  UNNEEDED, same version is already published
Package 39/50HostnameOS / ArchINSTALLBUILDCHECKBUILD BIN
immunoClust 1.42.0  (landing page)
Till Soerensen
git_last_commit: 3c4237c
git_last_commit_date: 2025-10-29 10:24:29 -0500
nebbiolo2Linux (Ubuntu 24.04.3 LTS) / x86_64  OK    OK    OK  UNNEEDED, same version is already published
kjohnson3macOS 13.7.7 Ventura / arm64  OK    OK    OK    OK  UNNEEDED, same version is already published
Package 40/50HostnameOS / ArchINSTALLBUILDCHECKBUILD BIN
infinityFlow 1.20.0  (landing page)
Etienne Becht
git_last_commit: 0cce204
git_last_commit_date: 2025-10-29 11:00:49 -0500
nebbiolo2Linux (Ubuntu 24.04.3 LTS) / x86_64  OK    OK    OK  UNNEEDED, same version is already published
kjohnson3macOS 13.7.7 Ventura / arm64  OK    OK    OK    OK  UNNEEDED, same version is already published
Package 41/50HostnameOS / ArchINSTALLBUILDCHECKBUILD BIN
MAPFX 1.6.0  (landing page)
Hsiao-Chi Liao
git_last_commit: ca3ce0f
git_last_commit_date: 2025-10-29 11:30:04 -0500
nebbiolo2Linux (Ubuntu 24.04.3 LTS) / x86_64  OK    OK    OK  UNNEEDED, same version is already published
kjohnson3macOS 13.7.7 Ventura / arm64  OK    OK    OK    OK  UNNEEDED, same version is already published
Package 42/50HostnameOS / ArchINSTALLBUILDCHECKBUILD BIN
MetaCyto 1.32.0  (landing page)
Zicheng Hu
git_last_commit: f3c39a8
git_last_commit_date: 2025-10-29 10:42:00 -0500
nebbiolo2Linux (Ubuntu 24.04.3 LTS) / x86_64  OK    OK    OK  UNNEEDED, same version is already published
kjohnson3macOS 13.7.7 Ventura / arm64  OK    OK    OK    OK  UNNEEDED, same version is already published
Package 43/50HostnameOS / ArchINSTALLBUILDCHECKBUILD BIN
ncdfFlow 2.56.0  (landing page)
Mike Jiang
git_last_commit: 8e7c415
git_last_commit_date: 2025-10-29 10:09:38 -0500
nebbiolo2Linux (Ubuntu 24.04.3 LTS) / x86_64  OK    OK    WARNINGS  UNNEEDED, same version is already published
kjohnson3macOS 13.7.7 Ventura / arm64  OK    OK    WARNINGS    OK  UNNEEDED, same version is already published
Package 44/50HostnameOS / ArchINSTALLBUILDCHECKBUILD BIN
openCyto 2.22.0  (landing page)
Mike Jiang
git_last_commit: bbeacaf
git_last_commit_date: 2025-10-29 10:16:53 -0500
nebbiolo2Linux (Ubuntu 24.04.3 LTS) / x86_64  OK    OK    WARNINGS  UNNEEDED, same version is already published
kjohnson3macOS 13.7.7 Ventura / arm64  OK    OK    WARNINGS    OK  UNNEEDED, same version is already published
Package 45/50HostnameOS / ArchINSTALLBUILDCHECKBUILD BIN
PeacoQC 1.20.0  (landing page)
Annelies Emmaneel
git_last_commit: 0408e9f
git_last_commit_date: 2025-10-29 11:00:07 -0500
nebbiolo2Linux (Ubuntu 24.04.3 LTS) / x86_64  OK    OK    OK  UNNEEDED, same version is already published
kjohnson3macOS 13.7.7 Ventura / arm64  OK    OK    OK    OK  UNNEEDED, same version is already published
Package 46/50HostnameOS / ArchINSTALLBUILDCHECKBUILD BIN
scDataviz 1.20.0  (landing page)
Kevin Blighe
git_last_commit: 6f0efdb
git_last_commit_date: 2025-10-29 11:00:46 -0500
nebbiolo2Linux (Ubuntu 24.04.3 LTS) / x86_64  OK    OK    OK  UNNEEDED, same version is already published
kjohnson3macOS 13.7.7 Ventura / arm64  OK    OK    OK    OK  UNNEEDED, same version is already published
Package 47/50HostnameOS / ArchINSTALLBUILDCHECKBUILD BIN
scifer 1.12.0  (landing page)
Rodrigo Arcoverde Cerveira
git_last_commit: e09cc12
git_last_commit_date: 2025-10-29 11:18:43 -0500
nebbiolo2Linux (Ubuntu 24.04.3 LTS) / x86_64  OK    OK    OK  UNNEEDED, same version is already published
kjohnson3macOS 13.7.7 Ventura / arm64  OK    OK    OK    OK  UNNEEDED, same version is already published
Package 48/50HostnameOS / ArchINSTALLBUILDCHECKBUILD BIN
Sconify 1.30.0  (landing page)
Tyler J Burns
git_last_commit: 615688e
git_last_commit_date: 2025-10-29 10:44:03 -0500
nebbiolo2Linux (Ubuntu 24.04.3 LTS) / x86_64  OK    OK    OK  UNNEEDED, same version is already published
kjohnson3macOS 13.7.7 Ventura / arm64  OK    OK    OK    OK  UNNEEDED, same version is already published
Package 49/50HostnameOS / ArchINSTALLBUILDCHECKBUILD BIN
tidyFlowCore 1.4.0  (landing page)
Timothy Keyes
git_last_commit: 1366b28
git_last_commit_date: 2025-10-29 11:30:26 -0500
nebbiolo2Linux (Ubuntu 24.04.3 LTS) / x86_64  OK    OK    OK  UNNEEDED, same version is already published
kjohnson3macOS 13.7.7 Ventura / arm64  OK    OK    OK    OK  UNNEEDED, same version is already published
Package 50/50HostnameOS / ArchINSTALLBUILDCHECKBUILD BIN
tidytof 1.4.0  (landing page)
Timothy Keyes
git_last_commit: 699191c
git_last_commit_date: 2025-10-29 11:31:42 -0500
nebbiolo2Linux (Ubuntu 24.04.3 LTS) / x86_64  OK    OK    ERROR  
kjohnson3macOS 13.7.7 Ventura / arm64  OK    OK    ERROR    OK