Back to Multiple platform build/check report for BioC 3.22:   simplified   long
ABCDE[F]GHIJKLMNOPQRSTUVWXYZ

This page was generated on 2025-11-06 12:00 -0500 (Thu, 06 Nov 2025).

HostnameOSArch (*)R versionInstalled pkgs
nebbiolo2Linux (Ubuntu 24.04.3 LTS)x86_644.5.1 Patched (2025-08-23 r88802) -- "Great Square Root" 4902
kjohnson3macOS 13.7.7 Venturaarm644.5.1 Patched (2025-09-10 r88807) -- "Great Square Root" 4638
Click on any hostname to see more info about the system (e.g. compilers)      (*) as reported by 'uname -p', except on Windows and Mac OS X

Package 765/2361HostnameOS / ArchINSTALLBUILDCHECKBUILD BIN
FlowSOM 2.18.0  (landing page)
Sofie Van Gassen
Snapshot Date: 2025-11-05 13:45 -0500 (Wed, 05 Nov 2025)
git_url: https://git.bioconductor.org/packages/FlowSOM
git_branch: RELEASE_3_22
git_last_commit: b942a41
git_last_commit_date: 2025-10-29 10:23:19 -0500 (Wed, 29 Oct 2025)
nebbiolo2Linux (Ubuntu 24.04.3 LTS) / x86_64  OK    OK    OK  UNNEEDED, same version is already published
kjohnson3macOS 13.7.7 Ventura / arm64  OK    OK    OK    OK  UNNEEDED, same version is already published


CHECK results for FlowSOM on kjohnson3

To the developers/maintainers of the FlowSOM package:
- Allow up to 24 hours (and sometimes 48 hours) for your latest push to git@git.bioconductor.org:packages/FlowSOM.git to reflect on this report. See Troubleshooting Build Report for more information.
- Use the following Renviron settings to reproduce errors and warnings.
- If 'R CMD check' started to fail recently on the Linux builder(s) over a missing dependency, add the missing dependency to 'Suggests:' in your DESCRIPTION file. See Renviron.bioc for more information.

raw results


Summary

Package: FlowSOM
Version: 2.18.0
Command: /Library/Frameworks/R.framework/Resources/bin/R CMD check --install=check:FlowSOM.install-out.txt --library=/Library/Frameworks/R.framework/Resources/library --no-vignettes --timings FlowSOM_2.18.0.tar.gz
StartedAt: 2025-11-05 20:19:10 -0500 (Wed, 05 Nov 2025)
EndedAt: 2025-11-05 20:22:47 -0500 (Wed, 05 Nov 2025)
EllapsedTime: 216.6 seconds
RetCode: 0
Status:   OK  
CheckDir: FlowSOM.Rcheck
Warnings: 0

Command output

##############################################################################
##############################################################################
###
### Running command:
###
###   /Library/Frameworks/R.framework/Resources/bin/R CMD check --install=check:FlowSOM.install-out.txt --library=/Library/Frameworks/R.framework/Resources/library --no-vignettes --timings FlowSOM_2.18.0.tar.gz
###
##############################################################################
##############################################################################


* using log directory ‘/Users/biocbuild/bbs-3.22-bioc/meat/FlowSOM.Rcheck’
* using R version 4.5.1 Patched (2025-09-10 r88807)
* using platform: aarch64-apple-darwin20
* R was compiled by
    Apple clang version 16.0.0 (clang-1600.0.26.6)
    GNU Fortran (GCC) 14.2.0
* running under: macOS Ventura 13.7.7
* using session charset: UTF-8
* using option ‘--no-vignettes’
* checking for file ‘FlowSOM/DESCRIPTION’ ... OK
* this is package ‘FlowSOM’ version ‘2.18.0’
* package encoding: UTF-8
* checking package namespace information ... OK
* checking package dependencies ... OK
* checking if this is a source package ... OK
* checking if there is a namespace ... OK
* checking for hidden files and directories ... OK
* checking for portable file names ... OK
* checking for sufficient/correct file permissions ... OK
* checking whether package ‘FlowSOM’ can be installed ... OK
* used C compiler: ‘Apple clang version 15.0.0 (clang-1500.1.0.2.5)’
* used SDK: ‘MacOSX11.3.1.sdk’
* checking installed package size ... OK
* checking package directory ... OK
* checking ‘build’ directory ... OK
* checking DESCRIPTION meta-information ... OK
* checking top-level files ... OK
* checking for left-over files ... OK
* checking index information ... OK
* checking package subdirectories ... OK
* checking code files for non-ASCII characters ... OK
* checking R files for syntax errors ... OK
* checking whether the package can be loaded ... OK
* checking whether the package can be loaded with stated dependencies ... OK
* checking whether the package can be unloaded cleanly ... OK
* checking whether the namespace can be loaded with stated dependencies ... OK
* checking whether the namespace can be unloaded cleanly ... OK
* checking whether startup messages can be suppressed ... OK
* checking dependencies in R code ... OK
* checking S3 generic/method consistency ... OK
* checking replacement functions ... OK
* checking foreign function calls ... OK
* checking R code for possible problems ... OK
* checking Rd files ... NOTE
checkRd: (-1) PlotDimRed.Rd:55: Lost braces
    55 | of the dimred default = function(dimred){dimred$Y}.}
       |                                         ^
* checking Rd metadata ... OK
* checking Rd cross-references ... NOTE
Non-topic package-anchored link(s) in Rd file 'pipe.Rd':
  ‘[magrittr:pipe]{%>%}’

See section 'Cross-references' in the 'Writing R Extensions' manual.
* checking for missing documentation entries ... OK
* checking for code/documentation mismatches ... OK
* checking Rd \usage sections ... OK
* checking Rd contents ... OK
* checking for unstated dependencies in examples ... OK
* checking line endings in C/C++/Fortran sources/headers ... OK
* checking compiled code ... NOTE
Note: information on .o files is not available
* checking sizes of PDF files under ‘inst/doc’ ... OK
* checking files in ‘vignettes’ ... OK
* checking examples ... OK
Examples with CPU (user + system) or elapsed time > 5s
                     user system elapsed
FlowSOMmary        19.237  1.147  20.537
PlotDimRed         16.732  1.790  18.669
PlotOutliers        9.518  0.313   9.856
PlotMarker          6.397  0.492   6.907
UpdateMetaclusters  5.728  0.542   6.301
PlotStars           4.949  0.523   5.579
PlotGroups          4.503  0.566   5.337
* checking for unstated dependencies in vignettes ... OK
* checking package vignettes ... OK
* checking running R code from vignettes ... SKIPPED
* checking re-building of vignette outputs ... SKIPPED
* checking PDF version of manual ... OK
* DONE

Status: 3 NOTEs
See
  ‘/Users/biocbuild/bbs-3.22-bioc/meat/FlowSOM.Rcheck/00check.log’
for details.


Installation output

FlowSOM.Rcheck/00install.out

##############################################################################
##############################################################################
###
### Running command:
###
###   /Library/Frameworks/R.framework/Resources/bin/R CMD INSTALL FlowSOM
###
##############################################################################
##############################################################################


* installing to library ‘/Library/Frameworks/R.framework/Versions/4.5-arm64/Resources/library’
* installing *source* package ‘FlowSOM’ ...
** this is package ‘FlowSOM’ version ‘2.18.0’
** using staged installation
** libs
using C compiler: ‘Apple clang version 15.0.0 (clang-1500.1.0.2.5)’
using SDK: ‘MacOSX11.3.1.sdk’
clang -arch arm64 -std=gnu2x -I"/Library/Frameworks/R.framework/Resources/include" -DNDEBUG   -I/opt/R/arm64/include    -fPIC  -falign-functions=64 -Wall -g -O2  -c som.c -o som.o
clang -arch arm64 -std=gnu2x -dynamiclib -Wl,-headerpad_max_install_names -undefined dynamic_lookup -L/Library/Frameworks/R.framework/Resources/lib -L/opt/R/arm64/lib -o FlowSOM.so som.o -F/Library/Frameworks/R.framework/.. -framework R
installing to /Library/Frameworks/R.framework/Versions/4.5-arm64/Resources/library/00LOCK-FlowSOM/00new/FlowSOM/libs
** R
** inst
** byte-compile and prepare package for lazy loading
** help
*** installing help indices
** building package indices
** installing vignettes
** testing if installed package can be loaded from temporary location
** checking absolute paths in shared objects and dynamic libraries
** testing if installed package can be loaded from final location
** testing if installed package keeps a record of temporary installation path
* DONE (FlowSOM)

Tests output


Example timings

FlowSOM.Rcheck/FlowSOM-Ex.timings

nameusersystemelapsed
AddAnnotation3.0260.1843.276
AggregateFlowFrames0.0370.0030.040
BuildMST0.5600.0610.634
BuildSOM0.5270.0460.580
CountGroups2.1470.2182.377
FMeasure000
FlowSOM4.4430.2584.712
FlowSOMSubset1.6400.1691.824
FlowSOMmary19.237 1.14720.537
GetChannels0.0130.0020.016
GetClusterMFIs1.6700.2471.930
GetClusterPercentagesPositive1.6900.2902.027
GetClusters1.7090.2792.050
GetCounts1.6430.2501.934
GetFeatures2.1180.1622.312
GetFlowJoLabels2.7990.3293.141
GetMFIs1.7170.2441.969
GetMarkers0.0130.0020.014
GetMetaclusterCVs1.8040.2672.072
GetMetaclusterMFIs1.7460.3002.048
GetMetaclusterPercentagesPositive1.7400.2872.028
GetMetaclusters1.7070.2711.983
GetPercentages1.6970.2481.951
GroupStats4.4790.4444.964
Initialize_KWSP0.0020.0000.002
Initialize_PCA0.0000.0000.001
MetaClustering1.2260.1951.428
MetaclusterCVs1.7600.2922.119
MetaclusterMFIs1.9110.3902.352
NClusters1.9160.3532.272
NMetaclusters1.9140.3382.265
NewData1.4850.1371.649
Plot2DScatters3.3620.3083.710
PlotCenters0.4350.0680.513
PlotClusters2D0.4120.0640.476
PlotDimRed16.732 1.79018.669
PlotFileScatters0.3590.0060.367
PlotFlowSOM2.2750.3752.796
PlotGroups4.5030.5665.337
PlotLabels2.1360.3302.483
PlotManualBars2.9210.3533.275
PlotMarker6.3970.4926.907
PlotNode2.5560.3612.943
PlotNumbers2.6560.3483.033
PlotOutliers9.5180.3139.856
PlotOverview2D2.0880.2832.382
PlotPies2.9290.3253.258
PlotSD1.0140.1211.144
PlotStars4.9490.5235.579
PlotVariable2.5590.3172.928
Purity0.0010.0000.001
QueryMultiple3.4760.2973.814
QueryStarPlot2.6630.2152.889
ReadInput1.0800.2711.354
SaveClustersToFCS2.0830.3992.484
TestOutliers1.9170.4112.382
UpdateMetaclusters5.7280.5426.301
UpdateNodeSize1.9960.0912.090
get_channels0.0130.0020.015
get_markers0.0130.0010.014
metaClustering_consensus1.0360.2661.311
plotStarLegend0.1830.0210.205
print.FlowSOM1.7730.3442.120
query_multiple3.5290.2963.881