| Back to Multiple platform build/check report for BioC 3.21: simplified long | 
 | 
This page was generated on 2025-10-16 11:38 -0400 (Thu, 16 Oct 2025).
| Hostname | OS | Arch (*) | R version | Installed pkgs | 
|---|---|---|---|---|
| nebbiolo1 | Linux (Ubuntu 24.04.3 LTS) | x86_64 | 4.5.1 (2025-06-13) -- "Great Square Root" | 4833 | 
| merida1 | macOS 12.7.6 Monterey | x86_64 | 4.5.1 RC (2025-06-05 r88288) -- "Great Square Root" | 4614 | 
| kjohnson1 | macOS 13.7.5 Ventura | arm64 | 4.5.1 Patched (2025-06-14 r88325) -- "Great Square Root" | 4555 | 
| kunpeng2 | Linux (openEuler 24.03 LTS) | aarch64 | R Under development (unstable) (2025-02-19 r87757) -- "Unsuffered Consequences" | 4586 | 
| Click on any hostname to see more info about the system (e.g. compilers) (*) as reported by 'uname -p', except on Windows and Mac OS X | ||||
| Package 754/2341 | Hostname | OS / Arch | INSTALL | BUILD | CHECK | BUILD BIN | ||||||||
| flowPloidy 1.34.0  (landing page) Tyler Smith 
 | nebbiolo1 | Linux (Ubuntu 24.04.3 LTS) / x86_64 | OK | OK | OK |  | ||||||||
| merida1 | macOS 12.7.6 Monterey / x86_64 | OK | OK | OK | OK |  | ||||||||
| kjohnson1 | macOS 13.7.5 Ventura / arm64 | OK | ERROR | skipped | skipped | |||||||||
| kunpeng2 | Linux (openEuler 24.03 LTS) / aarch64 | OK | OK | OK | ||||||||||
| To the developers/maintainers of the flowPloidy package: - Allow up to 24 hours (and sometimes 48 hours) for your latest push to git@git.bioconductor.org:packages/flowPloidy.git to reflect on this report. See Troubleshooting Build Report for more information. - Use the following Renviron settings to reproduce errors and warnings. - If 'R CMD check' started to fail recently on the Linux builder(s) over a missing dependency, add the missing dependency to 'Suggests:' in your DESCRIPTION file. See Renviron.bioc for more information. | 
| Package: flowPloidy | 
| Version: 1.34.0 | 
| Command: /home/biocbuild/bbs-3.21-bioc/R/bin/R CMD check --install=check:flowPloidy.install-out.txt --library=/home/biocbuild/bbs-3.21-bioc/R/site-library --timings flowPloidy_1.34.0.tar.gz | 
| StartedAt: 2025-10-15 23:19:27 -0400 (Wed, 15 Oct 2025) | 
| EndedAt: 2025-10-15 23:20:48 -0400 (Wed, 15 Oct 2025) | 
| EllapsedTime: 81.2 seconds | 
| RetCode: 0 | 
| Status: OK | 
| CheckDir: flowPloidy.Rcheck | 
| Warnings: 0 | 
##############################################################################
##############################################################################
###
### Running command:
###
###   /home/biocbuild/bbs-3.21-bioc/R/bin/R CMD check --install=check:flowPloidy.install-out.txt --library=/home/biocbuild/bbs-3.21-bioc/R/site-library --timings flowPloidy_1.34.0.tar.gz
###
##############################################################################
##############################################################################
* using log directory ‘/home/biocbuild/bbs-3.21-bioc/meat/flowPloidy.Rcheck’
* using R version 4.5.1 (2025-06-13)
* using platform: x86_64-pc-linux-gnu
* R was compiled by
    gcc (Ubuntu 13.3.0-6ubuntu2~24.04) 13.3.0
    GNU Fortran (Ubuntu 13.3.0-6ubuntu2~24.04) 13.3.0
* running under: Ubuntu 24.04.3 LTS
* using session charset: UTF-8
* checking for file ‘flowPloidy/DESCRIPTION’ ... OK
* this is package ‘flowPloidy’ version ‘1.34.0’
* package encoding: UTF-8
* checking package namespace information ... OK
* checking package dependencies ... OK
* checking if this is a source package ... OK
* checking if there is a namespace ... OK
* checking for hidden files and directories ... OK
* checking for portable file names ... OK
* checking for sufficient/correct file permissions ... OK
* checking whether package ‘flowPloidy’ can be installed ... OK
* checking installed package size ... OK
* checking package directory ... OK
* checking ‘build’ directory ... OK
* checking DESCRIPTION meta-information ... OK
* checking top-level files ... OK
* checking for left-over files ... OK
* checking index information ... OK
* checking package subdirectories ... OK
* checking code files for non-ASCII characters ... OK
* checking R files for syntax errors ... OK
* checking whether the package can be loaded ... OK
* checking whether the package can be loaded with stated dependencies ... OK
* checking whether the package can be unloaded cleanly ... OK
* checking whether the namespace can be loaded with stated dependencies ... OK
* checking whether the namespace can be unloaded cleanly ... OK
* checking loading without being on the library search path ... OK
* checking dependencies in R code ... OK
* checking S3 generic/method consistency ... OK
* checking replacement functions ... OK
* checking foreign function calls ... OK
* checking R code for possible problems ... OK
* checking Rd files ... OK
* checking Rd metadata ... OK
* checking Rd cross-references ... NOTE
Found the following Rd file(s) with Rd \link{} targets missing package
anchors:
  FlowHist.Rd: read.FCS, flowFrame
  fhDoCV.Rd: deltaMethod
  fhDoNLS.Rd: nlsLM
  findPeaks.Rd: runmax, runmean
  viewFlowChannels.Rd: read.FCS
Please provide package anchors for all Rd \link{} targets not in the
package itself and the base packages.
* checking for missing documentation entries ... OK
* checking for code/documentation mismatches ... OK
* checking Rd \usage sections ... OK
* checking Rd contents ... OK
* checking for unstated dependencies in examples ... OK
* checking files in ‘vignettes’ ... OK
* checking examples ... OK
* checking for unstated dependencies in ‘tests’ ... OK
* checking tests ...
  Running ‘testthat.R’
 OK
* checking for unstated dependencies in vignettes ... OK
* checking package vignettes ... OK
* checking re-building of vignette outputs ... OK
* checking PDF version of manual ... OK
* DONE
Status: 1 NOTE
See
  ‘/home/biocbuild/bbs-3.21-bioc/meat/flowPloidy.Rcheck/00check.log’
for details.
flowPloidy.Rcheck/00install.out
############################################################################## ############################################################################## ### ### Running command: ### ### /home/biocbuild/bbs-3.21-bioc/R/bin/R CMD INSTALL flowPloidy ### ############################################################################## ############################################################################## * installing to library ‘/home/biocbuild/bbs-3.21-bioc/R/site-library’ * installing *source* package ‘flowPloidy’ ... ** this is package ‘flowPloidy’ version ‘1.34.0’ ** using staged installation ** R ** inst ** byte-compile and prepare package for lazy loading ** help *** installing help indices ** building package indices ** installing vignettes ** testing if installed package can be loaded from temporary location ** testing if installed package can be loaded from final location ** testing if installed package keeps a record of temporary installation path * DONE (flowPloidy)
flowPloidy.Rcheck/tests/testthat.Rout
R version 4.5.1 (2025-06-13) -- "Great Square Root"
Copyright (C) 2025 The R Foundation for Statistical Computing
Platform: x86_64-pc-linux-gnu
R is free software and comes with ABSOLUTELY NO WARRANTY.
You are welcome to redistribute it under certain conditions.
Type 'license()' or 'licence()' for distribution details.
R is a collaborative project with many contributors.
Type 'contributors()' for more information and
'citation()' on how to cite R or R packages in publications.
Type 'demo()' for some demos, 'help()' for on-line help, or
'help.start()' for an HTML browser interface to help.
Type 'q()' to quit R.
> library(testthat)
> library(flowPloidy)
> 
> test_check("flowPloidy")
FlowHist object '188-15.LMD'
channel: FL3.INT.LIN
2 samples
bins: 256
linearity: variable
debris: SC
7 model components: a1, a2, a_s, b1, b_s, SC, AG
12 parameters: a1P, a_mean, a_stddev, a2P, linearity, a_sP, b1P, b_mean, b_stddev, b_sP, SCaP, AP
5 special parameters: xx, SCvals, DBvals, TRvals, QDvals
Model fit
Analysis
========
Counts
------
 a1_count  a2_count a_s_count  b1_count b_s_count 
  1442.99    336.58      0.00   2820.64    405.87 
Peak Sizes
----------
a_mean b_mean 
 99.04 136.12 
CVs
---
a_CV b_CV 
 2.2  2.0 
RCS: 1.589 
FlowHist object '222.LMD'
channel: FL3.INT.LIN
2 samples
bins: 256
linearity: variable
debris: SC
8 model components: a1, a2, a_s, b1, b2, b_s, SC, AG
13 parameters: a1P, a_mean, a_stddev, a2P, linearity, a_sP, b1P, b_mean, b_stddev, b2P, b_sP, SCaP, AP
5 special parameters: xx, SCvals, DBvals, TRvals, QDvals
Model fitting not complete
RCS: NA 
FlowHist object '240+S.LMD'
channel: FL3.INT.LIN
2 samples
bins: 256
linearity: variable
debris: MC
7 model components: a1, a2, a_s, b1, b_s, MC, AG
13 parameters: a1P, a_mean, a_stddev, a2P, linearity, a_sP, b1P, b_mean, b_stddev, b_sP, MCaP, k, AP
5 special parameters: xx, MCvals, DBvals, TRvals, QDvals
Model fit
Analysis
========
Counts
------
 a1_count  a2_count a_s_count  b1_count b_s_count 
   664.23      0.00    195.73   3269.65      0.00 
Peak Sizes
----------
a_mean b_mean 
 77.10 160.79 
CVs
---
a_CV b_CV 
 4.8  7.7 
RCS: 2.22 
FlowHist object '08.328'
channel: FL2.A
2 samples
bins: 256
linearity: variable
debris: SC
0 model components: 
0 parameters: 
0 special parameters: 
Model fitting not complete
RCS: NA 
[ FAIL 0 | WARN 0 | SKIP 0 | PASS 26 ]
> 
> proc.time()
   user  system elapsed 
  3.017   0.211   3.216 
flowPloidy.Rcheck/flowPloidy-Ex.timings
| name | user | system | elapsed | |
| DebrisModels | 0.001 | 0.000 | 0.000 | |
| FlowHist | 2.074 | 0.081 | 2.186 | |
| FlowStandards | 0.115 | 0.002 | 0.117 | |
| ModelComponent | 0.001 | 0.002 | 0.003 | |
| browseFlowHist | 1.915 | 0.023 | 1.943 | |
| fhAccessors | 0.115 | 0.001 | 0.117 | |
| fhAnalyze | 0.185 | 0.001 | 0.189 | |
| findPeaks | 0.000 | 0.001 | 0.001 | |
| pickInit | 0.150 | 0.011 | 0.164 | |
| plotFH | 0.115 | 0.020 | 0.136 | |
| setBins | 0.165 | 0.004 | 0.169 | |
| tabulateFlowHist | 0.187 | 0.000 | 0.188 | |
| updateFlowHist | 0.245 | 0.002 | 0.246 | |
| viewFlowChannels | 0.035 | 0.001 | 0.036 | |