| Back to Multiple platform build/check report for BioC 3.21: simplified long |
|
This page was generated on 2025-10-16 11:37 -0400 (Thu, 16 Oct 2025).
| Hostname | OS | Arch (*) | R version | Installed pkgs |
|---|---|---|---|---|
| nebbiolo1 | Linux (Ubuntu 24.04.3 LTS) | x86_64 | 4.5.1 (2025-06-13) -- "Great Square Root" | 4833 |
| merida1 | macOS 12.7.6 Monterey | x86_64 | 4.5.1 RC (2025-06-05 r88288) -- "Great Square Root" | 4614 |
| kjohnson1 | macOS 13.7.5 Ventura | arm64 | 4.5.1 Patched (2025-06-14 r88325) -- "Great Square Root" | 4555 |
| kunpeng2 | Linux (openEuler 24.03 LTS) | aarch64 | R Under development (unstable) (2025-02-19 r87757) -- "Unsuffered Consequences" | 4586 |
| Click on any hostname to see more info about the system (e.g. compilers) (*) as reported by 'uname -p', except on Windows and Mac OS X | ||||
| Package 117/2341 | Hostname | OS / Arch | INSTALL | BUILD | CHECK | BUILD BIN | ||||||||
| autonomics 1.16.0 (landing page) Aditya Bhagwat
| nebbiolo1 | Linux (Ubuntu 24.04.3 LTS) / x86_64 | OK | OK | OK | |||||||||
| merida1 | macOS 12.7.6 Monterey / x86_64 | OK | OK | OK | OK | |||||||||
| kjohnson1 | macOS 13.7.5 Ventura / arm64 | OK | OK | OK | OK | |||||||||
| kunpeng2 | Linux (openEuler 24.03 LTS) / aarch64 | OK | OK | ERROR | ||||||||||
|
To the developers/maintainers of the autonomics package: - Allow up to 24 hours (and sometimes 48 hours) for your latest push to git@git.bioconductor.org:packages/autonomics.git to reflect on this report. See Troubleshooting Build Report for more information. - Use the following Renviron settings to reproduce errors and warnings. - If 'R CMD check' started to fail recently on the Linux builder(s) over a missing dependency, add the missing dependency to 'Suggests:' in your DESCRIPTION file. See Renviron.bioc for more information. |
| Package: autonomics |
| Version: 1.16.0 |
| Command: /home/biocbuild/bbs-3.21-bioc/R/bin/R CMD check --install=check:autonomics.install-out.txt --library=/home/biocbuild/bbs-3.21-bioc/R/site-library --timings autonomics_1.16.0.tar.gz |
| StartedAt: 2025-10-15 20:53:15 -0400 (Wed, 15 Oct 2025) |
| EndedAt: 2025-10-15 21:09:55 -0400 (Wed, 15 Oct 2025) |
| EllapsedTime: 1000.0 seconds |
| RetCode: 0 |
| Status: OK |
| CheckDir: autonomics.Rcheck |
| Warnings: 0 |
##############################################################################
##############################################################################
###
### Running command:
###
### /home/biocbuild/bbs-3.21-bioc/R/bin/R CMD check --install=check:autonomics.install-out.txt --library=/home/biocbuild/bbs-3.21-bioc/R/site-library --timings autonomics_1.16.0.tar.gz
###
##############################################################################
##############################################################################
* using log directory ‘/home/biocbuild/bbs-3.21-bioc/meat/autonomics.Rcheck’
* using R version 4.5.1 (2025-06-13)
* using platform: x86_64-pc-linux-gnu
* R was compiled by
gcc (Ubuntu 13.3.0-6ubuntu2~24.04) 13.3.0
GNU Fortran (Ubuntu 13.3.0-6ubuntu2~24.04) 13.3.0
* running under: Ubuntu 24.04.3 LTS
* using session charset: UTF-8
* checking for file ‘autonomics/DESCRIPTION’ ... OK
* checking extension type ... Package
* this is package ‘autonomics’ version ‘1.16.0’
* package encoding: UTF-8
* checking package namespace information ... OK
* checking package dependencies ... INFO
Imports includes 30 non-default packages.
Importing from so many packages makes the package vulnerable to any of
them becoming unavailable. Move as many as possible to Suggests and
use conditionally.
* checking if this is a source package ... OK
* checking if there is a namespace ... OK
* checking for hidden files and directories ... NOTE
Found the following hidden files and directories:
.BBSoptions
These were most likely included in error. See section ‘Package
structure’ in the ‘Writing R Extensions’ manual.
* checking for portable file names ... OK
* checking for sufficient/correct file permissions ... OK
* checking whether package ‘autonomics’ can be installed ... OK
* checking installed package size ... OK
* checking package directory ... OK
* checking ‘build’ directory ... OK
* checking DESCRIPTION meta-information ... OK
* checking top-level files ... OK
* checking for left-over files ... OK
* checking index information ... OK
* checking package subdirectories ... OK
* checking code files for non-ASCII characters ... OK
* checking R files for syntax errors ... OK
* checking whether the package can be loaded ... OK
* checking whether the package can be loaded with stated dependencies ... OK
* checking whether the package can be unloaded cleanly ... OK
* checking whether the namespace can be loaded with stated dependencies ... OK
* checking whether the namespace can be unloaded cleanly ... OK
* checking loading without being on the library search path ... OK
* checking dependencies in R code ... OK
* checking S3 generic/method consistency ... OK
* checking replacement functions ... OK
* checking foreign function calls ... OK
* checking R code for possible problems ... OK
* checking Rd files ... OK
* checking Rd metadata ... OK
* checking Rd cross-references ... NOTE
Non-topic package-anchored link(s) in Rd file 'reexports.Rd':
‘[magrittr:compound]{%<>%}’ ‘[magrittr:pipe]{%>%}’
‘[magrittr:aliases]{extract}’
See section 'Cross-references' in the 'Writing R Extensions' manual.
* checking for missing documentation entries ... OK
* checking for code/documentation mismatches ... OK
* checking Rd \usage sections ... OK
* checking Rd contents ... OK
* checking for unstated dependencies in examples ... OK
* checking files in ‘vignettes’ ... OK
* checking examples ... OK
Examples with CPU (user + system) or elapsed time > 5s
user system elapsed
read_diann_proteingroups 91.549 1.242 88.323
read_rnaseq_counts 34.290 1.242 35.225
fit_linmod 31.402 0.321 31.108
plot_exprs_per_coef 24.005 0.028 23.875
plot_exprs 23.801 0.147 23.770
rm_diann_contaminants 19.240 0.155 18.142
default_formula 16.993 1.048 17.671
read_somascan 16.280 0.107 16.282
analyze 16.071 0.261 16.240
read_metabolon 15.451 0.040 15.373
plot_summary 14.512 0.024 14.428
plot_volcano 13.385 0.045 13.371
plot_densities 9.234 0.084 9.198
fcluster 8.562 0.168 8.672
ftype 8.155 0.133 7.872
biplot_covariates 7.342 0.361 7.683
plot_sample_nas 6.960 0.064 6.978
plot_subgroup_points 6.657 0.141 6.752
extract_coef_features 6.293 0.151 6.414
read_fragpipe 5.662 0.016 5.401
fit_survival 5.166 0.038 5.184
code 5.041 0.120 5.139
* checking for unstated dependencies in ‘tests’ ... OK
* checking tests ...
Running ‘testthat.R’
OK
* checking for unstated dependencies in vignettes ... OK
* checking package vignettes ... OK
* checking re-building of vignette outputs ... OK
* checking PDF version of manual ... OK
* DONE
Status: 2 NOTEs
See
‘/home/biocbuild/bbs-3.21-bioc/meat/autonomics.Rcheck/00check.log’
for details.
autonomics.Rcheck/00install.out
############################################################################## ############################################################################## ### ### Running command: ### ### /home/biocbuild/bbs-3.21-bioc/R/bin/R CMD INSTALL autonomics ### ############################################################################## ############################################################################## * installing to library ‘/home/biocbuild/bbs-3.21-bioc/R/site-library’ * installing *source* package ‘autonomics’ ... ** this is package ‘autonomics’ version ‘1.16.0’ ** using staged installation ** R ** inst ** byte-compile and prepare package for lazy loading ** help *** installing help indices ** building package indices ** installing vignettes ** testing if installed package can be loaded from temporary location ** testing if installed package can be loaded from final location ** testing if installed package keeps a record of temporary installation path * DONE (autonomics)
autonomics.Rcheck/tests/testthat.Rout
R version 4.5.1 (2025-06-13) -- "Great Square Root"
Copyright (C) 2025 The R Foundation for Statistical Computing
Platform: x86_64-pc-linux-gnu
R is free software and comes with ABSOLUTELY NO WARRANTY.
You are welcome to redistribute it under certain conditions.
Type 'license()' or 'licence()' for distribution details.
R is a collaborative project with many contributors.
Type 'contributors()' for more information and
'citation()' on how to cite R or R packages in publications.
Type 'demo()' for some demos, 'help()' for on-line help, or
'help.start()' for an HTML browser interface to help.
Type 'q()' to quit R.
> library(testthat)
> library(autonomics)
Attaching package: 'autonomics'
The following objects are masked from 'package:stats':
biplot, loadings
The following object is masked from 'package:base':
beta
>
> test_check("autonomics")
[ FAIL 0 | WARN 3 | SKIP 0 | PASS 158 ]
[ FAIL 0 | WARN 3 | SKIP 0 | PASS 158 ]
>
> proc.time()
user system elapsed
151.019 3.968 152.477
autonomics.Rcheck/autonomics-Ex.timings
| name | user | system | elapsed | |
| AUTONOMICS_DATASETS | 0.001 | 0.000 | 0.000 | |
| COMPOUNDDISCOVERER_PATTERNS | 0.000 | 0.001 | 0.000 | |
| FITSEP | 0.000 | 0.001 | 0.001 | |
| LINMODENGINES | 0 | 0 | 0 | |
| MAXQUANT_PATTERNS | 0.001 | 0.000 | 0.000 | |
| SURVIVALENGINES | 0.000 | 0.000 | 0.001 | |
| TAXON_TO_ORGNAME | 0.000 | 0.001 | 0.000 | |
| TESTS | 0 | 0 | 0 | |
| X | 1.934 | 0.212 | 2.122 | |
| abstract_fit | 1.675 | 0.076 | 1.729 | |
| add_adjusted_pvalues | 0.538 | 0.007 | 0.547 | |
| add_assay_means | 0.341 | 0.006 | 0.347 | |
| add_facetvars | 1.447 | 0.024 | 1.450 | |
| add_opentargets_by_uniprot | 0.360 | 0.005 | 0.367 | |
| add_psp | 0.464 | 0.018 | 0.483 | |
| add_smiles | 0.428 | 0.021 | 0.428 | |
| analysis | 0.344 | 0.005 | 0.349 | |
| analyze | 16.071 | 0.261 | 16.240 | |
| annotate_maxquant | 0.822 | 0.069 | 0.891 | |
| annotate_uniprot_rest | 0.352 | 0.008 | 1.854 | |
| assert_is_valid_sumexp | 0.519 | 0.013 | 0.503 | |
| bin | 0.352 | 0.005 | 0.357 | |
| biplot | 4.141 | 0.264 | 4.367 | |
| biplot_corrections | 3.518 | 0.204 | 3.699 | |
| biplot_covariates | 7.342 | 0.361 | 7.683 | |
| block2lme | 0.002 | 0.001 | 0.004 | |
| center | 1.706 | 0.062 | 1.768 | |
| code | 5.041 | 0.120 | 5.139 | |
| coefs | 0.759 | 0.018 | 0.755 | |
| collapsed_entrezg_to_symbol | 0.000 | 0.001 | 0.001 | |
| contrast_subgroup_cols | 0.550 | 0.046 | 0.573 | |
| count_in | 0.000 | 0.002 | 0.002 | |
| counts | 0.303 | 0.006 | 0.310 | |
| counts2cpm | 0.295 | 0.005 | 0.300 | |
| counts2tpm | 0.258 | 0.003 | 0.261 | |
| cpm | 0.287 | 0.000 | 0.288 | |
| create_design | 0.643 | 0.019 | 0.642 | |
| default_formula | 16.993 | 1.048 | 17.671 | |
| default_geom | 0.476 | 0.025 | 0.480 | |
| default_sfile | 0.001 | 0.001 | 0.002 | |
| demultiplex | 0.013 | 0.001 | 0.013 | |
| dequantify | 0.001 | 0.002 | 0.002 | |
| dequantify_compounddiscoverer | 0.002 | 0.000 | 0.001 | |
| dot-coxph | 0.369 | 0.009 | 0.378 | |
| dot-merge | 0.015 | 0.001 | 0.016 | |
| dot-read_maxquant_proteingroups | 0.107 | 0.011 | 0.118 | |
| download_data | 0 | 0 | 0 | |
| download_gtf | 0 | 0 | 0 | |
| download_mcclain21 | 0.000 | 0.001 | 0.000 | |
| dt2mat | 0.004 | 0.000 | 0.003 | |
| enrichment | 1.678 | 0.054 | 1.733 | |
| entrezg_to_symbol | 0.001 | 0.000 | 0.001 | |
| extract_coef_features | 6.293 | 0.151 | 6.414 | |
| extract_rectangle | 0.100 | 0.014 | 0.114 | |
| fcluster | 8.562 | 0.168 | 8.672 | |
| fcor | 1.362 | 0.051 | 1.414 | |
| fdata | 0.496 | 0.015 | 0.511 | |
| fdr2p | 0.917 | 0.058 | 0.937 | |
| filter_exprs_replicated_in_some_subgroup | 0.997 | 0.011 | 0.883 | |
| filter_features | 0.506 | 0.014 | 0.482 | |
| filter_medoid | 0.605 | 0.009 | 0.614 | |
| filter_samples | 0.480 | 0.019 | 0.478 | |
| fit_linmod | 31.402 | 0.321 | 31.108 | |
| fit_survival | 5.166 | 0.038 | 5.184 | |
| fitcoefs | 0.825 | 0.013 | 0.815 | |
| fits | 0.703 | 0.035 | 0.718 | |
| fix_xlgenes | 0.000 | 0.002 | 0.001 | |
| flevels | 0.378 | 0.002 | 0.380 | |
| fnames | 0.410 | 0.005 | 0.416 | |
| formula2str | 0 | 0 | 0 | |
| ftype | 8.155 | 0.133 | 7.872 | |
| fvalues | 0.407 | 0.007 | 0.414 | |
| fvars | 0.357 | 0.000 | 0.356 | |
| genome_to_orgdb | 0.000 | 0.001 | 0.000 | |
| group_by_level | 0.001 | 0.001 | 0.001 | |
| guess_compounddiscoverer_quantity | 0.001 | 0.000 | 0.001 | |
| guess_fitsep | 0.455 | 0.001 | 0.457 | |
| guess_maxquant_quantity | 0.006 | 0.000 | 0.005 | |
| guess_sep | 0.459 | 0.011 | 0.432 | |
| has_multiple_levels | 0.051 | 0.002 | 0.052 | |
| hdlproteins | 0.040 | 0.016 | 0.058 | |
| impute | 3.372 | 0.067 | 3.440 | |
| invert_subgroups | 0.599 | 0.004 | 0.603 | |
| is_collapsed_subset | 0.001 | 0.000 | 0.000 | |
| is_correlation_matrix | 0.002 | 0.000 | 0.001 | |
| is_diann_report | 0.407 | 0.051 | 0.450 | |
| is_fastadt | 0.061 | 0.004 | 0.064 | |
| is_file | 0.000 | 0.000 | 0.001 | |
| is_fraction | 0.002 | 0.000 | 0.002 | |
| is_imputed | 0.677 | 0.004 | 0.681 | |
| is_positive_number | 0.002 | 0.001 | 0.002 | |
| is_scalar_subset | 0.309 | 0.002 | 0.311 | |
| is_sig | 1.673 | 0.005 | 1.678 | |
| is_valid_formula | 0.045 | 0.000 | 0.045 | |
| keep_connected_blocks | 0.529 | 0.011 | 0.498 | |
| keep_connected_features | 0.704 | 0.007 | 0.628 | |
| keep_replicated_features | 0.829 | 0.014 | 0.757 | |
| label2index | 0.000 | 0.000 | 0.001 | |
| list2mat | 0.001 | 0.000 | 0.000 | |
| log2counts | 0.348 | 0.002 | 0.350 | |
| log2cpm | 0.289 | 0.002 | 0.292 | |
| log2diffs | 0.334 | 0.001 | 0.335 | |
| log2proteins | 0.309 | 0.003 | 0.312 | |
| log2sites | 0.295 | 0.004 | 0.298 | |
| log2tpm | 0.349 | 0.001 | 0.350 | |
| log2transform | 4.750 | 0.026 | 4.777 | |
| logical2factor | 0.001 | 0.001 | 0.001 | |
| make_alpha_palette | 0.540 | 0.019 | 0.516 | |
| make_colors | 0.01 | 0.00 | 0.01 | |
| make_volcano_dt | 0.842 | 0.031 | 0.873 | |
| map_fvalues | 0.347 | 0.005 | 0.353 | |
| matrix2sumexp | 1.034 | 0.021 | 1.016 | |
| merge_sample_file | 0.398 | 0.006 | 0.405 | |
| merge_sdata | 0.554 | 0.021 | 0.553 | |
| message_df | 0.001 | 0.001 | 0.003 | |
| model_coefs | 1.576 | 0.093 | 1.648 | |
| modelvar | 3.444 | 0.054 | 3.419 | |
| order_on_p | 1.125 | 0.013 | 1.119 | |
| pca | 3.184 | 0.069 | 3.224 | |
| pg_to_canonical | 0.004 | 0.002 | 0.005 | |
| plot_coef_densities | 1.259 | 0.012 | 1.232 | |
| plot_contrast_venn | 2.323 | 0.014 | 2.213 | |
| plot_contrastogram | 2.663 | 0.030 | 2.601 | |
| plot_data | 1.503 | 0.014 | 1.495 | |
| plot_densities | 9.234 | 0.084 | 9.198 | |
| plot_design | 0.672 | 0.006 | 0.677 | |
| plot_exprs | 23.801 | 0.147 | 23.770 | |
| plot_exprs_per_coef | 24.005 | 0.028 | 23.875 | |
| plot_fit_summary | 2.162 | 0.020 | 2.059 | |
| plot_heatmap | 2.232 | 0.007 | 2.240 | |
| plot_joint_density | 4.114 | 0.038 | 4.130 | |
| plot_matrix | 0.480 | 0.015 | 0.473 | |
| plot_sample_nas | 6.960 | 0.064 | 6.978 | |
| plot_subgroup_points | 6.657 | 0.141 | 6.752 | |
| plot_summary | 14.512 | 0.024 | 14.428 | |
| plot_survival | 3.671 | 0.006 | 3.665 | |
| plot_venn | 0.004 | 0.000 | 0.005 | |
| plot_venn_heatmap | 0.016 | 0.002 | 0.019 | |
| plot_violins | 4.323 | 0.046 | 4.347 | |
| plot_volcano | 13.385 | 0.045 | 13.371 | |
| preprocess_rnaseq_counts | 0.266 | 0.002 | 0.267 | |
| pull_columns | 0.002 | 0.000 | 0.002 | |
| read_affymetrix | 0.000 | 0.000 | 0.001 | |
| read_diann_proteingroups | 91.549 | 1.242 | 88.323 | |
| read_fragpipe | 5.662 | 0.016 | 5.401 | |
| read_maxquant_phosphosites | 1.459 | 0.005 | 1.464 | |
| read_maxquant_proteingroups | 1.121 | 0.005 | 1.125 | |
| read_metabolon | 15.451 | 0.040 | 15.373 | |
| read_msigdt | 0.001 | 0.001 | 0.001 | |
| read_olink | 1.426 | 0.012 | 1.374 | |
| read_rectangles | 0.170 | 0.006 | 0.175 | |
| read_rnaseq_counts | 34.290 | 1.242 | 35.225 | |
| read_salmon | 0 | 0 | 0 | |
| read_somascan | 16.280 | 0.107 | 16.282 | |
| read_uniprotdt | 0.287 | 0.015 | 0.302 | |
| reset_fit | 4.908 | 0.017 | 4.812 | |
| rm_diann_contaminants | 19.240 | 0.155 | 18.142 | |
| rm_missing_in_some_samples | 0.509 | 0.021 | 0.509 | |
| rm_unmatched_samples | 0.570 | 0.001 | 0.571 | |
| scaledlibsizes | 0.338 | 0.000 | 0.338 | |
| scoremat | 0.918 | 0.016 | 0.913 | |
| slevels | 0.419 | 0.006 | 0.425 | |
| snames | 0.369 | 0.022 | 0.391 | |
| split_extract_fixed | 0.461 | 0.028 | 0.467 | |
| split_samples | 1.141 | 0.038 | 1.156 | |
| stri_any_regex | 0.000 | 0.001 | 0.001 | |
| stri_detect_fixed_in_collapsed | 0.355 | 0.002 | 0.358 | |
| subgroup_matrix | 0.462 | 0.014 | 0.455 | |
| subtract_baseline | 4.540 | 0.012 | 4.550 | |
| sumexp_to_longdt | 1.757 | 0.038 | 1.740 | |
| sumexp_to_tsv | 0.444 | 0.032 | 0.476 | |
| sumexplist_to_longdt | 1.393 | 0.039 | 1.432 | |
| summarize_fit | 1.660 | 0.019 | 1.612 | |
| svalues | 0.416 | 0.004 | 0.419 | |
| svars | 0.351 | 0.003 | 0.353 | |
| systematic_nas | 0.483 | 0.002 | 0.485 | |
| tag_features | 0.952 | 0.038 | 0.991 | |
| tag_hdlproteins | 0.489 | 0.008 | 0.497 | |
| taxon2org | 0.001 | 0.000 | 0.001 | |
| tpm | 0.288 | 0.001 | 0.289 | |
| uncollapse | 0.025 | 0.002 | 0.027 | |
| values | 0.455 | 0.000 | 0.455 | |
| varlevels_dont_clash | 0.018 | 0.000 | 0.018 | |
| venn_detects | 0.487 | 0.000 | 0.487 | |
| weights | 0.291 | 0.001 | 0.291 | |
| write_xl | 0.694 | 0.015 | 0.687 | |
| zero_to_na | 0.002 | 0.000 | 0.002 | |