| Back to Multiple platform build/check report for BioC 3.22: simplified long |
|
This page was generated on 2025-11-27 12:04 -0500 (Thu, 27 Nov 2025).
| Hostname | OS | Arch (*) | R version | Installed pkgs |
|---|---|---|---|---|
| nebbiolo2 | Linux (Ubuntu 24.04.3 LTS) | x86_64 | 4.5.2 (2025-10-31) -- "[Not] Part in a Rumble" | 4876 |
| merida1 | macOS 12.7.6 Monterey | x86_64 | 4.5.2 Patched (2025-11-05 r88990) -- "[Not] Part in a Rumble" | 4656 |
| kjohnson1 | macOS 13.7.5 Ventura | arm64 | 4.5.2 Patched (2025-11-04 r88984) -- "[Not] Part in a Rumble" | 4602 |
| taishan | Linux (openEuler 24.03 LTS) | aarch64 | 4.5.0 (2025-04-11) -- "How About a Twenty-Six" | 4668 |
| Click on any hostname to see more info about the system (e.g. compilers) (*) as reported by 'uname -p', except on Windows and Mac OS X | ||||
| Package 119/2361 | Hostname | OS / Arch | INSTALL | BUILD | CHECK | BUILD BIN | ||||||||
| autonomics 1.18.0 (landing page) Aditya Bhagwat
| nebbiolo2 | Linux (Ubuntu 24.04.3 LTS) / x86_64 | OK | OK | OK | |||||||||
| merida1 | macOS 12.7.6 Monterey / x86_64 | OK | OK | TIMEOUT | OK | |||||||||
| kjohnson1 | macOS 13.7.5 Ventura / arm64 | OK | OK | OK | OK | |||||||||
| taishan | Linux (openEuler 24.03 LTS) / aarch64 | OK | OK | OK | ||||||||||
|
To the developers/maintainers of the autonomics package: - Allow up to 24 hours (and sometimes 48 hours) for your latest push to git@git.bioconductor.org:packages/autonomics.git to reflect on this report. See Troubleshooting Build Report for more information. - Use the following Renviron settings to reproduce errors and warnings. - If 'R CMD check' started to fail recently on the Linux builder(s) over a missing dependency, add the missing dependency to 'Suggests:' in your DESCRIPTION file. See Renviron.bioc for more information. |
| Package: autonomics |
| Version: 1.18.0 |
| Command: /Library/Frameworks/R.framework/Resources/bin/R CMD check --install=check:autonomics.install-out.txt --library=/Library/Frameworks/R.framework/Resources/library --no-vignettes --timings autonomics_1.18.0.tar.gz |
| StartedAt: 2025-11-25 15:29:19 -0500 (Tue, 25 Nov 2025) |
| EndedAt: 2025-11-25 16:04:08 -0500 (Tue, 25 Nov 2025) |
| EllapsedTime: 2089.0 seconds |
| RetCode: 0 |
| Status: OK |
| CheckDir: autonomics.Rcheck |
| Warnings: 0 |
##############################################################################
##############################################################################
###
### Running command:
###
### /Library/Frameworks/R.framework/Resources/bin/R CMD check --install=check:autonomics.install-out.txt --library=/Library/Frameworks/R.framework/Resources/library --no-vignettes --timings autonomics_1.18.0.tar.gz
###
##############################################################################
##############################################################################
* using log directory ‘/Users/biocbuild/bbs-3.22-bioc/meat/autonomics.Rcheck’
* using R version 4.5.2 Patched (2025-11-04 r88984)
* using platform: aarch64-apple-darwin20
* R was compiled by
Apple clang version 16.0.0 (clang-1600.0.26.6)
GNU Fortran (GCC) 14.2.0
* running under: macOS Ventura 13.7.8
* using session charset: UTF-8
* using option ‘--no-vignettes’
* checking for file ‘autonomics/DESCRIPTION’ ... OK
* checking extension type ... Package
* this is package ‘autonomics’ version ‘1.18.0’
* package encoding: UTF-8
* checking package namespace information ... OK
* checking package dependencies ... INFO
Imports includes 32 non-default packages.
Importing from so many packages makes the package vulnerable to any of
them becoming unavailable. Move as many as possible to Suggests and
use conditionally.
* checking if this is a source package ... OK
* checking if there is a namespace ... OK
* checking for hidden files and directories ... NOTE
Found the following hidden files and directories:
.BBSoptions
These were most likely included in error. See section ‘Package
structure’ in the ‘Writing R Extensions’ manual.
* checking for portable file names ... OK
* checking for sufficient/correct file permissions ... OK
* checking whether package ‘autonomics’ can be installed ... OK
* checking installed package size ... OK
* checking package directory ... OK
* checking ‘build’ directory ... OK
* checking DESCRIPTION meta-information ... OK
* checking top-level files ... OK
* checking for left-over files ... OK
* checking index information ... OK
* checking package subdirectories ... OK
* checking code files for non-ASCII characters ... OK
* checking R files for syntax errors ... OK
* checking whether the package can be loaded ... OK
* checking whether the package can be loaded with stated dependencies ... OK
* checking whether the package can be unloaded cleanly ... OK
* checking whether the namespace can be loaded with stated dependencies ... OK
* checking whether the namespace can be unloaded cleanly ... OK
* checking dependencies in R code ... OK
* checking S3 generic/method consistency ... OK
* checking replacement functions ... OK
* checking foreign function calls ... OK
* checking R code for possible problems ... OK
* checking Rd files ... OK
* checking Rd metadata ... OK
* checking Rd cross-references ... NOTE
Non-topic package-anchored link(s) in Rd file 'reexports.Rd':
‘[magrittr:compound]{%<>%}’ ‘[magrittr:pipe]{%>%}’
‘[magrittr:aliases]{extract}’
See section 'Cross-references' in the 'Writing R Extensions' manual.
* checking for missing documentation entries ... OK
* checking for code/documentation mismatches ... OK
* checking Rd \usage sections ... OK
* checking Rd contents ... OK
* checking for unstated dependencies in examples ... OK
* checking files in ‘vignettes’ ... OK
* checking examples ... OK
Examples with CPU (user + system) or elapsed time > 5s
user system elapsed
write_xl 193.788 5.991 311.897
read_diann_proteingroups 116.733 1.998 184.390
awblinmod 46.396 0.440 74.014
read_rnaseq_counts 35.199 1.288 58.168
LINMOD 26.936 0.406 42.490
rm_diann_contaminants 24.232 0.429 42.267
plot_exprs 23.871 0.229 40.743
plot_exprs_per_coef 22.608 0.201 38.455
default_formula 20.217 0.456 33.967
plot_volcano 15.876 0.178 27.549
analyze 15.283 0.223 24.017
plot_summary 15.331 0.166 26.325
read_metabolon 14.327 0.176 24.490
read_somascan 14.255 0.111 25.184
fit_survival 13.778 0.181 21.634
plot_densities 11.967 0.262 18.686
explore-transforms 11.608 0.129 18.275
fcluster 10.432 0.109 15.944
ftype 8.542 0.319 13.928
plot_detections 8.636 0.079 13.357
read_fragpipe 8.439 0.185 14.528
biplot_covariates 8.061 0.112 13.079
plot_xy_density 7.472 0.072 12.852
plot_subgroup_points 6.893 0.108 11.938
plot_violins 5.929 0.110 10.150
subtract_baseline 5.682 0.091 9.033
log2transform 5.448 0.072 8.748
code 5.278 0.084 8.809
reset_fit 5.081 0.121 9.600
extract_contrast_features 5.011 0.082 7.805
sbind 4.807 0.055 8.557
biplot 4.339 0.084 6.927
biplot_corrections 3.995 0.075 6.318
modelvar 3.709 0.078 5.778
impute 3.737 0.046 6.020
pca 3.624 0.078 5.627
plot_contrastogram 3.231 0.139 5.240
* checking for unstated dependencies in ‘tests’ ... OK
* checking tests ...
Running ‘testthat.R’
OK
* checking for unstated dependencies in vignettes ... OK
* checking package vignettes ... OK
* checking running R code from vignettes ... SKIPPED
* checking re-building of vignette outputs ... SKIPPED
* checking PDF version of manual ... OK
* DONE
Status: 2 NOTEs
See
‘/Users/biocbuild/bbs-3.22-bioc/meat/autonomics.Rcheck/00check.log’
for details.
autonomics.Rcheck/00install.out
############################################################################## ############################################################################## ### ### Running command: ### ### /Library/Frameworks/R.framework/Resources/bin/R CMD INSTALL autonomics ### ############################################################################## ############################################################################## * installing to library ‘/Library/Frameworks/R.framework/Versions/4.5-arm64/Resources/library’ * installing *source* package ‘autonomics’ ... ** this is package ‘autonomics’ version ‘1.18.0’ ** using staged installation ** R ** inst ** byte-compile and prepare package for lazy loading Note: wrong number of arguments to 'seq_along' Note: wrong number of arguments to 'sqrt' ** help *** installing help indices ** building package indices ** installing vignettes ** testing if installed package can be loaded from temporary location ** testing if installed package can be loaded from final location ** testing if installed package keeps a record of temporary installation path * DONE (autonomics)
autonomics.Rcheck/tests/testthat.Rout
R version 4.5.2 Patched (2025-11-04 r88984) -- "[Not] Part in a Rumble"
Copyright (C) 2025 The R Foundation for Statistical Computing
Platform: aarch64-apple-darwin20
R is free software and comes with ABSOLUTELY NO WARRANTY.
You are welcome to redistribute it under certain conditions.
Type 'license()' or 'licence()' for distribution details.
R is a collaborative project with many contributors.
Type 'contributors()' for more information and
'citation()' on how to cite R or R packages in publications.
Type 'demo()' for some demos, 'help()' for on-line help, or
'help.start()' for an HTML browser interface to help.
Type 'q()' to quit R.
> library(testthat)
> library(autonomics)
Attaching package: 'autonomics'
The following objects are masked from 'package:stats':
biplot, loadings
The following object is masked from 'package:base':
beta
>
> test_check("autonomics")
[ FAIL 0 | WARN 3 | SKIP 0 | PASS 158 ]
[ FAIL 0 | WARN 3 | SKIP 0 | PASS 158 ]
>
> proc.time()
user system elapsed
171.956 7.720 277.228
autonomics.Rcheck/autonomics-Ex.timings
| name | user | system | elapsed | |
| AUTONOMICS_DATASETS | 0.000 | 0.001 | 0.001 | |
| COMPOUNDDISCOVERER_PATTERNS | 0.000 | 0.001 | 0.001 | |
| LINMOD | 26.936 | 0.406 | 42.490 | |
| LINMODENGINES | 0 | 0 | 0 | |
| MAXQUANT_PATTERNS | 0.001 | 0.001 | 0.007 | |
| TAXON_TO_ORGNAME | 0.001 | 0.000 | 0.000 | |
| TESTS | 0 | 0 | 0 | |
| X | 1.310 | 0.058 | 2.072 | |
| abstract_fit | 1.141 | 0.062 | 1.931 | |
| add_adjusted_pvalues | 0.597 | 0.015 | 0.949 | |
| add_assay_means | 0.446 | 0.010 | 0.730 | |
| add_facetvars | 1.508 | 0.061 | 2.422 | |
| add_opentargets_by_uniprot | 0.464 | 0.011 | 0.691 | |
| add_psp | 0.578 | 0.017 | 0.925 | |
| add_smiles | 0.558 | 0.050 | 0.932 | |
| all_non_numeric | 0.665 | 0.007 | 1.119 | |
| analysis | 0.432 | 0.009 | 0.737 | |
| analyze | 15.283 | 0.223 | 24.017 | |
| annotate_maxquant | 1.332 | 0.081 | 2.323 | |
| annotate_uniprot_rest | 0.102 | 0.018 | 0.762 | |
| assert_is_valid_sumexp | 0.670 | 0.050 | 1.041 | |
| awblinmod | 46.396 | 0.440 | 74.014 | |
| biplot | 4.339 | 0.084 | 6.927 | |
| biplot_corrections | 3.995 | 0.075 | 6.318 | |
| biplot_covariates | 8.061 | 0.112 | 13.079 | |
| block2limma | 0.002 | 0.000 | 0.002 | |
| block2lm | 0.003 | 0.000 | 0.005 | |
| block2lme | 0.002 | 0.000 | 0.009 | |
| block2lmer | 0.003 | 0.000 | 0.005 | |
| block_has_two_levels | 0.738 | 0.052 | 1.248 | |
| center | 2.063 | 0.027 | 3.264 | |
| code | 5.278 | 0.084 | 8.809 | |
| collapsed_entrezg_to_symbol | 1.055 | 0.058 | 2.186 | |
| contrast_subgroup_cols | 0.685 | 0.051 | 1.347 | |
| contrastdt | 0.639 | 0.008 | 1.250 | |
| count_in | 0.002 | 0.001 | 0.002 | |
| counts | 0.423 | 0.006 | 0.814 | |
| counts2cpm | 0.368 | 0.006 | 0.696 | |
| counts2tpm | 0.296 | 0.004 | 0.488 | |
| cpm | 0.548 | 0.006 | 1.104 | |
| create_design | 0.870 | 0.057 | 1.965 | |
| default_formula | 20.217 | 0.456 | 33.967 | |
| default_geom | 0.602 | 0.056 | 0.948 | |
| default_sfile | 0.003 | 0.002 | 0.016 | |
| demultiplex | 0.012 | 0.001 | 0.013 | |
| densities | 0.240 | 0.008 | 0.299 | |
| dequantify | 0.003 | 0.001 | 0.002 | |
| dequantify_compounddiscoverer | 0.001 | 0.001 | 0.002 | |
| dot-coxph | 0.526 | 0.037 | 0.937 | |
| dot-merge | 0.028 | 0.002 | 0.048 | |
| dot-read_maxquant_proteingroups | 0.150 | 0.006 | 0.287 | |
| download_data | 0.000 | 0.001 | 0.001 | |
| download_gtf | 0.000 | 0.000 | 0.003 | |
| download_mcclain21 | 0 | 0 | 0 | |
| dt2mat | 0.006 | 0.001 | 0.025 | |
| enrichment | 1.174 | 0.015 | 1.804 | |
| entrezg_to_symbol | 0.168 | 0.007 | 0.252 | |
| explore-transforms | 11.608 | 0.129 | 18.275 | |
| extract_contrast_features | 5.011 | 0.082 | 7.805 | |
| extract_rectangle | 0.163 | 0.046 | 0.346 | |
| factor.vars | 0.196 | 0.002 | 0.275 | |
| factorize | 0.880 | 0.018 | 1.363 | |
| fcluster | 10.432 | 0.109 | 15.944 | |
| fcor | 1.709 | 0.040 | 2.515 | |
| fdata | 0.661 | 0.016 | 0.994 | |
| fdr2p | 0.995 | 0.057 | 1.727 | |
| filter_exprs_replicated_in_some_subgroup | 1.099 | 0.054 | 1.743 | |
| filter_features | 0.660 | 0.051 | 1.064 | |
| filter_medoid | 0.625 | 0.008 | 1.035 | |
| filter_samples | 0.569 | 0.048 | 0.958 | |
| fit_survival | 13.778 | 0.181 | 21.634 | |
| fits | 0.347 | 0.004 | 0.562 | |
| fix_xlgenes | 0.003 | 0.000 | 0.002 | |
| flevels | 0.454 | 0.009 | 0.696 | |
| fnames | 0.546 | 0.010 | 0.907 | |
| formula2str | 0.001 | 0.000 | 0.001 | |
| ftype | 8.542 | 0.319 | 13.928 | |
| fvalues | 0.444 | 0.008 | 0.699 | |
| fvars | 0.436 | 0.007 | 0.684 | |
| genome_to_orgdb | 0.001 | 0.000 | 0.001 | |
| group_by_level | 0.001 | 0.000 | 0.002 | |
| guess_compounddiscoverer_quantity | 0.001 | 0.000 | 0.001 | |
| guess_fitsep | 0.473 | 0.008 | 0.740 | |
| guess_maxquant_quantity | 0.005 | 0.001 | 0.007 | |
| guess_sep | 0.408 | 0.029 | 0.777 | |
| has_multiple_levels | 0.053 | 0.003 | 0.176 | |
| hdlproteins | 0.051 | 0.028 | 0.123 | |
| impute | 3.737 | 0.046 | 6.020 | |
| invert_subgroups | 0.746 | 0.011 | 1.186 | |
| is_character_matrix | 0.158 | 0.002 | 0.235 | |
| is_collapsed_subset | 0.000 | 0.000 | 0.001 | |
| is_compounddiscoverer_output | 0.081 | 0.018 | 0.147 | |
| is_correlation_matrix | 0.002 | 0.001 | 0.001 | |
| is_diann_report | 0.148 | 0.014 | 0.244 | |
| is_fastadt | 0.071 | 0.001 | 0.098 | |
| is_file | 0 | 0 | 0 | |
| is_fraction | 0.001 | 0.000 | 0.002 | |
| is_fragpipe_tsv | 0.120 | 0.011 | 0.166 | |
| is_imputed | 0.799 | 0.011 | 1.165 | |
| is_maxquant_phosphosites | 0.091 | 0.010 | 0.179 | |
| is_maxquant_proteingroups | 0.088 | 0.008 | 0.115 | |
| is_positive_number | 0.002 | 0.000 | 0.002 | |
| is_scalar_subset | 0.355 | 0.007 | 0.565 | |
| is_sig | 1.498 | 0.018 | 2.381 | |
| is_valid_formula | 0.050 | 0.002 | 0.069 | |
| keep_estimable_features | 0.926 | 0.053 | 1.593 | |
| label2index | 0.000 | 0.000 | 0.001 | |
| list2mat | 0.001 | 0.001 | 0.001 | |
| log2counts | 0.341 | 0.004 | 0.524 | |
| log2cpm | 0.343 | 0.005 | 0.536 | |
| log2diffs | 0.406 | 0.007 | 0.657 | |
| log2proteins | 0.349 | 0.007 | 0.520 | |
| log2sites | 0.363 | 0.007 | 0.592 | |
| log2tpm | 0.347 | 0.005 | 0.552 | |
| log2transform | 5.448 | 0.072 | 8.748 | |
| logical2factor | 0.001 | 0.001 | 0.002 | |
| make_alpha_palette | 0.583 | 0.049 | 0.970 | |
| make_colors | 0.014 | 0.001 | 0.020 | |
| make_volcano_dt | 1.090 | 0.017 | 1.827 | |
| map_fvalues | 0.429 | 0.011 | 0.683 | |
| matrix2sumexp | 1.167 | 0.056 | 1.877 | |
| mclust_breaks | 0.629 | 0.067 | 1.128 | |
| merge_sample_file | 0.573 | 0.014 | 0.939 | |
| merge_sdata | 0.729 | 0.070 | 1.263 | |
| message_df | 0.002 | 0.000 | 0.002 | |
| model_coefs | 0.810 | 0.053 | 1.536 | |
| modelvar | 3.709 | 0.078 | 5.778 | |
| object1 | 0.604 | 0.006 | 0.895 | |
| order_on_p | 1.557 | 0.064 | 2.582 | |
| overall_parameters | 0.036 | 0.001 | 0.070 | |
| pca | 3.624 | 0.078 | 5.627 | |
| pg_to_canonical | 0.005 | 0.000 | 0.005 | |
| plot_coef_densities | 1.583 | 0.063 | 2.590 | |
| plot_contrast_venn | 2.625 | 0.073 | 4.262 | |
| plot_contrastogram | 3.231 | 0.139 | 5.240 | |
| plot_data | 1.913 | 0.067 | 2.946 | |
| plot_densities | 11.967 | 0.262 | 18.686 | |
| plot_design | 0.897 | 0.012 | 1.454 | |
| plot_detections | 8.636 | 0.079 | 13.357 | |
| plot_exprs | 23.871 | 0.229 | 40.743 | |
| plot_exprs_per_coef | 22.608 | 0.201 | 38.455 | |
| plot_fit_summary | 2.775 | 0.076 | 4.855 | |
| plot_heatmap | 2.368 | 0.030 | 4.078 | |
| plot_matrix | 0.597 | 0.051 | 1.074 | |
| plot_subgroup_points | 6.893 | 0.108 | 11.938 | |
| plot_summary | 15.331 | 0.166 | 26.325 | |
| plot_venn | 0.026 | 0.001 | 0.028 | |
| plot_venn_heatmap | 0.027 | 0.001 | 0.094 | |
| plot_violins | 5.929 | 0.110 | 10.150 | |
| plot_volcano | 15.876 | 0.178 | 27.549 | |
| plot_xy_density | 7.472 | 0.072 | 12.852 | |
| preprocess_rnaseq_counts | 0.429 | 0.005 | 0.710 | |
| pull_columns | 0.003 | 0.000 | 0.003 | |
| pvalues_estimable | 0.060 | 0.009 | 0.107 | |
| read_affymetrix | 0.000 | 0.000 | 0.001 | |
| read_diann_proteingroups | 116.733 | 1.998 | 184.390 | |
| read_fragpipe | 8.439 | 0.185 | 14.528 | |
| read_maxquant_phosphosites | 1.716 | 0.032 | 3.051 | |
| read_maxquant_proteingroups | 1.391 | 0.023 | 2.404 | |
| read_metabolon | 14.327 | 0.176 | 24.490 | |
| read_msigdt | 0.001 | 0.000 | 0.001 | |
| read_olink | 1.743 | 0.066 | 2.930 | |
| read_rectangles | 0.220 | 0.025 | 0.405 | |
| read_rnaseq_counts | 35.199 | 1.288 | 58.168 | |
| read_salmon | 0 | 0 | 0 | |
| read_somascan | 14.255 | 0.111 | 25.184 | |
| read_uniprotdt | 0.346 | 0.026 | 0.690 | |
| reset_fit | 5.081 | 0.121 | 9.600 | |
| rm_diann_contaminants | 24.232 | 0.429 | 42.267 | |
| rm_missing_in_some_samples | 0.561 | 0.051 | 1.098 | |
| rm_unmatched_samples | 0.761 | 0.014 | 1.333 | |
| sbind | 4.807 | 0.055 | 8.557 | |
| scaledlibsizes | 0.415 | 0.006 | 0.785 | |
| scoremat | 0.992 | 0.052 | 1.730 | |
| slevels | 0.464 | 0.009 | 0.783 | |
| snames | 0.464 | 0.008 | 0.795 | |
| split_extract_fixed | 0.651 | 0.051 | 1.242 | |
| split_samples | 1.405 | 0.057 | 2.476 | |
| stepauc | 0.357 | 0.005 | 0.635 | |
| stri_any_regex | 0.001 | 0.000 | 0.001 | |
| stri_detect_fixed_in_collapsed | 0.385 | 0.006 | 0.627 | |
| subgroup_matrix | 0.732 | 0.062 | 1.244 | |
| subtract_baseline | 5.682 | 0.091 | 9.033 | |
| sumexp_to_longdt | 2.112 | 0.092 | 3.509 | |
| sumexp_to_tsv | 0.640 | 0.009 | 0.995 | |
| sumexplist_to_longdt | 1.748 | 0.026 | 2.766 | |
| summarize_fit | 1.735 | 0.052 | 2.860 | |
| survobj | 0.159 | 0.002 | 0.288 | |
| svalues | 0.554 | 0.008 | 0.910 | |
| svars | 0.469 | 0.007 | 0.728 | |
| systematic_nas | 0.611 | 0.009 | 1.035 | |
| tag_features | 1.316 | 0.039 | 2.153 | |
| tag_hdlproteins | 0.599 | 0.026 | 0.911 | |
| taxon2org | 0.001 | 0.000 | 0.001 | |
| tpm | 0.477 | 0.005 | 0.768 | |
| uncollapse | 0.036 | 0.001 | 0.062 | |
| values | 0.483 | 0.010 | 0.755 | |
| varlevels_dont_clash | 0.024 | 0.001 | 0.025 | |
| venn_detects | 0.595 | 0.011 | 0.965 | |
| weights | 0.486 | 0.005 | 0.779 | |
| write_xl | 193.788 | 5.991 | 311.897 | |
| zero_to_na | 0.001 | 0.001 | 0.002 | |