Back to Multiple platform build/check report for BioC 3.21: simplified long |
|
This page was generated on 2025-10-13 11:41 -0400 (Mon, 13 Oct 2025).
Hostname | OS | Arch (*) | R version | Installed pkgs |
---|---|---|---|---|
nebbiolo1 | Linux (Ubuntu 24.04.3 LTS) | x86_64 | 4.5.1 (2025-06-13) -- "Great Square Root" | 4833 |
merida1 | macOS 12.7.5 Monterey | x86_64 | 4.5.1 RC (2025-06-05 r88288) -- "Great Square Root" | 4614 |
kjohnson1 | macOS 13.6.6 Ventura | arm64 | 4.5.1 Patched (2025-06-14 r88325) -- "Great Square Root" | 4555 |
kunpeng2 | Linux (openEuler 24.03 LTS) | aarch64 | R Under development (unstable) (2025-02-19 r87757) -- "Unsuffered Consequences" | 4586 |
Click on any hostname to see more info about the system (e.g. compilers) (*) as reported by 'uname -p', except on Windows and Mac OS X |
Package 117/2341 | Hostname | OS / Arch | INSTALL | BUILD | CHECK | BUILD BIN | ||||||||
autonomics 1.16.0 (landing page) Aditya Bhagwat
| nebbiolo1 | Linux (Ubuntu 24.04.3 LTS) / x86_64 | OK | OK | OK | ![]() | ||||||||
merida1 | macOS 12.7.5 Monterey / x86_64 | OK | OK | OK | OK | ![]() | ||||||||
kjohnson1 | macOS 13.6.6 Ventura / arm64 | OK | OK | OK | OK | ![]() | ||||||||
kunpeng2 | Linux (openEuler 24.03 LTS) / aarch64 | OK | OK | ERROR | ||||||||||
To the developers/maintainers of the autonomics package: - Allow up to 24 hours (and sometimes 48 hours) for your latest push to git@git.bioconductor.org:packages/autonomics.git to reflect on this report. See Troubleshooting Build Report for more information. - Use the following Renviron settings to reproduce errors and warnings. - If 'R CMD check' started to fail recently on the Linux builder(s) over a missing dependency, add the missing dependency to 'Suggests:' in your DESCRIPTION file. See Renviron.bioc for more information. - See Martin Grigorov's blog post for how to debug Linux ARM64 related issues on a x86_64 host. |
Package: autonomics |
Version: 1.16.0 |
Command: /home/biocbuild/R/R/bin/R CMD check --install=check:autonomics.install-out.txt --library=/home/biocbuild/R/R/site-library --no-vignettes --timings autonomics_1.16.0.tar.gz |
StartedAt: 2025-10-10 06:15:01 -0000 (Fri, 10 Oct 2025) |
EndedAt: 2025-10-10 06:34:07 -0000 (Fri, 10 Oct 2025) |
EllapsedTime: 1146.1 seconds |
RetCode: 1 |
Status: ERROR |
CheckDir: autonomics.Rcheck |
Warnings: NA |
############################################################################## ############################################################################## ### ### Running command: ### ### /home/biocbuild/R/R/bin/R CMD check --install=check:autonomics.install-out.txt --library=/home/biocbuild/R/R/site-library --no-vignettes --timings autonomics_1.16.0.tar.gz ### ############################################################################## ############################################################################## * using log directory ‘/home/biocbuild/bbs-3.21-bioc/meat/autonomics.Rcheck’ * using R Under development (unstable) (2025-02-19 r87757) * using platform: aarch64-unknown-linux-gnu * R was compiled by aarch64-unknown-linux-gnu-gcc (GCC) 14.2.0 GNU Fortran (GCC) 14.2.0 * running under: openEuler 24.03 (LTS-SP1) * using session charset: UTF-8 * using option ‘--no-vignettes’ * checking for file ‘autonomics/DESCRIPTION’ ... OK * checking extension type ... Package * this is package ‘autonomics’ version ‘1.16.0’ * package encoding: UTF-8 * checking package namespace information ... OK * checking package dependencies ... INFO Imports includes 30 non-default packages. Importing from so many packages makes the package vulnerable to any of them becoming unavailable. Move as many as possible to Suggests and use conditionally. * checking if this is a source package ... OK * checking if there is a namespace ... OK * checking for hidden files and directories ... NOTE Found the following hidden files and directories: .BBSoptions These were most likely included in error. See section ‘Package structure’ in the ‘Writing R Extensions’ manual. * checking for portable file names ... OK * checking for sufficient/correct file permissions ... OK * checking whether package ‘autonomics’ can be installed ... OK * checking installed package size ... OK * checking package directory ... OK * checking ‘build’ directory ... OK * checking DESCRIPTION meta-information ... OK * checking top-level files ... OK * checking for left-over files ... OK * checking index information ... OK * checking package subdirectories ... OK * checking code files for non-ASCII characters ... OK * checking R files for syntax errors ... OK * checking whether the package can be loaded ... OK * checking whether the package can be loaded with stated dependencies ... OK * checking whether the package can be unloaded cleanly ... OK * checking whether the namespace can be loaded with stated dependencies ... OK * checking whether the namespace can be unloaded cleanly ... OK * checking loading without being on the library search path ... OK * checking dependencies in R code ... OK * checking S3 generic/method consistency ... OK * checking replacement functions ... OK * checking foreign function calls ... OK * checking R code for possible problems ... OK * checking Rd files ... OK * checking Rd metadata ... OK * checking Rd cross-references ... NOTE Non-topic package-anchored link(s) in Rd file 'reexports.Rd': ‘[magrittr:compound]{%<>%}’ ‘[magrittr:pipe]{%>%}’ ‘[magrittr:aliases]{extract}’ See section 'Cross-references' in the 'Writing R Extensions' manual. * checking for missing documentation entries ... OK * checking for code/documentation mismatches ... OK * checking Rd \usage sections ... OK * checking Rd contents ... OK * checking for unstated dependencies in examples ... OK * checking files in ‘vignettes’ ... OK * checking examples ... OK Examples with CPU (user + system) or elapsed time > 5s user system elapsed read_rnaseq_counts 49.788 0.837 51.028 fit_linmod 45.772 0.240 46.118 plot_exprs_per_coef 37.579 0.092 37.757 plot_exprs 36.585 0.088 36.760 default_formula 24.887 0.676 25.597 analyze 23.453 0.280 23.786 plot_summary 23.173 0.084 23.301 read_metabolon 22.611 0.156 22.817 read_somascan 22.573 0.144 22.901 plot_volcano 20.914 0.119 21.368 plot_densities 14.288 0.436 15.101 fcluster 13.341 0.079 13.476 ftype 11.820 0.056 11.864 plot_sample_nas 11.334 0.160 11.519 biplot_covariates 10.076 0.297 10.441 extract_coef_features 9.445 0.136 9.738 read_fragpipe 8.630 0.056 8.640 plot_subgroup_points 8.588 0.075 8.678 log2transform 8.034 0.052 8.101 reset_fit 7.749 0.028 7.792 code 7.445 0.143 7.609 fit_survival 7.477 0.036 7.527 subtract_baseline 7.189 0.040 7.240 plot_violins 7.110 0.080 7.204 biplot 6.827 0.342 7.189 biplot_corrections 6.480 0.300 6.799 plot_joint_density 6.086 0.060 6.165 plot_survival 5.939 0.068 6.037 modelvar 5.103 0.020 5.131 read_diann_proteingroups 4.948 0.052 5.011 annotate_uniprot_rest 0.118 0.011 7.230 * checking for unstated dependencies in ‘tests’ ... OK * checking tests ... Running ‘testthat.R’ ERROR Running the tests in ‘tests/testthat.R’ failed. Last 13 lines of output: [1] nonexistent attr(,"class") [1] "vector_with_cause" "logical" Backtrace: ▆ 1. ├─autonomics::.read_rnaseq_counts(file, sfile = sfile, by.y = "rna_id") at test-8_fit.R:76:9 2. │ └─object %<>% ... 3. └─autonomics::merge_sample_file(...) 4. └─autonomics:::assert_all_are_existing_files(sfile) 5. └─autonomics:::assert_engine(...) 6. └─autonomics:::give_feedback(handler_type, msg, predicate_name) [ FAIL 1 | WARN 4 | SKIP 0 | PASS 157 ] Error: Test failures Execution halted * checking for unstated dependencies in vignettes ... OK * checking package vignettes ... OK * checking running R code from vignettes ... SKIPPED * checking re-building of vignette outputs ... SKIPPED * checking PDF version of manual ... OK * DONE Status: 1 ERROR, 2 NOTEs See ‘/home/biocbuild/bbs-3.21-bioc/meat/autonomics.Rcheck/00check.log’ for details.
autonomics.Rcheck/00install.out
############################################################################## ############################################################################## ### ### Running command: ### ### /home/biocbuild/R/R/bin/R CMD INSTALL autonomics ### ############################################################################## ############################################################################## * installing to library ‘/home/biocbuild/R/R-devel_2025-02-19/site-library’ * installing *source* package ‘autonomics’ ... ** this is package ‘autonomics’ version ‘1.16.0’ ** using staged installation ** R ** inst ** byte-compile and prepare package for lazy loading ** help *** installing help indices ** building package indices ** installing vignettes ** testing if installed package can be loaded from temporary location ** testing if installed package can be loaded from final location ** testing if installed package keeps a record of temporary installation path * DONE (autonomics)
autonomics.Rcheck/tests/testthat.Rout.fail
R Under development (unstable) (2025-02-19 r87757) -- "Unsuffered Consequences" Copyright (C) 2025 The R Foundation for Statistical Computing Platform: aarch64-unknown-linux-gnu R is free software and comes with ABSOLUTELY NO WARRANTY. You are welcome to redistribute it under certain conditions. Type 'license()' or 'licence()' for distribution details. R is a collaborative project with many contributors. Type 'contributors()' for more information and 'citation()' on how to cite R or R packages in publications. Type 'demo()' for some demos, 'help()' for on-line help, or 'help.start()' for an HTML browser interface to help. Type 'q()' to quit R. > library(testthat) > library(autonomics) Attaching package: 'autonomics' The following objects are masked from 'package:stats': biplot, loadings The following object is masked from 'package:base': beta > > test_check("autonomics") [ FAIL 1 | WARN 4 | SKIP 0 | PASS 157 ] ══ Failed tests ════════════════════════════════════════════════════════════════ ── Error ('test-8_fit.R:76:9'): fit: mcclain21 ─────────────────────────────── <assertionError/assertionCondition/simpleError/error/condition> Error in `merge_sample_file(., sfile = sfile, by.x = "sample_id", by.y = by.y)`: is_existing_file : Some or all of the files specified by sfile do not exist. /home/biocbuild/.cache/R/autonomics/datasets/mcclain21/GSE161731_counts_key.csv.gz FALSE attr(,"cause") [1] nonexistent attr(,"class") [1] "vector_with_cause" "logical" Backtrace: ▆ 1. ├─autonomics::.read_rnaseq_counts(file, sfile = sfile, by.y = "rna_id") at test-8_fit.R:76:9 2. │ └─object %<>% ... 3. └─autonomics::merge_sample_file(...) 4. └─autonomics:::assert_all_are_existing_files(sfile) 5. └─autonomics:::assert_engine(...) 6. └─autonomics:::give_feedback(handler_type, msg, predicate_name) [ FAIL 1 | WARN 4 | SKIP 0 | PASS 157 ] Error: Test failures Execution halted
autonomics.Rcheck/autonomics-Ex.timings
name | user | system | elapsed | |
AUTONOMICS_DATASETS | 0 | 0 | 0 | |
COMPOUNDDISCOVERER_PATTERNS | 0.000 | 0.000 | 0.001 | |
FITSEP | 0.000 | 0.000 | 0.001 | |
LINMODENGINES | 0 | 0 | 0 | |
MAXQUANT_PATTERNS | 0 | 0 | 0 | |
SURVIVALENGINES | 0 | 0 | 0 | |
TAXON_TO_ORGNAME | 0.001 | 0.000 | 0.000 | |
TESTS | 0 | 0 | 0 | |
X | 2.002 | 0.112 | 2.120 | |
abstract_fit | 2.397 | 0.131 | 2.537 | |
add_adjusted_pvalues | 0.783 | 0.012 | 0.800 | |
add_assay_means | 0.485 | 0.000 | 0.485 | |
add_facetvars | 2.190 | 0.040 | 2.235 | |
add_opentargets_by_uniprot | 0.513 | 0.004 | 0.522 | |
add_psp | 0.659 | 0.004 | 0.667 | |
add_smiles | 0.623 | 0.028 | 0.655 | |
analysis | 0.482 | 0.012 | 0.496 | |
analyze | 23.453 | 0.280 | 23.786 | |
annotate_maxquant | 1.178 | 0.092 | 1.276 | |
annotate_uniprot_rest | 0.118 | 0.011 | 7.230 | |
assert_is_valid_sumexp | 0.747 | 0.036 | 0.793 | |
bin | 0.536 | 0.044 | 0.582 | |
biplot | 6.827 | 0.342 | 7.189 | |
biplot_corrections | 6.480 | 0.300 | 6.799 | |
biplot_covariates | 10.076 | 0.297 | 10.441 | |
block2lme | 0.004 | 0.000 | 0.005 | |
center | 2.461 | 0.080 | 2.549 | |
code | 7.445 | 0.143 | 7.609 | |
coefs | 1.091 | 0.024 | 1.116 | |
collapsed_entrezg_to_symbol | 0 | 0 | 0 | |
contrast_subgroup_cols | 0.721 | 0.016 | 0.737 | |
count_in | 0.001 | 0.000 | 0.001 | |
counts | 0.476 | 0.000 | 0.478 | |
counts2cpm | 0.413 | 0.004 | 0.419 | |
counts2tpm | 0.406 | 0.004 | 0.414 | |
cpm | 0.466 | 0.000 | 0.468 | |
create_design | 0.988 | 0.008 | 0.998 | |
default_formula | 24.887 | 0.676 | 25.597 | |
default_geom | 0.667 | 0.046 | 0.729 | |
default_sfile | 0.002 | 0.000 | 0.001 | |
demultiplex | 0.017 | 0.004 | 0.021 | |
dequantify | 0.003 | 0.000 | 0.003 | |
dequantify_compounddiscoverer | 0.001 | 0.000 | 0.001 | |
dot-coxph | 0.546 | 0.016 | 0.580 | |
dot-merge | 0.027 | 0.000 | 0.028 | |
dot-read_maxquant_proteingroups | 0.131 | 0.004 | 0.139 | |
download_data | 0 | 0 | 0 | |
download_gtf | 0 | 0 | 0 | |
download_mcclain21 | 0.000 | 0.000 | 0.001 | |
dt2mat | 0.004 | 0.000 | 0.004 | |
enrichment | 2.531 | 0.073 | 2.683 | |
entrezg_to_symbol | 0 | 0 | 0 | |
extract_coef_features | 9.445 | 0.136 | 9.738 | |
extract_rectangle | 0.147 | 0.004 | 0.152 | |
fcluster | 13.341 | 0.079 | 13.476 | |
fcor | 2.124 | 0.004 | 2.132 | |
fdata | 0.826 | 0.036 | 0.863 | |
fdr2p | 1.368 | 0.012 | 1.382 | |
filter_exprs_replicated_in_some_subgroup | 1.321 | 0.016 | 1.337 | |
filter_features | 0.661 | 0.013 | 0.671 | |
filter_medoid | 0.987 | 0.003 | 0.993 | |
filter_samples | 0.743 | 0.012 | 0.753 | |
fit_linmod | 45.772 | 0.240 | 46.118 | |
fit_survival | 7.477 | 0.036 | 7.527 | |
fitcoefs | 1.155 | 0.020 | 1.174 | |
fits | 0.975 | 0.004 | 0.979 | |
fix_xlgenes | 0.002 | 0.000 | 0.002 | |
flevels | 0.571 | 0.000 | 0.572 | |
fnames | 0.581 | 0.003 | 0.585 | |
formula2str | 0 | 0 | 0 | |
ftype | 11.820 | 0.056 | 11.864 | |
fvalues | 0.530 | 0.000 | 0.531 | |
fvars | 0.572 | 0.012 | 0.586 | |
genome_to_orgdb | 0.001 | 0.000 | 0.001 | |
group_by_level | 0.001 | 0.000 | 0.002 | |
guess_compounddiscoverer_quantity | 0.001 | 0.000 | 0.002 | |
guess_fitsep | 0.643 | 0.028 | 0.672 | |
guess_maxquant_quantity | 0.006 | 0.000 | 0.007 | |
guess_sep | 0.684 | 0.020 | 0.702 | |
has_multiple_levels | 0.070 | 0.004 | 0.073 | |
hdlproteins | 0.061 | 0.008 | 0.080 | |
impute | 4.873 | 0.012 | 4.894 | |
invert_subgroups | 0.910 | 0.000 | 0.911 | |
is_collapsed_subset | 0.000 | 0.000 | 0.001 | |
is_correlation_matrix | 0.001 | 0.000 | 0.001 | |
is_diann_report | 0.215 | 0.004 | 0.199 | |
is_fastadt | 0.083 | 0.000 | 0.083 | |
is_file | 0.001 | 0.000 | 0.001 | |
is_fraction | 0.002 | 0.000 | 0.002 | |
is_imputed | 0.985 | 0.004 | 0.990 | |
is_positive_number | 0.002 | 0.000 | 0.002 | |
is_scalar_subset | 0.477 | 0.000 | 0.478 | |
is_sig | 2.500 | 0.024 | 2.529 | |
is_valid_formula | 0.061 | 0.000 | 0.060 | |
keep_connected_blocks | 0.732 | 0.004 | 0.735 | |
keep_connected_features | 0.966 | 0.000 | 0.962 | |
keep_replicated_features | 1.098 | 0.004 | 1.098 | |
label2index | 0.001 | 0.000 | 0.001 | |
list2mat | 0.000 | 0.000 | 0.001 | |
log2counts | 0.447 | 0.000 | 0.447 | |
log2cpm | 0.424 | 0.000 | 0.424 | |
log2diffs | 0.476 | 0.004 | 0.480 | |
log2proteins | 0.425 | 0.000 | 0.426 | |
log2sites | 0.476 | 0.000 | 0.477 | |
log2tpm | 0.417 | 0.004 | 0.422 | |
log2transform | 8.034 | 0.052 | 8.101 | |
logical2factor | 0.001 | 0.000 | 0.001 | |
make_alpha_palette | 0.632 | 0.028 | 0.659 | |
make_colors | 0.011 | 0.000 | 0.012 | |
make_volcano_dt | 1.158 | 0.000 | 1.160 | |
map_fvalues | 0.505 | 0.004 | 0.510 | |
matrix2sumexp | 1.345 | 0.004 | 1.351 | |
merge_sample_file | 0.571 | 0.000 | 0.571 | |
merge_sdata | 0.704 | 0.016 | 0.720 | |
message_df | 0.003 | 0.000 | 0.003 | |
model_coefs | 0.976 | 0.036 | 1.014 | |
modelvar | 5.103 | 0.020 | 5.131 | |
order_on_p | 1.661 | 0.000 | 1.664 | |
pca | 4.799 | 0.024 | 4.829 | |
pg_to_canonical | 0.008 | 0.000 | 0.008 | |
plot_coef_densities | 1.914 | 0.004 | 1.921 | |
plot_contrast_venn | 3.405 | 0.062 | 3.509 | |
plot_contrastogram | 4.071 | 0.048 | 4.146 | |
plot_data | 2.311 | 0.043 | 2.406 | |
plot_densities | 14.288 | 0.436 | 15.101 | |
plot_design | 1.026 | 0.000 | 1.028 | |
plot_exprs | 36.585 | 0.088 | 36.760 | |
plot_exprs_per_coef | 37.579 | 0.092 | 37.757 | |
plot_fit_summary | 3.271 | 0.016 | 3.288 | |
plot_heatmap | 3.686 | 0.000 | 3.694 | |
plot_joint_density | 6.086 | 0.060 | 6.165 | |
plot_matrix | 0.724 | 0.012 | 0.735 | |
plot_sample_nas | 11.334 | 0.160 | 11.519 | |
plot_subgroup_points | 8.588 | 0.075 | 8.678 | |
plot_summary | 23.173 | 0.084 | 23.301 | |
plot_survival | 5.939 | 0.068 | 6.037 | |
plot_venn | 0.005 | 0.000 | 0.006 | |
plot_venn_heatmap | 0.032 | 0.000 | 0.032 | |
plot_violins | 7.110 | 0.080 | 7.204 | |
plot_volcano | 20.914 | 0.119 | 21.368 | |
preprocess_rnaseq_counts | 0.433 | 0.008 | 0.442 | |
pull_columns | 0.002 | 0.000 | 0.003 | |
read_affymetrix | 0.000 | 0.000 | 0.001 | |
read_diann_proteingroups | 4.948 | 0.052 | 5.011 | |
read_fragpipe | 8.630 | 0.056 | 8.640 | |
read_maxquant_phosphosites | 2.025 | 0.016 | 2.045 | |
read_maxquant_proteingroups | 1.670 | 0.044 | 1.718 | |
read_metabolon | 22.611 | 0.156 | 22.817 | |
read_msigdt | 0.001 | 0.000 | 0.001 | |
read_olink | 1.946 | 0.024 | 1.977 | |
read_rectangles | 0.228 | 0.004 | 0.232 | |
read_rnaseq_counts | 49.788 | 0.837 | 51.028 | |
read_salmon | 0 | 0 | 0 | |
read_somascan | 22.573 | 0.144 | 22.901 | |
read_uniprotdt | 0.392 | 0.008 | 0.401 | |
reset_fit | 7.749 | 0.028 | 7.792 | |
rm_diann_contaminants | 1.644 | 0.000 | 1.648 | |
rm_missing_in_some_samples | 0.872 | 0.012 | 0.887 | |
rm_unmatched_samples | 0.902 | 0.000 | 0.905 | |
scaledlibsizes | 0.427 | 0.004 | 0.432 | |
scoremat | 1.467 | 0.008 | 1.477 | |
slevels | 0.533 | 0.008 | 0.542 | |
snames | 0.616 | 0.004 | 0.621 | |
split_extract_fixed | 0.749 | 0.000 | 0.751 | |
split_samples | 1.770 | 0.008 | 1.781 | |
stri_any_regex | 0.000 | 0.000 | 0.001 | |
stri_detect_fixed_in_collapsed | 0.480 | 0.004 | 0.485 | |
subgroup_matrix | 0.754 | 0.016 | 0.770 | |
subtract_baseline | 7.189 | 0.040 | 7.240 | |
sumexp_to_longdt | 2.603 | 0.020 | 2.630 | |
sumexp_to_tsv | 0.698 | 0.008 | 0.708 | |
sumexplist_to_longdt | 2.139 | 0.016 | 2.160 | |
summarize_fit | 2.289 | 0.008 | 2.301 | |
svalues | 0.517 | 0.000 | 0.517 | |
svars | 0.518 | 0.000 | 0.519 | |
systematic_nas | 0.757 | 0.000 | 0.757 | |
tag_features | 1.250 | 0.012 | 1.264 | |
tag_hdlproteins | 0.737 | 0.020 | 0.759 | |
taxon2org | 0.001 | 0.000 | 0.002 | |
tpm | 0.426 | 0.000 | 0.426 | |
uncollapse | 0.037 | 0.000 | 0.036 | |
values | 0.532 | 0.008 | 0.541 | |
varlevels_dont_clash | 0.028 | 0.000 | 0.027 | |
venn_detects | 0.768 | 0.008 | 0.778 | |
weights | 0.436 | 0.032 | 0.468 | |
write_xl | 0.959 | 0.040 | 1.000 | |
zero_to_na | 0.002 | 0.000 | 0.002 | |