Back to Multiple platform build/check report for BioC 3.21: simplified long |
|
This page was generated on 2025-05-08 11:43 -0400 (Thu, 08 May 2025).
Hostname | OS | Arch (*) | R version | Installed pkgs |
---|---|---|---|---|
nebbiolo1 | Linux (Ubuntu 24.04.1 LTS) | x86_64 | 4.5.0 RC (2025-04-04 r88126) -- "How About a Twenty-Six" | 4833 |
palomino7 | Windows Server 2022 Datacenter | x64 | 4.5.0 RC (2025-04-04 r88126 ucrt) -- "How About a Twenty-Six" | 4574 |
merida1 | macOS 12.7.5 Monterey | x86_64 | 4.5.0 RC (2025-04-04 r88126) -- "How About a Twenty-Six" | 4599 |
kjohnson1 | macOS 13.6.6 Ventura | arm64 | 4.5.0 RC (2025-04-04 r88129) -- "How About a Twenty-Six" | 4553 |
kunpeng2 | Linux (openEuler 24.03 LTS) | aarch64 | R Under development (unstable) (2025-02-19 r87757) -- "Unsuffered Consequences" | 4570 |
Click on any hostname to see more info about the system (e.g. compilers) (*) as reported by 'uname -p', except on Windows and Mac OS X |
Package 117/2341 | Hostname | OS / Arch | INSTALL | BUILD | CHECK | BUILD BIN | ||||||||
autonomics 1.16.0 (landing page) Aditya Bhagwat
| nebbiolo1 | Linux (Ubuntu 24.04.1 LTS) / x86_64 | OK | OK | OK | ![]() | ||||||||
palomino7 | Windows Server 2022 Datacenter / x64 | OK | OK | OK | OK | ![]() | ||||||||
merida1 | macOS 12.7.5 Monterey / x86_64 | OK | OK | OK | OK | ![]() | ||||||||
kjohnson1 | macOS 13.6.6 Ventura / arm64 | OK | OK | OK | OK | ![]() | ||||||||
kunpeng2 | Linux (openEuler 24.03 LTS) / aarch64 | OK | OK | OK | ||||||||||
To the developers/maintainers of the autonomics package: - Allow up to 24 hours (and sometimes 48 hours) for your latest push to git@git.bioconductor.org:packages/autonomics.git to reflect on this report. See Troubleshooting Build Report for more information. - Use the following Renviron settings to reproduce errors and warnings. - If 'R CMD check' started to fail recently on the Linux builder(s) over a missing dependency, add the missing dependency to 'Suggests:' in your DESCRIPTION file. See Renviron.bioc for more information. |
Package: autonomics |
Version: 1.16.0 |
Command: /Library/Frameworks/R.framework/Resources/bin/R CMD check --install=check:autonomics.install-out.txt --library=/Library/Frameworks/R.framework/Resources/library --no-vignettes --timings autonomics_1.16.0.tar.gz |
StartedAt: 2025-05-05 23:53:30 -0400 (Mon, 05 May 2025) |
EndedAt: 2025-05-06 00:29:20 -0400 (Tue, 06 May 2025) |
EllapsedTime: 2150.5 seconds |
RetCode: 0 |
Status: OK |
CheckDir: autonomics.Rcheck |
Warnings: 0 |
############################################################################## ############################################################################## ### ### Running command: ### ### /Library/Frameworks/R.framework/Resources/bin/R CMD check --install=check:autonomics.install-out.txt --library=/Library/Frameworks/R.framework/Resources/library --no-vignettes --timings autonomics_1.16.0.tar.gz ### ############################################################################## ############################################################################## * using log directory ‘/Users/biocbuild/bbs-3.21-bioc/meat/autonomics.Rcheck’ * using R version 4.5.0 RC (2025-04-04 r88126) * using platform: x86_64-apple-darwin20 * R was compiled by Apple clang version 14.0.0 (clang-1400.0.29.202) GNU Fortran (GCC) 14.2.0 * running under: macOS Monterey 12.7.6 * using session charset: UTF-8 * using option ‘--no-vignettes’ * checking for file ‘autonomics/DESCRIPTION’ ... OK * checking extension type ... Package * this is package ‘autonomics’ version ‘1.16.0’ * package encoding: UTF-8 * checking package namespace information ... OK * checking package dependencies ... INFO Imports includes 30 non-default packages. Importing from so many packages makes the package vulnerable to any of them becoming unavailable. Move as many as possible to Suggests and use conditionally. * checking if this is a source package ... OK * checking if there is a namespace ... OK * checking for hidden files and directories ... NOTE Found the following hidden files and directories: .BBSoptions These were most likely included in error. See section ‘Package structure’ in the ‘Writing R Extensions’ manual. * checking for portable file names ... OK * checking for sufficient/correct file permissions ... OK * checking whether package ‘autonomics’ can be installed ... OK * checking installed package size ... OK * checking package directory ... OK * checking ‘build’ directory ... OK * checking DESCRIPTION meta-information ... OK * checking top-level files ... OK * checking for left-over files ... OK * checking index information ... OK * checking package subdirectories ... OK * checking code files for non-ASCII characters ... OK * checking R files for syntax errors ... OK * checking whether the package can be loaded ... OK * checking whether the package can be loaded with stated dependencies ... OK * checking whether the package can be unloaded cleanly ... OK * checking whether the namespace can be loaded with stated dependencies ... OK * checking whether the namespace can be unloaded cleanly ... OK * checking dependencies in R code ... OK * checking S3 generic/method consistency ... OK * checking replacement functions ... OK * checking foreign function calls ... OK * checking R code for possible problems ... OK * checking Rd files ... OK * checking Rd metadata ... OK * checking Rd cross-references ... NOTE Non-topic package-anchored link(s) in Rd file 'reexports.Rd': ‘[magrittr:compound]{%<>%}’ ‘[magrittr:pipe]{%>%}’ ‘[magrittr:aliases]{extract}’ See section 'Cross-references' in the 'Writing R Extensions' manual. * checking for missing documentation entries ... OK * checking for code/documentation mismatches ... OK * checking Rd \usage sections ... OK * checking Rd contents ... OK * checking for unstated dependencies in examples ... OK * checking files in ‘vignettes’ ... OK * checking examples ... OK Examples with CPU (user + system) or elapsed time > 5s user system elapsed read_diann_proteingroups 233.012 4.540 275.502 fit_linmod 72.525 0.420 76.299 read_rnaseq_counts 68.350 3.088 76.203 plot_exprs_per_coef 58.103 0.323 60.448 plot_exprs 55.744 0.303 61.798 rm_diann_contaminants 46.990 0.542 49.104 default_formula 39.083 0.666 41.622 analyze 36.503 0.254 37.908 read_metabolon 35.852 0.313 39.424 plot_summary 35.930 0.214 38.377 read_somascan 32.387 0.201 33.716 plot_volcano 29.735 0.698 37.773 ftype 19.067 0.418 20.563 plot_densities 18.852 0.216 20.031 extract_coef_features 16.892 0.140 18.250 read_fragpipe 15.302 0.317 16.925 plot_sample_nas 14.866 0.092 16.297 fcluster 14.255 0.124 15.216 code 13.304 0.119 13.679 biplot_covariates 12.348 0.094 12.560 reset_fit 11.983 0.123 12.651 plot_subgroup_points 11.562 0.125 12.722 fit_survival 11.428 0.091 12.184 subtract_baseline 10.015 0.112 10.168 biplot 9.632 0.118 9.980 plot_violins 9.296 0.123 10.096 log2transform 8.612 0.097 9.506 modelvar 8.503 0.100 9.012 plot_survival 8.201 0.052 8.795 biplot_corrections 7.458 0.080 7.574 plot_contrastogram 6.803 0.184 7.270 impute 6.892 0.049 7.360 pca 6.717 0.098 7.356 plot_joint_density 6.619 0.124 7.569 plot_contrast_venn 5.990 0.155 6.441 plot_heatmap 5.278 0.024 5.644 plot_fit_summary 4.906 0.089 5.167 enrichment 4.626 0.021 5.009 read_olink 2.576 0.083 5.308 * checking for unstated dependencies in ‘tests’ ... OK * checking tests ... Running ‘testthat.R’ OK * checking for unstated dependencies in vignettes ... OK * checking package vignettes ... OK * checking running R code from vignettes ... SKIPPED * checking re-building of vignette outputs ... SKIPPED * checking PDF version of manual ... OK * DONE Status: 2 NOTEs See ‘/Users/biocbuild/bbs-3.21-bioc/meat/autonomics.Rcheck/00check.log’ for details.
autonomics.Rcheck/00install.out
############################################################################## ############################################################################## ### ### Running command: ### ### /Library/Frameworks/R.framework/Resources/bin/R CMD INSTALL autonomics ### ############################################################################## ############################################################################## * installing to library ‘/Library/Frameworks/R.framework/Versions/4.5-x86_64/Resources/library’ * installing *source* package ‘autonomics’ ... ** this is package ‘autonomics’ version ‘1.16.0’ ** using staged installation ** R ** inst ** byte-compile and prepare package for lazy loading ** help *** installing help indices ** building package indices ** installing vignettes ** testing if installed package can be loaded from temporary location ** testing if installed package can be loaded from final location ** testing if installed package keeps a record of temporary installation path * DONE (autonomics)
autonomics.Rcheck/tests/testthat.Rout
R version 4.5.0 RC (2025-04-04 r88126) -- "How About a Twenty-Six" Copyright (C) 2025 The R Foundation for Statistical Computing Platform: x86_64-apple-darwin20 R is free software and comes with ABSOLUTELY NO WARRANTY. You are welcome to redistribute it under certain conditions. Type 'license()' or 'licence()' for distribution details. R is a collaborative project with many contributors. Type 'contributors()' for more information and 'citation()' on how to cite R or R packages in publications. Type 'demo()' for some demos, 'help()' for on-line help, or 'help.start()' for an HTML browser interface to help. Type 'q()' to quit R. > library(testthat) > library(autonomics) Attaching package: 'autonomics' The following objects are masked from 'package:stats': biplot, loadings The following object is masked from 'package:base': beta > > test_check("autonomics") [ FAIL 0 | WARN 2 | SKIP 0 | PASS 158 ] [ FAIL 0 | WARN 2 | SKIP 0 | PASS 158 ] > > proc.time() user system elapsed 269.268 12.873 373.742
autonomics.Rcheck/autonomics-Ex.timings
name | user | system | elapsed | |
AUTONOMICS_DATASETS | 0.001 | 0.001 | 0.002 | |
COMPOUNDDISCOVERER_PATTERNS | 0.001 | 0.001 | 0.001 | |
FITSEP | 0.000 | 0.001 | 0.001 | |
LINMODENGINES | 0.000 | 0.001 | 0.001 | |
MAXQUANT_PATTERNS | 0.001 | 0.001 | 0.001 | |
SURVIVALENGINES | 0 | 0 | 0 | |
TAXON_TO_ORGNAME | 0.001 | 0.001 | 0.001 | |
TESTS | 0.000 | 0.000 | 0.001 | |
X | 4.285 | 0.112 | 4.626 | |
abstract_fit | 4.167 | 0.174 | 4.395 | |
add_adjusted_pvalues | 1.247 | 0.036 | 1.291 | |
add_assay_means | 0.798 | 0.015 | 0.815 | |
add_facetvars | 3.674 | 0.104 | 3.816 | |
add_opentargets_by_uniprot | 0.876 | 0.013 | 0.939 | |
add_psp | 1.107 | 0.025 | 1.140 | |
add_smiles | 1.036 | 0.068 | 1.119 | |
analysis | 0.930 | 0.028 | 0.990 | |
analyze | 36.503 | 0.254 | 37.908 | |
annotate_maxquant | 2.111 | 0.132 | 2.350 | |
annotate_uniprot_rest | 0.150 | 0.021 | 1.578 | |
assert_is_valid_sumexp | 2.169 | 0.074 | 2.300 | |
bin | 0.849 | 0.015 | 0.882 | |
biplot | 9.632 | 0.118 | 9.980 | |
biplot_corrections | 7.458 | 0.080 | 7.574 | |
biplot_covariates | 12.348 | 0.094 | 12.560 | |
block2lme | 0.006 | 0.001 | 0.009 | |
center | 3.297 | 0.035 | 3.371 | |
code | 13.304 | 0.119 | 13.679 | |
coefs | 1.941 | 0.068 | 2.102 | |
collapsed_entrezg_to_symbol | 0.001 | 0.001 | 0.003 | |
contrast_subgroup_cols | 1.333 | 0.064 | 1.462 | |
count_in | 0.003 | 0.002 | 0.005 | |
counts | 0.797 | 0.006 | 0.833 | |
counts2cpm | 0.711 | 0.006 | 0.753 | |
counts2tpm | 0.707 | 0.005 | 0.769 | |
cpm | 0.727 | 0.005 | 0.802 | |
create_design | 1.604 | 0.076 | 1.783 | |
default_formula | 39.083 | 0.666 | 41.622 | |
default_geom | 1.210 | 0.080 | 1.334 | |
default_sfile | 0.002 | 0.001 | 0.004 | |
demultiplex | 0.037 | 0.003 | 0.039 | |
dequantify | 0.005 | 0.001 | 0.006 | |
dequantify_compounddiscoverer | 0.002 | 0.000 | 0.004 | |
dot-coxph | 0.977 | 0.056 | 1.081 | |
dot-merge | 0.035 | 0.001 | 0.037 | |
dot-read_maxquant_proteingroups | 0.205 | 0.007 | 0.223 | |
download_data | 0.000 | 0.002 | 0.003 | |
download_gtf | 0.001 | 0.000 | 0.000 | |
download_mcclain21 | 0.000 | 0.000 | 0.001 | |
dt2mat | 0.007 | 0.001 | 0.008 | |
enrichment | 4.626 | 0.021 | 5.009 | |
entrezg_to_symbol | 0.001 | 0.001 | 0.002 | |
extract_coef_features | 16.892 | 0.140 | 18.250 | |
extract_rectangle | 0.284 | 0.066 | 0.378 | |
fcluster | 14.255 | 0.124 | 15.216 | |
fcor | 2.287 | 0.048 | 2.398 | |
fdata | 1.147 | 0.030 | 1.208 | |
fdr2p | 2.310 | 0.070 | 2.451 | |
filter_exprs_replicated_in_some_subgroup | 2.268 | 0.072 | 2.434 | |
filter_features | 1.246 | 0.066 | 1.437 | |
filter_medoid | 1.625 | 0.029 | 1.865 | |
filter_samples | 1.190 | 0.076 | 1.321 | |
fit_linmod | 72.525 | 0.420 | 76.299 | |
fit_survival | 11.428 | 0.091 | 12.184 | |
fitcoefs | 2.069 | 0.072 | 2.247 | |
fits | 1.802 | 0.072 | 1.966 | |
fix_xlgenes | 0.003 | 0.001 | 0.004 | |
flevels | 0.862 | 0.008 | 0.895 | |
fnames | 1.032 | 0.010 | 1.051 | |
formula2str | 0.001 | 0.000 | 0.001 | |
ftype | 19.067 | 0.418 | 20.563 | |
fvalues | 0.899 | 0.011 | 0.945 | |
fvars | 0.887 | 0.010 | 0.938 | |
genome_to_orgdb | 0.001 | 0.000 | 0.001 | |
group_by_level | 0.002 | 0.002 | 0.004 | |
guess_compounddiscoverer_quantity | 0.002 | 0.001 | 0.003 | |
guess_fitsep | 1.051 | 0.010 | 1.121 | |
guess_maxquant_quantity | 0.011 | 0.003 | 0.014 | |
guess_sep | 1.136 | 0.066 | 1.250 | |
has_multiple_levels | 0.129 | 0.006 | 0.146 | |
hdlproteins | 0.081 | 0.062 | 0.191 | |
impute | 6.892 | 0.049 | 7.360 | |
invert_subgroups | 1.497 | 0.015 | 1.717 | |
is_collapsed_subset | 0.001 | 0.001 | 0.002 | |
is_correlation_matrix | 0.002 | 0.001 | 0.007 | |
is_diann_report | 0.384 | 0.081 | 0.575 | |
is_fastadt | 0.134 | 0.002 | 0.138 | |
is_file | 0.000 | 0.001 | 0.002 | |
is_fraction | 0.004 | 0.002 | 0.007 | |
is_imputed | 1.660 | 0.015 | 1.851 | |
is_positive_number | 0.004 | 0.002 | 0.005 | |
is_scalar_subset | 0.715 | 0.012 | 0.768 | |
is_sig | 4.138 | 0.025 | 4.381 | |
is_valid_formula | 0.102 | 0.004 | 0.106 | |
keep_connected_blocks | 1.127 | 0.067 | 1.219 | |
keep_connected_features | 1.678 | 0.072 | 1.838 | |
keep_replicated_features | 1.837 | 0.071 | 1.929 | |
label2index | 0.002 | 0.001 | 0.002 | |
list2mat | 0.001 | 0.001 | 0.002 | |
log2counts | 0.745 | 0.004 | 0.751 | |
log2cpm | 0.720 | 0.005 | 0.728 | |
log2diffs | 0.770 | 0.008 | 0.780 | |
log2proteins | 0.694 | 0.010 | 0.706 | |
log2sites | 0.692 | 0.008 | 0.703 | |
log2tpm | 0.720 | 0.004 | 0.727 | |
log2transform | 8.612 | 0.097 | 9.506 | |
logical2factor | 0.002 | 0.001 | 0.004 | |
make_alpha_palette | 1.211 | 0.067 | 1.353 | |
make_colors | 0.016 | 0.003 | 0.019 | |
make_volcano_dt | 2.106 | 0.021 | 2.216 | |
map_fvalues | 0.854 | 0.014 | 0.906 | |
matrix2sumexp | 2.160 | 0.078 | 2.341 | |
merge_sample_file | 0.973 | 0.015 | 1.021 | |
merge_sdata | 1.263 | 0.103 | 1.421 | |
message_df | 0.004 | 0.000 | 0.005 | |
model_coefs | 1.742 | 0.071 | 1.901 | |
modelvar | 8.503 | 0.100 | 9.012 | |
order_on_p | 2.761 | 0.076 | 3.031 | |
pca | 6.717 | 0.098 | 7.356 | |
pg_to_canonical | 0.015 | 0.002 | 0.017 | |
plot_coef_densities | 2.891 | 0.160 | 3.246 | |
plot_contrast_venn | 5.990 | 0.155 | 6.441 | |
plot_contrastogram | 6.803 | 0.184 | 7.270 | |
plot_data | 2.833 | 0.082 | 3.228 | |
plot_densities | 18.852 | 0.216 | 20.031 | |
plot_design | 1.356 | 0.013 | 1.435 | |
plot_exprs | 55.744 | 0.303 | 61.798 | |
plot_exprs_per_coef | 58.103 | 0.323 | 60.448 | |
plot_fit_summary | 4.906 | 0.089 | 5.167 | |
plot_heatmap | 5.278 | 0.024 | 5.644 | |
plot_joint_density | 6.619 | 0.124 | 7.569 | |
plot_matrix | 1.175 | 0.080 | 1.373 | |
plot_sample_nas | 14.866 | 0.092 | 16.297 | |
plot_subgroup_points | 11.562 | 0.125 | 12.722 | |
plot_summary | 35.930 | 0.214 | 38.377 | |
plot_survival | 8.201 | 0.052 | 8.795 | |
plot_venn | 0.007 | 0.001 | 0.009 | |
plot_venn_heatmap | 0.047 | 0.002 | 0.056 | |
plot_violins | 9.296 | 0.123 | 10.096 | |
plot_volcano | 29.735 | 0.698 | 37.773 | |
preprocess_rnaseq_counts | 0.718 | 0.017 | 0.943 | |
pull_columns | 0.005 | 0.002 | 0.008 | |
read_affymetrix | 0.001 | 0.001 | 0.001 | |
read_diann_proteingroups | 233.012 | 4.540 | 275.502 | |
read_fragpipe | 15.302 | 0.317 | 16.925 | |
read_maxquant_phosphosites | 3.253 | 0.046 | 3.653 | |
read_maxquant_proteingroups | 2.753 | 0.031 | 2.998 | |
read_metabolon | 35.852 | 0.313 | 39.424 | |
read_msigdt | 0.002 | 0.001 | 0.003 | |
read_olink | 2.576 | 0.083 | 5.308 | |
read_rectangles | 0.369 | 0.035 | 0.479 | |
read_rnaseq_counts | 68.350 | 3.088 | 76.203 | |
read_salmon | 0.000 | 0.001 | 0.001 | |
read_somascan | 32.387 | 0.201 | 33.716 | |
read_uniprotdt | 0.610 | 0.047 | 0.672 | |
reset_fit | 11.983 | 0.123 | 12.651 | |
rm_diann_contaminants | 46.990 | 0.542 | 49.104 | |
rm_missing_in_some_samples | 1.096 | 0.071 | 1.193 | |
rm_unmatched_samples | 1.469 | 0.026 | 1.534 | |
scaledlibsizes | 0.682 | 0.005 | 0.691 | |
scoremat | 2.285 | 0.081 | 2.431 | |
slevels | 0.849 | 0.016 | 0.891 | |
snames | 0.969 | 0.011 | 1.119 | |
split_extract_fixed | 1.154 | 0.078 | 1.308 | |
split_samples | 2.835 | 0.075 | 2.966 | |
stri_any_regex | 0.001 | 0.001 | 0.003 | |
stri_detect_fixed_in_collapsed | 0.719 | 0.011 | 0.743 | |
subgroup_matrix | 1.398 | 0.208 | 1.672 | |
subtract_baseline | 10.015 | 0.112 | 10.168 | |
sumexp_to_longdt | 4.027 | 0.179 | 4.242 | |
sumexp_to_tsv | 1.089 | 0.013 | 1.116 | |
sumexplist_to_longdt | 3.288 | 0.029 | 3.480 | |
summarize_fit | 3.957 | 0.084 | 4.262 | |
svalues | 0.799 | 0.013 | 0.849 | |
svars | 0.824 | 0.011 | 0.839 | |
systematic_nas | 1.260 | 0.012 | 1.278 | |
tag_features | 2.298 | 0.060 | 2.367 | |
tag_hdlproteins | 1.188 | 0.060 | 1.254 | |
taxon2org | 0.002 | 0.000 | 0.002 | |
tpm | 0.686 | 0.006 | 0.695 | |
uncollapse | 0.056 | 0.003 | 0.060 | |
values | 0.824 | 0.009 | 0.835 | |
varlevels_dont_clash | 0.031 | 0.002 | 0.032 | |
venn_detects | 1.237 | 0.013 | 1.268 | |
weights | 0.714 | 0.005 | 0.826 | |
write_xl | 1.671 | 0.086 | 1.838 | |
zero_to_na | 0.003 | 0.003 | 0.006 | |