Back to Multiple platform build/check report for BioC 3.22:   simplified   long
ABCDEF[G]HIJKLMNOPQRSTUVWXYZ

This page was generated on 2025-10-18 12:04 -0400 (Sat, 18 Oct 2025).

HostnameOSArch (*)R versionInstalled pkgs
nebbiolo2Linux (Ubuntu 24.04.3 LTS)x86_644.5.1 Patched (2025-08-23 r88802) -- "Great Square Root" 4887
lconwaymacOS 12.7.6 Montereyx86_644.5.1 Patched (2025-09-10 r88807) -- "Great Square Root" 4677
kjohnson3macOS 13.7.7 Venturaarm644.5.1 Patched (2025-09-10 r88807) -- "Great Square Root" 4622
taishanLinux (openEuler 24.03 LTS)aarch644.5.0 (2025-04-11) -- "How About a Twenty-Six" 4632
Click on any hostname to see more info about the system (e.g. compilers)      (*) as reported by 'uname -p', except on Windows and Mac OS X

Package 918/2353HostnameOS / ArchINSTALLBUILDCHECKBUILD BIN
graper 1.25.2  (landing page)
Britta Velten
Snapshot Date: 2025-10-17 13:45 -0400 (Fri, 17 Oct 2025)
git_url: https://git.bioconductor.org/packages/graper
git_branch: devel
git_last_commit: 82b0592
git_last_commit_date: 2025-06-24 03:15:40 -0400 (Tue, 24 Jun 2025)
nebbiolo2Linux (Ubuntu 24.04.3 LTS) / x86_64  OK    OK    OK  UNNEEDED, same version is already published
lconwaymacOS 12.7.6 Monterey / x86_64  OK    OK    OK    OK  UNNEEDED, same version is already published
kjohnson3macOS 13.7.7 Ventura / arm64  OK    OK    OK    OK  UNNEEDED, same version is already published
taishanLinux (openEuler 24.03 LTS) / aarch64  OK    OK    OK  


CHECK results for graper on lconway

To the developers/maintainers of the graper package:
- Allow up to 24 hours (and sometimes 48 hours) for your latest push to git@git.bioconductor.org:packages/graper.git to reflect on this report. See Troubleshooting Build Report for more information.
- Use the following Renviron settings to reproduce errors and warnings.
- If 'R CMD check' started to fail recently on the Linux builder(s) over a missing dependency, add the missing dependency to 'Suggests:' in your DESCRIPTION file. See Renviron.bioc for more information.

raw results


Summary

Package: graper
Version: 1.25.2
Command: /Library/Frameworks/R.framework/Resources/bin/R CMD check --install=check:graper.install-out.txt --library=/Library/Frameworks/R.framework/Resources/library --no-vignettes --timings graper_1.25.2.tar.gz
StartedAt: 2025-10-17 22:42:34 -0400 (Fri, 17 Oct 2025)
EndedAt: 2025-10-17 22:43:55 -0400 (Fri, 17 Oct 2025)
EllapsedTime: 81.8 seconds
RetCode: 0
Status:   OK  
CheckDir: graper.Rcheck
Warnings: 0

Command output

##############################################################################
##############################################################################
###
### Running command:
###
###   /Library/Frameworks/R.framework/Resources/bin/R CMD check --install=check:graper.install-out.txt --library=/Library/Frameworks/R.framework/Resources/library --no-vignettes --timings graper_1.25.2.tar.gz
###
##############################################################################
##############################################################################


* using log directory ‘/Users/biocbuild/bbs-3.22-bioc/meat/graper.Rcheck’
* using R version 4.5.1 Patched (2025-09-10 r88807)
* using platform: x86_64-apple-darwin20
* R was compiled by
    Apple clang version 14.0.0 (clang-1400.0.29.202)
    GNU Fortran (GCC) 14.2.0
* running under: macOS Monterey 12.7.6
* using session charset: UTF-8
* using option ‘--no-vignettes’
* checking for file ‘graper/DESCRIPTION’ ... OK
* checking extension type ... Package
* this is package ‘graper’ version ‘1.25.2’
* package encoding: UTF-8
* checking package namespace information ... OK
* checking package dependencies ... OK
* checking if this is a source package ... OK
* checking if there is a namespace ... OK
* checking for hidden files and directories ... OK
* checking for portable file names ... OK
* checking for sufficient/correct file permissions ... OK
* checking whether package ‘graper’ can be installed ... OK
* used C++ compiler: ‘Apple clang version 14.0.0 (clang-1400.0.29.202)’
* used SDK: ‘MacOSX11.3.1.sdk’
* checking installed package size ... OK
* checking package directory ... OK
* checking ‘build’ directory ... OK
* checking DESCRIPTION meta-information ... OK
* checking top-level files ... OK
* checking for left-over files ... OK
* checking index information ... OK
* checking package subdirectories ... OK
* checking code files for non-ASCII characters ... OK
* checking R files for syntax errors ... OK
* checking whether the package can be loaded ... OK
* checking whether the package can be loaded with stated dependencies ... OK
* checking whether the package can be unloaded cleanly ... OK
* checking whether the namespace can be loaded with stated dependencies ... OK
* checking whether the namespace can be unloaded cleanly ... OK
* checking dependencies in R code ... OK
* checking S3 generic/method consistency ... OK
* checking replacement functions ... OK
* checking foreign function calls ... OK
* checking R code for possible problems ... OK
* checking Rd files ... NOTE
checkRd: (-1) predict.graper.Rd:19-21: Lost braces in \itemize; meant \describe ?
checkRd: (-1) predict.graper.Rd:22: Lost braces in \itemize; meant \describe ?
checkRd: (-1) predict.graper.Rd:23-24: Lost braces in \itemize; meant \describe ?
* checking Rd metadata ... OK
* checking Rd cross-references ... OK
* checking for missing documentation entries ... OK
* checking for code/documentation mismatches ... OK
* checking Rd \usage sections ... OK
* checking Rd contents ... OK
* checking for unstated dependencies in examples ... OK
* checking line endings in C/C++/Fortran sources/headers ... OK
* checking line endings in Makefiles ... OK
* checking compilation flags in Makevars ... OK
* checking for GNU extensions in Makefiles ... OK
* checking for portable use of $(BLAS_LIBS) and $(LAPACK_LIBS) ... OK
* checking use of PKG_*FLAGS in Makefiles ... OK
* checking compiled code ... NOTE
Note: information on .o files is not available
* checking files in ‘vignettes’ ... OK
* checking examples ... OK
* checking for unstated dependencies in ‘tests’ ... OK
* checking tests ...
  Running ‘testthat.R’
 OK
* checking for unstated dependencies in vignettes ... OK
* checking package vignettes ... OK
* checking running R code from vignettes ... SKIPPED
* checking re-building of vignette outputs ... SKIPPED
* checking PDF version of manual ... OK
* DONE

Status: 2 NOTEs
See
  ‘/Users/biocbuild/bbs-3.22-bioc/meat/graper.Rcheck/00check.log’
for details.


Installation output

graper.Rcheck/00install.out

##############################################################################
##############################################################################
###
### Running command:
###
###   /Library/Frameworks/R.framework/Resources/bin/R CMD INSTALL graper
###
##############################################################################
##############################################################################


* installing to library ‘/Library/Frameworks/R.framework/Versions/4.5-x86_64/Resources/library’
* installing *source* package ‘graper’ ...
** this is package ‘graper’ version ‘1.25.2’
** using staged installation
** libs
using C++ compiler: ‘Apple clang version 14.0.0 (clang-1400.0.29.202)’
using SDK: ‘MacOSX11.3.1.sdk’
clang++ -arch x86_64 -std=gnu++17 -I"/Library/Frameworks/R.framework/Resources/include" -DNDEBUG  -I'/Library/Frameworks/R.framework/Versions/4.5-x86_64/Resources/library/Rcpp/include' -I'/Library/Frameworks/R.framework/Versions/4.5-x86_64/Resources/library/RcppArmadillo/include' -I'/Library/Frameworks/R.framework/Versions/4.5-x86_64/Resources/library/BH/include' -I/opt/R/x86_64/include    -fPIC  -falign-functions=64 -Wall -g -O2   -c RcppExports.cpp -o RcppExports.o
clang++ -arch x86_64 -std=gnu++17 -I"/Library/Frameworks/R.framework/Resources/include" -DNDEBUG  -I'/Library/Frameworks/R.framework/Versions/4.5-x86_64/Resources/library/Rcpp/include' -I'/Library/Frameworks/R.framework/Versions/4.5-x86_64/Resources/library/RcppArmadillo/include' -I'/Library/Frameworks/R.framework/Versions/4.5-x86_64/Resources/library/BH/include' -I/opt/R/x86_64/include    -fPIC  -falign-functions=64 -Wall -g -O2   -c fit_graper.cpp -o fit_graper.o
clang++ -arch x86_64 -std=gnu++17 -dynamiclib -Wl,-headerpad_max_install_names -undefined dynamic_lookup -L/Library/Frameworks/R.framework/Resources/lib -L/opt/R/x86_64/lib -o graper.so RcppExports.o fit_graper.o -L/Library/Frameworks/R.framework/Resources/lib -lRlapack -L/Library/Frameworks/R.framework/Resources/lib -lRblas -L/opt/gfortran/lib/gcc/x86_64-apple-darwin20.0/14.2.0 -L/opt/gfortran/lib -lemutls_w -lheapt_w -lgfortran -lquadmath -F/Library/Frameworks/R.framework/.. -framework R
installing to /Library/Frameworks/R.framework/Versions/4.5-x86_64/Resources/library/00LOCK-graper/00new/graper/libs
** R
** byte-compile and prepare package for lazy loading
** help
*** installing help indices
** building package indices
** installing vignettes
** testing if installed package can be loaded from temporary location
** checking absolute paths in shared objects and dynamic libraries
** testing if installed package can be loaded from final location
** testing if installed package keeps a record of temporary installation path
* DONE (graper)

Tests output

graper.Rcheck/tests/testthat.Rout


R version 4.5.1 Patched (2025-09-10 r88807) -- "Great Square Root"
Copyright (C) 2025 The R Foundation for Statistical Computing
Platform: x86_64-apple-darwin20

R is free software and comes with ABSOLUTELY NO WARRANTY.
You are welcome to redistribute it under certain conditions.
Type 'license()' or 'licence()' for distribution details.

R is a collaborative project with many contributors.
Type 'contributors()' for more information and
'citation()' on how to cite R or R packages in publications.

Type 'demo()' for some demos, 'help()' for on-line help, or
'help.start()' for an HTML browser interface to help.
Type 'q()' to quit R.

> library(testthat)
> library(graper)
> 
> test_check("graper")
iteration 1
Updating parameters of variational distributions...
Calculating ELB..
ELB=-906.542
ELB improved by inf

iteration 2
Updating parameters of variational distributions...
Calculating ELB..
ELB=-581.291
ELB improved by 325.251

iteration 3
Updating parameters of variational distributions...
Calculating ELB..
ELB=-518.182
ELB improved by 63.1092

iteration 4
Updating parameters of variational distributions...
Calculating ELB..
ELB=-477.781
ELB improved by 40.4012

iteration 5
Updating parameters of variational distributions...
Calculating ELB..
ELB=-459.663
ELB improved by 18.1178

iteration 6
Updating parameters of variational distributions...
Calculating ELB..
ELB=-452.166
ELB improved by 7.49648

iteration 7
Updating parameters of variational distributions...
Calculating ELB..
ELB=-447.753
ELB improved by 4.41363

iteration 8
Updating parameters of variational distributions...
Calculating ELB..
ELB=-444.454
ELB improved by 3.29842

iteration 9
Updating parameters of variational distributions...
Calculating ELB..
ELB=-441.611
ELB improved by 2.84354

iteration 10
Updating parameters of variational distributions...
Calculating ELB..
ELB=-438.923
ELB improved by 2.68771

iteration 11
Updating parameters of variational distributions...
Calculating ELB..
ELB=-436.258
ELB improved by 2.66528

iteration 12
Updating parameters of variational distributions...
Calculating ELB..
ELB=-433.568
ELB improved by 2.6897

iteration 13
Updating parameters of variational distributions...
Calculating ELB..
ELB=-430.881
ELB improved by 2.68771

iteration 14
Updating parameters of variational distributions...
Calculating ELB..
ELB=-428.296
ELB improved by 2.5847

iteration 15
Updating parameters of variational distributions...
Calculating ELB..
ELB=-425.961
ELB improved by 2.33522

iteration 16
Updating parameters of variational distributions...
Calculating ELB..
ELB=-423.994
ELB improved by 1.96638

iteration 17
Updating parameters of variational distributions...
Calculating ELB..
ELB=-422.427
ELB improved by 1.56686

iteration 18
Updating parameters of variational distributions...
Calculating ELB..
ELB=-421.208
ELB improved by 1.21943

iteration 19
Updating parameters of variational distributions...
Calculating ELB..
ELB=-420.251
ELB improved by 0.957269

iteration 20
Updating parameters of variational distributions...
Calculating ELB..
ELB=-419.476
ELB improved by 0.774724

iteration 21
Updating parameters of variational distributions...
Calculating ELB..
ELB=-418.823
ELB improved by 0.652839

iteration 22
Updating parameters of variational distributions...
Calculating ELB..
ELB=-418.25
ELB improved by 0.572668

iteration 23
Updating parameters of variational distributions...
Calculating ELB..
ELB=-417.732
ELB improved by 0.518845

iteration 24
Updating parameters of variational distributions...
Calculating ELB..
ELB=-417.252
ELB improved by 0.479823

iteration 25
Updating parameters of variational distributions...
Calculating ELB..
ELB=-416.804
ELB improved by 0.447313

iteration 26
Updating parameters of variational distributions...
Calculating ELB..
ELB=-416.388
ELB improved by 0.415974

iteration 27
Updating parameters of variational distributions...
Calculating ELB..
ELB=-416.005
ELB improved by 0.383455

iteration 28
Updating parameters of variational distributions...
Calculating ELB..
ELB=-415.655
ELB improved by 0.350111

iteration 29
Updating parameters of variational distributions...
Calculating ELB..
ELB=-415.337
ELB improved by 0.317906

iteration 30
Updating parameters of variational distributions...
Calculating ELB..
ELB=-415.048
ELB improved by 0.28906

iteration 31
Updating parameters of variational distributions...
Calculating ELB..
ELB=-414.783
ELB improved by 0.26529

iteration 32
Updating parameters of variational distributions...
Calculating ELB..
ELB=-414.535
ELB improved by 0.247896

iteration 33
Updating parameters of variational distributions...
Calculating ELB..
ELB=-414.296
ELB improved by 0.238518

iteration 34
Updating parameters of variational distributions...
Calculating ELB..
ELB=-414.056
ELB improved by 0.240689

iteration 35
Updating parameters of variational distributions...
Calculating ELB..
ELB=-413.792
ELB improved by 0.263178

iteration 36
Updating parameters of variational distributions...
Calculating ELB..
ELB=-413.466
ELB improved by 0.326369

iteration 37
Updating parameters of variational distributions...
Calculating ELB..
ELB=-413.005
ELB improved by 0.46061

iteration 38
Updating parameters of variational distributions...
Calculating ELB..
ELB=-412.361
ELB improved by 0.644809

iteration 39
Updating parameters of variational distributions...
Calculating ELB..
ELB=-411.598
ELB improved by 0.762656

iteration 40
Updating parameters of variational distributions...
Calculating ELB..
ELB=-410.845
ELB improved by 0.753243

iteration 41
Updating parameters of variational distributions...
Calculating ELB..
ELB=-410.189
ELB improved by 0.656034

iteration 42
Updating parameters of variational distributions...
Calculating ELB..
ELB=-409.632
ELB improved by 0.556253

iteration 43
Updating parameters of variational distributions...
Calculating ELB..
ELB=-409.145
ELB improved by 0.487832

iteration 44
Updating parameters of variational distributions...
Calculating ELB..
ELB=-408.699
ELB improved by 0.445667

iteration 45
Updating parameters of variational distributions...
Calculating ELB..
ELB=-408.277
ELB improved by 0.421485

iteration 46
Updating parameters of variational distributions...
Calculating ELB..
ELB=-407.865
ELB improved by 0.412509

iteration 47
Updating parameters of variational distributions...
Calculating ELB..
ELB=-407.442
ELB improved by 0.423369

iteration 48
Updating parameters of variational distributions...
Calculating ELB..
ELB=-406.973
ELB improved by 0.468724

iteration 49
Updating parameters of variational distributions...
Calculating ELB..
ELB=-406.407
ELB improved by 0.565533

iteration 50
Updating parameters of variational distributions...
Calculating ELB..
ELB=-405.738
ELB improved by 0.669093

iteration 51
Updating parameters of variational distributions...
Calculating ELB..
ELB=-405.065
ELB improved by 0.673591

iteration 52
Updating parameters of variational distributions...
Calculating ELB..
ELB=-404.409
ELB improved by 0.655084

iteration 53
Updating parameters of variational distributions...
Calculating ELB..
ELB=-403.699
ELB improved by 0.710963

iteration 54
Updating parameters of variational distributions...
Calculating ELB..
ELB=-403.003
ELB improved by 0.695602

iteration 55
Updating parameters of variational distributions...
Calculating ELB..
ELB=-402.451
ELB improved by 0.55179

iteration 56
Updating parameters of variational distributions...
Calculating ELB..
ELB=-402.047
ELB improved by 0.40452

iteration 57
Updating parameters of variational distributions...
Calculating ELB..
ELB=-401.756
ELB improved by 0.290927

iteration 58
Updating parameters of variational distributions...
Calculating ELB..
ELB=-401.549
ELB improved by 0.206258

iteration 59
Updating parameters of variational distributions...
Calculating ELB..
ELB=-401.402
ELB improved by 0.147786

iteration 60
Updating parameters of variational distributions...
Calculating ELB..
ELB=-401.294
ELB improved by 0.108146

iteration 61
Updating parameters of variational distributions...
Calculating ELB..
ELB=-401.214
ELB improved by 0.0795595

iteration 62
Updating parameters of variational distributions...
Calculating ELB..
ELB=-401.156
ELB improved by 0.0582067

iteration 63
Updating parameters of variational distributions...
Calculating ELB..
ELB=-401.113
ELB improved by 0.0427068

iteration 64
Updating parameters of variational distributions...
Calculating ELB..
ELB=-401.081
ELB improved by 0.0319761

iteration 65
Updating parameters of variational distributions...
Calculating ELB..
ELB=-401.056
ELB improved by 0.0247626

iteration 66
Updating parameters of variational distributions...
Calculating ELB..
ELB=-401.036
ELB improved by 0.0199264

iteration 67
Updating parameters of variational distributions...
Calculating ELB..
ELB=-401.02
ELB improved by 0.0166229

iteration 68
Updating parameters of variational distributions...
Calculating ELB..
ELB=-401.005
ELB improved by 0.0142939

iteration 69
Updating parameters of variational distributions...
Calculating ELB..
ELB=-400.993
ELB improved by 0.0125891

iteration 70
Updating parameters of variational distributions...
Calculating ELB..
ELB=-400.982
ELB improved by 0.0112926

iteration 71
Updating parameters of variational distributions...
Calculating ELB..
ELB=-400.971
ELB improved by 0.0102711

iteration 72
Updating parameters of variational distributions...
Calculating ELB..
ELB=-400.962
ELB improved by 0.00944127

ELB converged
iteration 1
Updating parameters of variational distributions...
Calculating ELB..
ELB=-838.152
ELB improved by inf

iteration 2
Updating parameters of variational distributions...
Calculating ELB..
ELB=-561.547
ELB improved by 276.605

iteration 3
Updating parameters of variational distributions...
Calculating ELB..
ELB=-498.388
ELB improved by 63.1588

iteration 4
Updating parameters of variational distributions...
Calculating ELB..
ELB=-460.345
ELB improved by 38.0433

iteration 5
Updating parameters of variational distributions...
Calculating ELB..
ELB=-444.4
ELB improved by 15.9445

iteration 6
Updating parameters of variational distributions...
Calculating ELB..
ELB=-436.613
ELB improved by 7.78764

iteration 7
Updating parameters of variational distributions...
Calculating ELB..
ELB=-431.518
ELB improved by 5.09453

iteration 8
Updating parameters of variational distributions...
Calculating ELB..
ELB=-427.072
ELB improved by 4.44639

iteration 9
Updating parameters of variational distributions...
Calculating ELB..
ELB=-422.54
ELB improved by 4.53188

iteration 10
Updating parameters of variational distributions...
Calculating ELB..
ELB=-417.749
ELB improved by 4.79118

iteration 11
Updating parameters of variational distributions...
Calculating ELB..
ELB=-412.829
ELB improved by 4.91987

iteration 12
Updating parameters of variational distributions...
Calculating ELB..
ELB=-408.063
ELB improved by 4.76582

iteration 13
Updating parameters of variational distributions...
Calculating ELB..
ELB=-403.863
ELB improved by 4.19961

iteration 14
Updating parameters of variational distributions...
Calculating ELB..
ELB=-400.696
ELB improved by 3.16753

iteration 15
Updating parameters of variational distributions...
Calculating ELB..
ELB=-398.612
ELB improved by 2.08389

iteration 16
Updating parameters of variational distributions...
Calculating ELB..
ELB=-397.271
ELB improved by 1.34061

iteration 17
Updating parameters of variational distributions...
Calculating ELB..
ELB=-396.339
ELB improved by 0.931995

iteration 18
Updating parameters of variational distributions...
Calculating ELB..
ELB=-395.626
ELB improved by 0.713477

iteration 19
Updating parameters of variational distributions...
Calculating ELB..
ELB=-395.051
ELB improved by 0.575011

iteration 20
Updating parameters of variational distributions...
Calculating ELB..
ELB=-394.581
ELB improved by 0.470288

iteration 21
Updating parameters of variational distributions...
Calculating ELB..
ELB=-394.188
ELB improved by 0.393015

iteration 22
Updating parameters of variational distributions...
Calculating ELB..
ELB=-393.845
ELB improved by 0.342612

iteration 23
Updating parameters of variational distributions...
Calculating ELB..
ELB=-393.531
ELB improved by 0.314283

iteration 24
Updating parameters of variational distributions...
Calculating ELB..
ELB=-393.228
ELB improved by 0.303154

iteration 25
Updating parameters of variational distributions...
Calculating ELB..
ELB=-392.922
ELB improved by 0.306003

iteration 26
Updating parameters of variational distributions...
Calculating ELB..
ELB=-392.601
ELB improved by 0.320455

iteration 27
Updating parameters of variational distributions...
Calculating ELB..
ELB=-392.257
ELB improved by 0.344317

iteration 28
Updating parameters of variational distributions...
Calculating ELB..
ELB=-391.881
ELB improved by 0.375719

iteration 29
Updating parameters of variational distributions...
Calculating ELB..
ELB=-391.468
ELB improved by 0.413061

iteration 30
Updating parameters of variational distributions...
Calculating ELB..
ELB=-391.014
ELB improved by 0.454213

iteration 31
Updating parameters of variational distributions...
Calculating ELB..
ELB=-390.517
ELB improved by 0.49632

iteration 32
Updating parameters of variational distributions...
Calculating ELB..
ELB=-389.98
ELB improved by 0.537012

iteration 33
Updating parameters of variational distributions...
Calculating ELB..
ELB=-389.405
ELB improved by 0.575477

iteration 34
Updating parameters of variational distributions...
Calculating ELB..
ELB=-388.793
ELB improved by 0.612113

iteration 35
Updating parameters of variational distributions...
Calculating ELB..
ELB=-388.145
ELB improved by 0.647459

iteration 36
Updating parameters of variational distributions...
Calculating ELB..
ELB=-387.464
ELB improved by 0.681183

iteration 37
Updating parameters of variational distributions...
Calculating ELB..
ELB=-386.753
ELB improved by 0.711186

iteration 38
Updating parameters of variational distributions...
Calculating ELB..
ELB=-386.02
ELB improved by 0.733105

iteration 39
Updating parameters of variational distributions...
Calculating ELB..
ELB=-385.279
ELB improved by 0.740766

iteration 40
Updating parameters of variational distributions...
Calculating ELB..
ELB=-384.551
ELB improved by 0.727987

iteration 41
Updating parameters of variational distributions...
Calculating ELB..
ELB=-383.86
ELB improved by 0.691387

iteration 42
Updating parameters of variational distributions...
Calculating ELB..
ELB=-383.227
ELB improved by 0.632735

iteration 43
Updating parameters of variational distributions...
Calculating ELB..
ELB=-382.668
ELB improved by 0.559016

iteration 44
Updating parameters of variational distributions...
Calculating ELB..
ELB=-382.188
ELB improved by 0.479762

iteration 45
Updating parameters of variational distributions...
Calculating ELB..
ELB=-381.785
ELB improved by 0.403414

iteration 46
Updating parameters of variational distributions...
Calculating ELB..
ELB=-381.45
ELB improved by 0.335161

iteration 47
Updating parameters of variational distributions...
Calculating ELB..
ELB=-381.173
ELB improved by 0.277069

iteration 48
Updating parameters of variational distributions...
Calculating ELB..
ELB=-380.943
ELB improved by 0.229347

iteration 49
Updating parameters of variational distributions...
Calculating ELB..
ELB=-380.752
ELB improved by 0.191265

iteration 50
Updating parameters of variational distributions...
Calculating ELB..
ELB=-380.591
ELB improved by 0.161393

iteration 51
Updating parameters of variational distributions...
Calculating ELB..
ELB=-380.453
ELB improved by 0.137746

iteration 52
Updating parameters of variational distributions...
Calculating ELB..
ELB=-380.335
ELB improved by 0.118222

iteration 53
Updating parameters of variational distributions...
Calculating ELB..
ELB=-380.233
ELB improved by 0.101213

iteration 54
Updating parameters of variational distributions...
Calculating ELB..
ELB=-380.147
ELB improved by 0.0859296

iteration 55
Updating parameters of variational distributions...
Calculating ELB..
ELB=-380.075
ELB improved by 0.0722388

iteration 56
Updating parameters of variational distributions...
Calculating ELB..
ELB=-380.015
ELB improved by 0.0602589

iteration 57
Updating parameters of variational distributions...
Calculating ELB..
ELB=-379.965
ELB improved by 0.0500614

iteration 58
Updating parameters of variational distributions...
Calculating ELB..
ELB=-379.923
ELB improved by 0.0415763

iteration 59
Updating parameters of variational distributions...
Calculating ELB..
ELB=-379.889
ELB improved by 0.0346202

iteration 60
Updating parameters of variational distributions...
Calculating ELB..
ELB=-379.86
ELB improved by 0.0289574

iteration 61
Updating parameters of variational distributions...
Calculating ELB..
ELB=-379.835
ELB improved by 0.0243518

iteration 62
Updating parameters of variational distributions...
Calculating ELB..
ELB=-379.815
ELB improved by 0.0205951

iteration 63
Updating parameters of variational distributions...
Calculating ELB..
ELB=-379.797
ELB improved by 0.0175163

iteration 64
Updating parameters of variational distributions...
Calculating ELB..
ELB=-379.782
ELB improved by 0.0149798

iteration 65
Updating parameters of variational distributions...
Calculating ELB..
ELB=-379.769
ELB improved by 0.0128793

iteration 66
Updating parameters of variational distributions...
Calculating ELB..
ELB=-379.758
ELB improved by 0.0111316

iteration 67
Updating parameters of variational distributions...
Calculating ELB..
ELB=-379.749
ELB improved by 0.00967109

ELB converged
iteration 1
Updating parameters of variational distributions...
Calculating ELB..
ELB=-867.911
ELB improved by inf

iteration 2
Updating parameters of variational distributions...
Calculating ELB..
ELB=-569.136
ELB improved by 298.775

iteration 3
Updating parameters of variational distributions...
Calculating ELB..
ELB=-505.423
ELB improved by 63.7128

iteration 4
Updating parameters of variational distributions...
Calculating ELB..
ELB=-465.673
ELB improved by 39.7503

iteration 5
Updating parameters of variational distributions...
Calculating ELB..
ELB=-449.558
ELB improved by 16.1149

iteration 6
Updating parameters of variational distributions...
Calculating ELB..
ELB=-443.012
ELB improved by 6.54669

iteration 7
Updating parameters of variational distributions...
Calculating ELB..
ELB=-439.34
ELB improved by 3.67188

iteration 8
Updating parameters of variational distributions...
Calculating ELB..
ELB=-436.704
ELB improved by 2.63538

iteration 9
Updating parameters of variational distributions...
Calculating ELB..
ELB=-434.494
ELB improved by 2.21045

iteration 10
Updating parameters of variational distributions...
Calculating ELB..
ELB=-432.464
ELB improved by 2.0301

iteration 11
Updating parameters of variational distributions...
Calculating ELB..
ELB=-430.495
ELB improved by 1.96831

iteration 12
Updating parameters of variational distributions...
Calculating ELB..
ELB=-428.521
ELB improved by 1.97423

iteration 13
Updating parameters of variational distributions...
Calculating ELB..
ELB=-426.488
ELB improved by 2.03281

iteration 14
Updating parameters of variational distributions...
Calculating ELB..
ELB=-424.345
ELB improved by 2.14345

iteration 15
Updating parameters of variational distributions...
Calculating ELB..
ELB=-422.045
ELB improved by 2.3

iteration 16
Updating parameters of variational distributions...
Calculating ELB..
ELB=-419.581
ELB improved by 2.46417

iteration 17
Updating parameters of variational distributions...
Calculating ELB..
ELB=-417.037
ELB improved by 2.54362

iteration 18
Updating parameters of variational distributions...
Calculating ELB..
ELB=-414.618
ELB improved by 2.41872

iteration 19
Updating parameters of variational distributions...
Calculating ELB..
ELB=-412.574
ELB improved by 2.044

iteration 20
Updating parameters of variational distributions...
Calculating ELB..
ELB=-411.05
ELB improved by 1.52448

iteration 21
Updating parameters of variational distributions...
Calculating ELB..
ELB=-410.014
ELB improved by 1.0356

iteration 22
Updating parameters of variational distributions...
Calculating ELB..
ELB=-409.335
ELB improved by 0.679868

iteration 23
Updating parameters of variational distributions...
Calculating ELB..
ELB=-408.877
ELB improved by 0.45775

iteration 24
Updating parameters of variational distributions...
Calculating ELB..
ELB=-408.549
ELB improved by 0.327501

iteration 25
Updating parameters of variational distributions...
Calculating ELB..
ELB=-408.298
ELB improved by 0.250845

iteration 26
Updating parameters of variational distributions...
Calculating ELB..
ELB=-408.095
ELB improved by 0.203778

iteration 27
Updating parameters of variational distributions...
Calculating ELB..
ELB=-407.921
ELB improved by 0.173185

iteration 28
Updating parameters of variational distributions...
Calculating ELB..
ELB=-407.769
ELB improved by 0.152185

iteration 29
Updating parameters of variational distributions...
Calculating ELB..
ELB=-407.632
ELB improved by 0.137139

iteration 30
Updating parameters of variational distributions...
Calculating ELB..
ELB=-407.506
ELB improved by 0.126059

iteration 31
Updating parameters of variational distributions...
Calculating ELB..
ELB=-407.388
ELB improved by 0.11781

iteration 32
Updating parameters of variational distributions...
Calculating ELB..
ELB=-407.277
ELB improved by 0.11171

iteration 33
Updating parameters of variational distributions...
Calculating ELB..
ELB=-407.169
ELB improved by 0.10733

iteration 34
Updating parameters of variational distributions...
Calculating ELB..
ELB=-407.065
ELB improved by 0.104386

iteration 35
Updating parameters of variational distributions...
Calculating ELB..
ELB=-406.962
ELB improved by 0.102686

iteration 36
Updating parameters of variational distributions...
Calculating ELB..
ELB=-406.86
ELB improved by 0.102097

iteration 37
Updating parameters of variational distributions...
Calculating ELB..
ELB=-406.758
ELB improved by 0.102527

iteration 38
Updating parameters of variational distributions...
Calculating ELB..
ELB=-406.654
ELB improved by 0.103911

iteration 39
Updating parameters of variational distributions...
Calculating ELB..
ELB=-406.547
ELB improved by 0.106208

iteration 40
Updating parameters of variational distributions...
Calculating ELB..
ELB=-406.438
ELB improved by 0.109391

iteration 41
Updating parameters of variational distributions...
Calculating ELB..
ELB=-406.325
ELB improved by 0.113451

iteration 42
Updating parameters of variational distributions...
Calculating ELB..
ELB=-406.206
ELB improved by 0.118392

iteration 43
Updating parameters of variational distributions...
Calculating ELB..
ELB=-406.082
ELB improved by 0.124236

iteration 44
Updating parameters of variational distributions...
Calculating ELB..
ELB=-405.951
ELB improved by 0.131023

iteration 45
Updating parameters of variational distributions...
Calculating ELB..
ELB=-405.812
ELB improved by 0.138826

iteration 46
Updating parameters of variational distributions...
Calculating ELB..
ELB=-405.664
ELB improved by 0.147761

iteration 47
Updating parameters of variational distributions...
Calculating ELB..
ELB=-405.506
ELB improved by 0.158004

iteration 48
Updating parameters of variational distributions...
Calculating ELB..
ELB=-405.336
ELB improved by 0.169823

iteration 49
Updating parameters of variational distributions...
Calculating ELB..
ELB=-405.153
ELB improved by 0.183609

iteration 50
Updating parameters of variational distributions...
Calculating ELB..
ELB=-404.953
ELB improved by 0.199941

iteration 51
Updating parameters of variational distributions...
Calculating ELB..
ELB=-404.733
ELB improved by 0.21966

iteration 52
Updating parameters of variational distributions...
Calculating ELB..
ELB=-404.489
ELB improved by 0.244012

iteration 53
Updating parameters of variational distributions...
Calculating ELB..
ELB=-404.214
ELB improved by 0.274836

iteration 54
Updating parameters of variational distributions...
Calculating ELB..
ELB=-403.9
ELB improved by 0.314803

iteration 55
Updating parameters of variational distributions...
Calculating ELB..
ELB=-403.532
ELB improved by 0.367459

iteration 56
Updating parameters of variational distributions...
Calculating ELB..
ELB=-403.096
ELB improved by 0.436299

iteration 57
Updating parameters of variational distributions...
Calculating ELB..
ELB=-402.574
ELB improved by 0.521378

iteration 58
Updating parameters of variational distributions...
Calculating ELB..
ELB=-401.961
ELB improved by 0.613728

iteration 59
Updating parameters of variational distributions...
Calculating ELB..
ELB=-401.266
ELB improved by 0.694309

iteration 60
Updating parameters of variational distributions...
Calculating ELB..
ELB=-400.523
ELB improved by 0.743265

iteration 61
Updating parameters of variational distributions...
Calculating ELB..
ELB=-399.772
ELB improved by 0.750895

iteration 62
Updating parameters of variational distributions...
Calculating ELB..
ELB=-399.05
ELB improved by 0.722457

iteration 63
Updating parameters of variational distributions...
Calculating ELB..
ELB=-398.374
ELB improved by 0.676138

iteration 64
Updating parameters of variational distributions...
Calculating ELB..
ELB=-397.742
ELB improved by 0.631868

iteration 65
Updating parameters of variational distributions...
Calculating ELB..
ELB=-397.149
ELB improved by 0.593145

iteration 66
Updating parameters of variational distributions...
Calculating ELB..
ELB=-396.608
ELB improved by 0.540896

iteration 67
Updating parameters of variational distributions...
Calculating ELB..
ELB=-396.141
ELB improved by 0.466455

iteration 68
Updating parameters of variational distributions...
Calculating ELB..
ELB=-395.753
ELB improved by 0.388

iteration 69
Updating parameters of variational distributions...
Calculating ELB..
ELB=-395.435
ELB improved by 0.31794

iteration 70
Updating parameters of variational distributions...
Calculating ELB..
ELB=-395.177
ELB improved by 0.258746

iteration 71
Updating parameters of variational distributions...
Calculating ELB..
ELB=-394.963
ELB improved by 0.213587

iteration 72
Updating parameters of variational distributions...
Calculating ELB..
ELB=-394.781
ELB improved by 0.182123

iteration 73
Updating parameters of variational distributions...
Calculating ELB..
ELB=-394.622
ELB improved by 0.158534

iteration 74
Updating parameters of variational distributions...
Calculating ELB..
ELB=-394.486
ELB improved by 0.136166

iteration 75
Updating parameters of variational distributions...
Calculating ELB..
ELB=-394.374
ELB improved by 0.112654

iteration 76
Updating parameters of variational distributions...
Calculating ELB..
ELB=-394.283
ELB improved by 0.0904136

iteration 77
Updating parameters of variational distributions...
Calculating ELB..
ELB=-394.211
ELB improved by 0.072084

iteration 78
Updating parameters of variational distributions...
Calculating ELB..
ELB=-394.153
ELB improved by 0.057843

iteration 79
Updating parameters of variational distributions...
Calculating ELB..
ELB=-394.107
ELB improved by 0.0466512

iteration 80
Updating parameters of variational distributions...
Calculating ELB..
ELB=-394.069
ELB improved by 0.0376803

iteration 81
Updating parameters of variational distributions...
Calculating ELB..
ELB=-394.038
ELB improved by 0.0305025

iteration 82
Updating parameters of variational distributions...
Calculating ELB..
ELB=-394.014
ELB improved by 0.0248379

iteration 83
Updating parameters of variational distributions...
Calculating ELB..
ELB=-393.993
ELB improved by 0.0204148

iteration 84
Updating parameters of variational distributions...
Calculating ELB..
ELB=-393.976
ELB improved by 0.0169662

iteration 85
Updating parameters of variational distributions...
Calculating ELB..
ELB=-393.962
ELB improved by 0.0142617

iteration 86
Updating parameters of variational distributions...
Calculating ELB..
ELB=-393.95
ELB improved by 0.0121215

iteration 87
Updating parameters of variational distributions...
Calculating ELB..
ELB=-393.939
ELB improved by 0.0104128

iteration 88
Updating parameters of variational distributions...
Calculating ELB..
ELB=-393.93
ELB improved by 0.00903835

ELB converged
iteration 1
Updating parameters of variational distributions...
Calculating ELB..
ELB=-920.874
ELB improved by inf

iteration 2
Updating parameters of variational distributions...
Calculating ELB..
ELB=-564.725
ELB improved by 356.149

iteration 3
Updating parameters of variational distributions...
Calculating ELB..
ELB=-513.649
ELB improved by 51.0762

iteration 4
Updating parameters of variational distributions...
Calculating ELB..
ELB=-485.812
ELB improved by 27.8363

iteration 5
Updating parameters of variational distributions...
Calculating ELB..
ELB=-473.003
ELB improved by 12.8096

iteration 6
Updating parameters of variational distributions...
Calculating ELB..
ELB=-466.923
ELB improved by 6.08011

iteration 7
Updating parameters of variational distributions...
Calculating ELB..
ELB=-462.738
ELB improved by 4.18434

iteration 8
Updating parameters of variational distributions...
Calculating ELB..
ELB=-458.875
ELB improved by 3.86315

iteration 9
Updating parameters of variational distributions...
Calculating ELB..
ELB=-455.036
ELB improved by 3.83971

iteration 10
Updating parameters of variational distributions...
Calculating ELB..
ELB=-451.187
ELB improved by 3.84876

iteration 11
Updating parameters of variational distributions...
Calculating ELB..
ELB=-447.456
ELB improved by 3.73095

iteration 12
Updating parameters of variational distributions...
Calculating ELB..
ELB=-444.082
ELB improved by 3.37375

iteration 13
Updating parameters of variational distributions...
Calculating ELB..
ELB=-441.307
ELB improved by 2.77491

iteration 14
Updating parameters of variational distributions...
Calculating ELB..
ELB=-439.232
ELB improved by 2.0749

iteration 15
Updating parameters of variational distributions...
Calculating ELB..
ELB=-437.771
ELB improved by 1.46174

iteration 16
Updating parameters of variational distributions...
Calculating ELB..
ELB=-436.74
ELB improved by 1.03046

iteration 17
Updating parameters of variational distributions...
Calculating ELB..
ELB=-435.972
ELB improved by 0.767611

iteration 18
Updating parameters of variational distributions...
Calculating ELB..
ELB=-435.354
ELB improved by 0.618517

iteration 19
Updating parameters of variational distributions...
Calculating ELB..
ELB=-434.821
ELB improved by 0.533012

iteration 20
Updating parameters of variational distributions...
Calculating ELB..
ELB=-434.346
ELB improved by 0.475323

iteration 21
Updating parameters of variational distributions...
Calculating ELB..
ELB=-433.922
ELB improved by 0.42402

iteration 22
Updating parameters of variational distributions...
Calculating ELB..
ELB=-433.549
ELB improved by 0.372163

iteration 23
Updating parameters of variational distributions...
Calculating ELB..
ELB=-433.227
ELB improved by 0.322801

iteration 24
Updating parameters of variational distributions...
Calculating ELB..
ELB=-432.946
ELB improved by 0.280658

iteration 25
Updating parameters of variational distributions...
Calculating ELB..
ELB=-432.699
ELB improved by 0.247276

iteration 26
Updating parameters of variational distributions...
Calculating ELB..
ELB=-432.477
ELB improved by 0.221477

iteration 27
Updating parameters of variational distributions...
Calculating ELB..
ELB=-432.276
ELB improved by 0.201365

iteration 28
Updating parameters of variational distributions...
Calculating ELB..
ELB=-432.09
ELB improved by 0.185382

iteration 29
Updating parameters of variational distributions...
Calculating ELB..
ELB=-431.918
ELB improved by 0.172468

iteration 30
Updating parameters of variational distributions...
Calculating ELB..
ELB=-431.756
ELB improved by 0.161938

iteration 31
Updating parameters of variational distributions...
Calculating ELB..
ELB=-431.603
ELB improved by 0.153337

iteration 32
Updating parameters of variational distributions...
Calculating ELB..
ELB=-431.456
ELB improved by 0.146366

iteration 33
Updating parameters of variational distributions...
Calculating ELB..
ELB=-431.316
ELB improved by 0.14082

iteration 34
Updating parameters of variational distributions...
Calculating ELB..
ELB=-431.179
ELB improved by 0.136559

iteration 35
Updating parameters of variational distributions...
Calculating ELB..
ELB=-431.046
ELB improved by 0.133473

iteration 36
Updating parameters of variational distributions...
Calculating ELB..
ELB=-430.914
ELB improved by 0.131451

iteration 37
Updating parameters of variational distributions...
Calculating ELB..
ELB=-430.784
ELB improved by 0.130349

iteration 38
Updating parameters of variational distributions...
Calculating ELB..
ELB=-430.654
ELB improved by 0.129961

iteration 39
Updating parameters of variational distributions...
Calculating ELB..
ELB=-430.524
ELB improved by 0.130016

iteration 40
Updating parameters of variational distributions...
Calculating ELB..
ELB=-430.394
ELB improved by 0.130215

iteration 41
Updating parameters of variational distributions...
Calculating ELB..
ELB=-430.263
ELB improved by 0.130299

iteration 42
Updating parameters of variational distributions...
Calculating ELB..
ELB=-430.133
ELB improved by 0.130116

iteration 43
Updating parameters of variational distributions...
Calculating ELB..
ELB=-430.003
ELB improved by 0.129648

iteration 44
Updating parameters of variational distributions...
Calculating ELB..
ELB=-429.874
ELB improved by 0.128967

iteration 45
Updating parameters of variational distributions...
Calculating ELB..
ELB=-429.746
ELB improved by 0.128167

iteration 46
Updating parameters of variational distributions...
Calculating ELB..
ELB=-429.619
ELB improved by 0.127294

iteration 47
Updating parameters of variational distributions...
Calculating ELB..
ELB=-429.493
ELB improved by 0.126326

iteration 48
Updating parameters of variational distributions...
Calculating ELB..
ELB=-429.368
ELB improved by 0.125187

iteration 49
Updating parameters of variational distributions...
Calculating ELB..
ELB=-429.244
ELB improved by 0.123785

iteration 50
Updating parameters of variational distributions...
Calculating ELB..
ELB=-429.122
ELB improved by 0.122047

iteration 51
Updating parameters of variational distributions...
Calculating ELB..
ELB=-429.002
ELB improved by 0.119942

iteration 52
Updating parameters of variational distributions...
Calculating ELB..
ELB=-428.884
ELB improved by 0.117482

iteration 53
Updating parameters of variational distributions...
Calculating ELB..
ELB=-428.77
ELB improved by 0.114717

iteration 54
Updating parameters of variational distributions...
Calculating ELB..
ELB=-428.658
ELB improved by 0.111711

iteration 55
Updating parameters of variational distributions...
Calculating ELB..
ELB=-428.549
ELB improved by 0.108532

iteration 56
Updating parameters of variational distributions...
Calculating ELB..
ELB=-428.444
ELB improved by 0.10524

iteration 57
Updating parameters of variational distributions...
Calculating ELB..
ELB=-428.342
ELB improved by 0.101882

iteration 58
Updating parameters of variational distributions...
Calculating ELB..
ELB=-428.244
ELB improved by 0.0984887

iteration 59
Updating parameters of variational distributions...
Calculating ELB..
ELB=-428.149
ELB improved by 0.0950754

iteration 60
Updating parameters of variational distributions...
Calculating ELB..
ELB=-428.057
ELB improved by 0.0916441

iteration 61
Updating parameters of variational distributions...
Calculating ELB..
ELB=-427.969
ELB improved by 0.0881868

iteration 62
Updating parameters of variational distributions...
Calculating ELB..
ELB=-427.884
ELB improved by 0.0846904

iteration 63
Updating parameters of variational distributions...
Calculating ELB..
ELB=-427.803
ELB improved by 0.0811435

iteration 64
Updating parameters of variational distributions...
Calculating ELB..
ELB=-427.725
ELB improved by 0.0775419

iteration 65
Updating parameters of variational distributions...
Calculating ELB..
ELB=-427.652
ELB improved by 0.0738922

iteration 66
Updating parameters of variational distributions...
Calculating ELB..
ELB=-427.581
ELB improved by 0.0702126

iteration 67
Updating parameters of variational distributions...
Calculating ELB..
ELB=-427.515
ELB improved by 0.0665299

iteration 68
Updating parameters of variational distributions...
Calculating ELB..
ELB=-427.452
ELB improved by 0.0628751

iteration 69
Updating parameters of variational distributions...
Calculating ELB..
ELB=-427.393
ELB improved by 0.059278

iteration 70
Updating parameters of variational distributions...
Calculating ELB..
ELB=-427.337
ELB improved by 0.0557641

iteration 71
Updating parameters of variational distributions...
Calculating ELB..
ELB=-427.285
ELB improved by 0.0523529

iteration 72
Updating parameters of variational distributions...
Calculating ELB..
ELB=-427.235
ELB improved by 0.0490585

iteration 73
Updating parameters of variational distributions...
Calculating ELB..
ELB=-427.19
ELB improved by 0.0458904

iteration 74
Updating parameters of variational distributions...
Calculating ELB..
ELB=-427.147
ELB improved by 0.042855

iteration 75
Updating parameters of variational distributions...
Calculating ELB..
ELB=-427.107
ELB improved by 0.0399566

iteration 76
Updating parameters of variational distributions...
Calculating ELB..
ELB=-427.07
ELB improved by 0.0371983

iteration 77
Updating parameters of variational distributions...
Calculating ELB..
ELB=-427.035
ELB improved by 0.0345824

iteration 78
Updating parameters of variational distributions...
Calculating ELB..
ELB=-427.003
ELB improved by 0.0321105

iteration 79
Updating parameters of variational distributions...
Calculating ELB..
ELB=-426.973
ELB improved by 0.0297833

iteration 80
Updating parameters of variational distributions...
Calculating ELB..
ELB=-426.945
ELB improved by 0.0276009

iteration 81
Updating parameters of variational distributions...
Calculating ELB..
ELB=-426.92
ELB improved by 0.0255624

iteration 82
Updating parameters of variational distributions...
Calculating ELB..
ELB=-426.896
ELB improved by 0.0236658

iteration 83
Updating parameters of variational distributions...
Calculating ELB..
ELB=-426.874
ELB improved by 0.021908

iteration 84
Updating parameters of variational distributions...
Calculating ELB..
ELB=-426.854
ELB improved by 0.0202851

iteration 85
Updating parameters of variational distributions...
Calculating ELB..
ELB=-426.835
ELB improved by 0.0187919

iteration 86
Updating parameters of variational distributions...
Calculating ELB..
ELB=-426.818
ELB improved by 0.0174226

iteration 87
Updating parameters of variational distributions...
Calculating ELB..
ELB=-426.802
ELB improved by 0.0161706

iteration 88
Updating parameters of variational distributions...
Calculating ELB..
ELB=-426.787
ELB improved by 0.0150289

iteration 89
Updating parameters of variational distributions...
Calculating ELB..
ELB=-426.773
ELB improved by 0.01399

iteration 90
Updating parameters of variational distributions...
Calculating ELB..
ELB=-426.76
ELB improved by 0.0130465

iteration 91
Updating parameters of variational distributions...
Calculating ELB..
ELB=-426.747
ELB improved by 0.0121906

iteration 92
Updating parameters of variational distributions...
Calculating ELB..
ELB=-426.736
ELB improved by 0.011415

iteration 93
Updating parameters of variational distributions...
Calculating ELB..
ELB=-426.725
ELB improved by 0.0107123

iteration 94
Updating parameters of variational distributions...
Calculating ELB..
ELB=-426.715
ELB improved by 0.0100757

iteration 95
Updating parameters of variational distributions...
Calculating ELB..
ELB=-426.706
ELB improved by 0.00949843

ELB converged
[ FAIL 0 | WARN 0 | SKIP 0 | PASS 24 ]
> 
> proc.time()
   user  system elapsed 
  2.976   0.319   3.322 

Example timings

graper.Rcheck/graper-Ex.timings

nameusersystemelapsed
coef.graper0.0500.0170.068
getPIPs0.0440.0130.060
graper0.0760.0200.097
makeExampleData0.0090.0010.011
makeExampleDataWithUnequalGroups0.0130.0010.014
plotELBO0.3360.0230.367
plotGroupPenalties1.3780.0581.452
plotPosterior0.7990.0230.828
predict.graper1.9550.0892.069
print.graper0.0490.0150.065