Back to Multiple platform build/check report for BioC 3.22:   simplified   long
ABCDEFGHIJKLMNOPQR[S]TUVWXYZ

This page was generated on 2025-10-07 12:04 -0400 (Tue, 07 Oct 2025).

HostnameOSArch (*)R versionInstalled pkgs
nebbiolo2Linux (Ubuntu 24.04.3 LTS)x86_644.5.1 Patched (2025-08-23 r88802) -- "Great Square Root" 4853
lconwaymacOS 12.7.1 Montereyx86_644.5.1 Patched (2025-09-10 r88807) -- "Great Square Root" 4640
kjohnson3macOS 13.7.7 Venturaarm644.5.1 Patched (2025-09-10 r88807) -- "Great Square Root" 4585
taishanLinux (openEuler 24.03 LTS)aarch644.5.0 (2025-04-11) -- "How About a Twenty-Six" 4584
Click on any hostname to see more info about the system (e.g. compilers)      (*) as reported by 'uname -p', except on Windows and Mac OS X

Package 2075/2341HostnameOS / ArchINSTALLBUILDCHECKBUILD BIN
SpectriPy 0.99.12  (landing page)
Johannes Rainer
Snapshot Date: 2025-10-06 13:45 -0400 (Mon, 06 Oct 2025)
git_url: https://git.bioconductor.org/packages/SpectriPy
git_branch: devel
git_last_commit: 580f9c6
git_last_commit_date: 2025-09-09 02:53:25 -0400 (Tue, 09 Sep 2025)
nebbiolo2Linux (Ubuntu 24.04.3 LTS) / x86_64  OK    OK    OK  UNNEEDED, same version is already published
lconwaymacOS 12.7.1 Monterey / x86_64  OK    OK    WARNINGS    OK  UNNEEDED, same version is already published
kjohnson3macOS 13.7.7 Ventura / arm64  ERROR    ERROR  skippedskipped
taishanLinux (openEuler 24.03 LTS) / aarch64  OK    OK    WARNINGS  


CHECK results for SpectriPy on nebbiolo2

To the developers/maintainers of the SpectriPy package:
- Allow up to 24 hours (and sometimes 48 hours) for your latest push to git@git.bioconductor.org:packages/SpectriPy.git to reflect on this report. See Troubleshooting Build Report for more information.
- Use the following Renviron settings to reproduce errors and warnings.
- If 'R CMD check' started to fail recently on the Linux builder(s) over a missing dependency, add the missing dependency to 'Suggests:' in your DESCRIPTION file. See Renviron.bioc for more information.

raw results


Summary

Package: SpectriPy
Version: 0.99.12
Command: /home/biocbuild/bbs-3.22-bioc/R/bin/R CMD check --install=check:SpectriPy.install-out.txt --library=/home/biocbuild/bbs-3.22-bioc/R/site-library --timings SpectriPy_0.99.12.tar.gz
StartedAt: 2025-10-07 04:43:40 -0400 (Tue, 07 Oct 2025)
EndedAt: 2025-10-07 04:56:51 -0400 (Tue, 07 Oct 2025)
EllapsedTime: 791.8 seconds
RetCode: 0
Status:   OK  
CheckDir: SpectriPy.Rcheck
Warnings: 0

Command output

##############################################################################
##############################################################################
###
### Running command:
###
###   /home/biocbuild/bbs-3.22-bioc/R/bin/R CMD check --install=check:SpectriPy.install-out.txt --library=/home/biocbuild/bbs-3.22-bioc/R/site-library --timings SpectriPy_0.99.12.tar.gz
###
##############################################################################
##############################################################################


* using log directory ‘/home/biocbuild/bbs-3.22-bioc/meat/SpectriPy.Rcheck’
* using R version 4.5.1 Patched (2025-08-23 r88802)
* using platform: x86_64-pc-linux-gnu
* R was compiled by
    gcc (Ubuntu 13.3.0-6ubuntu2~24.04) 13.3.0
    GNU Fortran (Ubuntu 13.3.0-6ubuntu2~24.04) 13.3.0
* running under: Ubuntu 24.04.3 LTS
* using session charset: UTF-8
* checking for file ‘SpectriPy/DESCRIPTION’ ... OK
* this is package ‘SpectriPy’ version ‘0.99.12’
* package encoding: UTF-8
* checking package namespace information ... OK
* checking package dependencies ... OK
* checking if this is a source package ... OK
* checking if there is a namespace ... OK
* checking for hidden files and directories ... OK
* checking for portable file names ... OK
* checking for sufficient/correct file permissions ... OK
* checking whether package ‘SpectriPy’ can be installed ... OK
* checking installed package size ... OK
* checking package directory ... OK
* checking ‘build’ directory ... OK
* checking DESCRIPTION meta-information ... OK
* checking top-level files ... OK
* checking for left-over files ... OK
* checking index information ... OK
* checking package subdirectories ... OK
* checking code files for non-ASCII characters ... OK
* checking R files for syntax errors ... OK
* checking whether the package can be loaded ... OK
* checking whether the package can be loaded with stated dependencies ... OK
* checking whether the package can be unloaded cleanly ... OK
* checking whether the namespace can be loaded with stated dependencies ... OK
* checking whether the namespace can be unloaded cleanly ... OK
* checking loading without being on the library search path ... OK
* checking whether startup messages can be suppressed ... OK
* checking dependencies in R code ... NOTE
Unexported object imported by a ':::' call: ‘Spectra:::.check_peaks_data_value’
  See the note in ?`:::` about the use of this operator.
* checking S3 generic/method consistency ... OK
* checking replacement functions ... OK
* checking foreign function calls ... OK
* checking R code for possible problems ... OK
* checking Rd files ... OK
* checking Rd metadata ... OK
* checking Rd cross-references ... OK
* checking for missing documentation entries ... OK
* checking for code/documentation mismatches ... OK
* checking Rd \usage sections ... OK
* checking Rd contents ... OK
* checking for unstated dependencies in examples ... OK
* checking files in ‘vignettes’ ... OK
* checking examples ... OK
Examples with CPU (user + system) or elapsed time > 5s
             user system elapsed
MsBackendPy 5.321  0.801   5.987
* checking for unstated dependencies in ‘tests’ ... OK
* checking tests ...
  Running ‘testthat.R’
 OK
* checking for unstated dependencies in vignettes ... OK
* checking package vignettes ... OK
* checking re-building of vignette outputs ... OK
* checking PDF version of manual ... OK
* DONE

Status: 1 NOTE
See
  ‘/home/biocbuild/bbs-3.22-bioc/meat/SpectriPy.Rcheck/00check.log’
for details.


Installation output

SpectriPy.Rcheck/00install.out

##############################################################################
##############################################################################
###
### Running command:
###
###   /home/biocbuild/bbs-3.22-bioc/R/bin/R CMD INSTALL SpectriPy
###
##############################################################################
##############################################################################


* installing to library ‘/home/biocbuild/bbs-3.22-bioc/R/site-library’
* installing *source* package ‘SpectriPy’ ...
** this is package ‘SpectriPy’ version ‘0.99.12’
** using staged installation
** R
** inst
** byte-compile and prepare package for lazy loading
** help
*** installing help indices
*** copying figures
** building package indices
** installing vignettes
** testing if installed package can be loaded from temporary location
Installed 42 packages in 85ms
** testing if installed package can be loaded from final location
** testing if installed package keeps a record of temporary installation path
* DONE (SpectriPy)

Tests output

SpectriPy.Rcheck/tests/testthat.Rout


R version 4.5.1 Patched (2025-08-23 r88802) -- "Great Square Root"
Copyright (C) 2025 The R Foundation for Statistical Computing
Platform: x86_64-pc-linux-gnu

R is free software and comes with ABSOLUTELY NO WARRANTY.
You are welcome to redistribute it under certain conditions.
Type 'license()' or 'licence()' for distribution details.

R is a collaborative project with many contributors.
Type 'contributors()' for more information and
'citation()' on how to cite R or R packages in publications.

Type 'demo()' for some demos, 'help()' for on-line help, or
'help.start()' for an HTML browser interface to help.
Type 'q()' to quit R.

> library(testthat)
> library(Spectra)
Loading required package: S4Vectors
Loading required package: stats4
Loading required package: BiocGenerics
Loading required package: generics

Attaching package: 'generics'

The following objects are masked from 'package:base':

    as.difftime, as.factor, as.ordered, intersect, is.element, setdiff,
    setequal, union


Attaching package: 'BiocGenerics'

The following objects are masked from 'package:stats':

    IQR, mad, sd, var, xtabs

The following objects are masked from 'package:base':

    Filter, Find, Map, Position, Reduce, anyDuplicated, aperm, append,
    as.data.frame, basename, cbind, colnames, dirname, do.call,
    duplicated, eval, evalq, get, grep, grepl, is.unsorted, lapply,
    mapply, match, mget, order, paste, pmax, pmax.int, pmin, pmin.int,
    rank, rbind, rownames, sapply, saveRDS, table, tapply, unique,
    unsplit, which.max, which.min


Attaching package: 'S4Vectors'

The following object is masked from 'package:utils':

    findMatches

The following objects are masked from 'package:base':

    I, expand.grid, unname

Loading required package: BiocParallel
> library(SpectriPy)
Loading required package: reticulate
> library(MsBackendMgf)
> 
> fl <- system.file("extdata", "mgf", "test.mgf", package = "SpectriPy")
> s <- Spectra(fl, source = MsBackendMgf())
Start data import from 1 files ... done
> s <- setBackend(s, MsBackendPy(), pythonVariableName = "py_be")
> 
> be <- s@backend
> 
> test_check("SpectriPy")
2025-10-07 04:48:09,929:WARNING:matchms:add_precursor_mz:No precursor_mz found in metadata.
2025-10-07 04:48:09,931:WARNING:matchms:add_precursor_mz:No precursor_mz found in metadata.
2025-10-07 04:48:09,932:WARNING:matchms:add_precursor_mz:No precursor_mz found in metadata.
2025-10-07 04:48:09,932:WARNING:matchms:add_precursor_mz:No precursor_mz found in metadata.
2025-10-07 04:48:09,933:WARNING:matchms:add_precursor_mz:No precursor_mz found in metadata.
2025-10-07 04:48:09,934:WARNING:matchms:add_precursor_mz:No precursor_mz found in metadata.
2025-10-07 04:48:09,935:WARNING:matchms:add_precursor_mz:No precursor_mz found in metadata.
2025-10-07 04:48:09,935:WARNING:matchms:add_precursor_mz:No precursor_mz found in metadata.
2025-10-07 04:48:09,936:WARNING:matchms:add_precursor_mz:No precursor_mz found in metadata.
2025-10-07 04:48:09,937:WARNING:matchms:add_precursor_mz:No precursor_mz found in metadata.
2025-10-07 04:48:09,937:WARNING:matchms:add_precursor_mz:No precursor_mz found in metadata.
2025-10-07 04:48:09,938:WARNING:matchms:add_precursor_mz:No precursor_mz found in metadata.
2025-10-07 04:48:09,939:WARNING:matchms:add_precursor_mz:No precursor_mz found in metadata.
2025-10-07 04:48:09,939:WARNING:matchms:add_precursor_mz:No precursor_mz found in metadata.
2025-10-07 04:48:09,940:WARNING:matchms:add_precursor_mz:No precursor_mz found in metadata.
2025-10-07 04:48:09,941:WARNING:matchms:add_precursor_mz:No precursor_mz found in metadata.
2025-10-07 04:48:09,942:WARNING:matchms:add_precursor_mz:No precursor_mz found in metadata.
2025-10-07 04:48:09,942:WARNING:matchms:add_precursor_mz:No precursor_mz found in metadata.
2025-10-07 04:48:09,943:WARNING:matchms:add_precursor_mz:No precursor_mz found in metadata.
2025-10-07 04:48:09,944:WARNING:matchms:add_precursor_mz:No precursor_mz found in metadata.
2025-10-07 04:48:09,945:WARNING:matchms:add_precursor_mz:No precursor_mz found in metadata.
2025-10-07 04:48:09,945:WARNING:matchms:add_precursor_mz:No precursor_mz found in metadata.
2025-10-07 04:48:09,946:WARNING:matchms:add_precursor_mz:No precursor_mz found in metadata.
2025-10-07 04:48:09,947:WARNING:matchms:add_precursor_mz:No precursor_mz found in metadata.
2025-10-07 04:48:09,947:WARNING:matchms:add_precursor_mz:No precursor_mz found in metadata.
2025-10-07 04:48:09,948:WARNING:matchms:add_precursor_mz:No precursor_mz found in metadata.
2025-10-07 04:48:09,949:WARNING:matchms:add_precursor_mz:No precursor_mz found in metadata.
2025-10-07 04:48:09,949:WARNING:matchms:add_precursor_mz:No precursor_mz found in metadata.
2025-10-07 04:48:09,950:WARNING:matchms:add_precursor_mz:No precursor_mz found in metadata.
2025-10-07 04:48:09,951:WARNING:matchms:add_precursor_mz:No precursor_mz found in metadata.
2025-10-07 04:48:09,951:WARNING:matchms:add_precursor_mz:No precursor_mz found in metadata.
2025-10-07 04:48:09,952:WARNING:matchms:add_precursor_mz:No precursor_mz found in metadata.
2025-10-07 04:48:09,953:WARNING:matchms:add_precursor_mz:No precursor_mz found in metadata.
2025-10-07 04:48:09,954:WARNING:matchms:add_precursor_mz:No precursor_mz found in metadata.
2025-10-07 04:48:09,954:WARNING:matchms:add_precursor_mz:No precursor_mz found in metadata.
2025-10-07 04:48:09,955:WARNING:matchms:add_precursor_mz:No precursor_mz found in metadata.
2025-10-07 04:48:09,956:WARNING:matchms:add_precursor_mz:No precursor_mz found in metadata.
2025-10-07 04:48:09,956:WARNING:matchms:add_precursor_mz:No precursor_mz found in metadata.
2025-10-07 04:48:09,957:WARNING:matchms:add_precursor_mz:No precursor_mz found in metadata.
2025-10-07 04:48:09,958:WARNING:matchms:add_precursor_mz:No precursor_mz found in metadata.
2025-10-07 04:48:09,958:WARNING:matchms:add_precursor_mz:No precursor_mz found in metadata.
2025-10-07 04:48:09,959:WARNING:matchms:add_precursor_mz:No precursor_mz found in metadata.
2025-10-07 04:48:09,960:WARNING:matchms:add_precursor_mz:No precursor_mz found in metadata.
2025-10-07 04:48:09,961:WARNING:matchms:add_precursor_mz:No precursor_mz found in metadata.
2025-10-07 04:48:09,964:WARNING:matchms:add_precursor_mz:No precursor_mz found in metadata.
2025-10-07 04:48:09,965:WARNING:matchms:add_precursor_mz:No precursor_mz found in metadata.
2025-10-07 04:48:09,966:WARNING:matchms:add_precursor_mz:No precursor_mz found in metadata.
2025-10-07 04:48:09,967:WARNING:matchms:add_precursor_mz:No precursor_mz found in metadata.
2025-10-07 04:48:09,967:WARNING:matchms:add_precursor_mz:No precursor_mz found in metadata.
2025-10-07 04:48:09,968:WARNING:matchms:add_precursor_mz:No precursor_mz found in metadata.
2025-10-07 04:48:09,969:WARNING:matchms:add_precursor_mz:No precursor_mz found in metadata.
2025-10-07 04:48:09,969:WARNING:matchms:add_precursor_mz:No precursor_mz found in metadata.
2025-10-07 04:48:09,970:WARNING:matchms:add_precursor_mz:No precursor_mz found in metadata.
2025-10-07 04:48:09,971:WARNING:matchms:add_precursor_mz:No precursor_mz found in metadata.
2025-10-07 04:48:09,971:WARNING:matchms:add_precursor_mz:No precursor_mz found in metadata.
2025-10-07 04:48:09,972:WARNING:matchms:add_precursor_mz:No precursor_mz found in metadata.
2025-10-07 04:48:09,973:WARNING:matchms:add_precursor_mz:No precursor_mz found in metadata.
2025-10-07 04:48:09,974:WARNING:matchms:add_precursor_mz:No precursor_mz found in metadata.
2025-10-07 04:48:09,974:WARNING:matchms:add_precursor_mz:No precursor_mz found in metadata.
2025-10-07 04:48:09,975:WARNING:matchms:add_precursor_mz:No precursor_mz found in metadata.
2025-10-07 04:48:09,976:WARNING:matchms:add_precursor_mz:No precursor_mz found in metadata.
2025-10-07 04:48:09,976:WARNING:matchms:add_precursor_mz:No precursor_mz found in metadata.
2025-10-07 04:48:09,977:WARNING:matchms:add_precursor_mz:No precursor_mz found in metadata.
2025-10-07 04:48:09,978:WARNING:matchms:add_precursor_mz:No precursor_mz found in metadata.
2025-10-07 04:48:09,979:WARNING:matchms:add_precursor_mz:No precursor_mz found in metadata.
2025-10-07 04:48:09,979:WARNING:matchms:add_precursor_mz:No precursor_mz found in metadata.
2025-10-07 04:48:09,980:WARNING:matchms:add_precursor_mz:No precursor_mz found in metadata.
2025-10-07 04:48:09,981:WARNING:matchms:add_precursor_mz:No precursor_mz found in metadata.
2025-10-07 04:48:09,981:WARNING:matchms:add_precursor_mz:No precursor_mz found in metadata.
2025-10-07 04:48:09,982:WARNING:matchms:add_precursor_mz:No precursor_mz found in metadata.
2025-10-07 04:48:09,983:WARNING:matchms:add_precursor_mz:No precursor_mz found in metadata.
2025-10-07 04:48:09,983:WARNING:matchms:add_precursor_mz:No precursor_mz found in metadata.
2025-10-07 04:48:09,984:WARNING:matchms:add_precursor_mz:No precursor_mz found in metadata.
2025-10-07 04:48:09,985:WARNING:matchms:add_precursor_mz:No precursor_mz found in metadata.
2025-10-07 04:48:09,985:WARNING:matchms:add_precursor_mz:No precursor_mz found in metadata.
2025-10-07 04:48:09,986:WARNING:matchms:add_precursor_mz:No precursor_mz found in metadata.
2025-10-07 04:48:09,987:WARNING:matchms:add_precursor_mz:No precursor_mz found in metadata.
2025-10-07 04:48:09,988:WARNING:matchms:add_precursor_mz:No precursor_mz found in metadata.
2025-10-07 04:48:09,988:WARNING:matchms:add_precursor_mz:No precursor_mz found in metadata.
2025-10-07 04:48:09,989:WARNING:matchms:add_precursor_mz:No precursor_mz found in metadata.
2025-10-07 04:48:09,990:WARNING:matchms:add_precursor_mz:No precursor_mz found in metadata.
2025-10-07 04:48:09,990:WARNING:matchms:add_precursor_mz:No precursor_mz found in metadata.
2025-10-07 04:48:09,991:WARNING:matchms:add_precursor_mz:No precursor_mz found in metadata.
2025-10-07 04:48:09,992:WARNING:matchms:add_precursor_mz:No precursor_mz found in metadata.
2025-10-07 04:48:09,993:WARNING:matchms:add_precursor_mz:No precursor_mz found in metadata.
2025-10-07 04:48:09,993:WARNING:matchms:add_precursor_mz:No precursor_mz found in metadata.
2025-10-07 04:48:09,994:WARNING:matchms:add_precursor_mz:No precursor_mz found in metadata.
2025-10-07 04:48:09,995:WARNING:matchms:add_precursor_mz:No precursor_mz found in metadata.
2025-10-07 04:48:09,995:WARNING:matchms:add_precursor_mz:No precursor_mz found in metadata.
2025-10-07 04:48:09,996:WARNING:matchms:add_precursor_mz:No precursor_mz found in metadata.
2025-10-07 04:48:09,997:WARNING:matchms:add_precursor_mz:No precursor_mz found in metadata.
2025-10-07 04:48:09,997:WARNING:matchms:add_precursor_mz:No precursor_mz found in metadata.
2025-10-07 04:48:09,998:WARNING:matchms:add_precursor_mz:No precursor_mz found in metadata.
2025-10-07 04:48:09,999:WARNING:matchms:add_precursor_mz:No precursor_mz found in metadata.
2025-10-07 04:48:10,000:WARNING:matchms:add_precursor_mz:No precursor_mz found in metadata.
2025-10-07 04:48:10,000:WARNING:matchms:add_precursor_mz:No precursor_mz found in metadata.
2025-10-07 04:48:10,001:WARNING:matchms:add_precursor_mz:No precursor_mz found in metadata.
2025-10-07 04:48:10,002:WARNING:matchms:add_precursor_mz:No precursor_mz found in metadata.
2025-10-07 04:48:10,002:WARNING:matchms:add_precursor_mz:No precursor_mz found in metadata.
2025-10-07 04:48:10,003:WARNING:matchms:add_precursor_mz:No precursor_mz found in metadata.

Calculating similarities:   0%|          | 0/4 [00:00<?, ?it/s]
Calculating similarities:  25%|██▌       | 1/4 [00:02<00:07,  2.41s/it]
Calculating similarities: 100%|██████████| 4/4 [00:02<00:00,  1.66it/s]

Calculating similarities:   0%|          | 0/4 [00:00<?, ?it/s]
Calculating similarities: 100%|██████████| 4/4 [00:00<00:00, 5009.62it/s]

Calculating similarities:   0%|          | 0/4 [00:00<?, ?it/s]
Calculating similarities: 100%|██████████| 4/4 [00:00<00:00, 3350.75it/s]

Calculating similarities:   0%|          | 0/4 [00:00<?, ?it/s]
Calculating similarities: 100%|██████████| 4/4 [00:00<00:00, 5192.58it/s]

Calculating similarities:   0%|          | 0/2 [00:00<?, ?it/s]
Calculating similarities: 100%|██████████| 2/2 [00:00<00:00, 6442.86it/s]

Calculating similarities:   0%|          | 0/2 [00:00<?, ?it/s]
Calculating similarities: 100%|██████████| 2/2 [00:00<00:00, 4471.54it/s]

Calculating similarities:   0%|          | 0/2 [00:00<?, ?it/s]
Calculating similarities: 100%|██████████| 2/2 [00:00<00:00, 6004.73it/s]

Calculating similarities:   0%|          | 0/2 [00:00<?, ?it/s]
Calculating similarities: 100%|██████████| 2/2 [00:00<00:00, 2593.08it/s]

Calculating similarities:   0%|          | 0/2 [00:00<?, ?it/s]
Calculating similarities: 100%|██████████| 2/2 [00:00<00:00, 3992.67it/s]

Calculating similarities:   0%|          | 0/2 [00:00<?, ?it/s]
Calculating similarities: 100%|██████████| 2/2 [00:00<00:00, 3612.66it/s]

Calculating similarities:   0%|          | 0/4 [00:00<?, ?it/s]
Calculating similarities:  50%|█████     | 2/4 [00:00<00:00, 2219.80it/s]

Calculating similarities:   0%|          | 0/2 [00:00<?, ?it/s]
Calculating similarities:  50%|█████     | 1/2 [00:00<00:00,  1.17it/s]
Calculating similarities: 100%|██████████| 2/2 [00:00<00:00,  2.33it/s]

Calculating similarities:   0%|          | 0/2 [00:00<?, ?it/s]
Calculating similarities:  50%|█████     | 1/2 [00:00<00:00,  1.42it/s]
Calculating similarities: 100%|██████████| 2/2 [00:00<00:00,  2.84it/s]
2025-10-07 04:48:21,271:WARNING:matchms:add_precursor_mz:No precursor_mz found in metadata.
2025-10-07 04:48:21,320:WARNING:matchms:add_precursor_mz:No precursor_mz found in metadata.
2025-10-07 04:48:21,321:WARNING:matchms:add_precursor_mz:No precursor_mz found in metadata.
2025-10-07 04:48:21,321:WARNING:matchms:add_precursor_mz:No precursor_mz found in metadata.
2025-10-07 04:48:21,398:WARNING:matchms:add_precursor_mz:No precursor_mz found in metadata.
2025-10-07 04:48:21,399:WARNING:matchms:add_precursor_mz:No precursor_mz found in metadata.
2025-10-07 04:48:21,400:WARNING:matchms:add_precursor_mz:No precursor_mz found in metadata.
2025-10-07 04:48:21,641:WARNING:matchms:add_precursor_mz:No precursor_mz found in metadata.
2025-10-07 04:48:21,642:WARNING:matchms:add_precursor_mz:No precursor_mz found in metadata.
2025-10-07 04:48:21,643:WARNING:matchms:add_precursor_mz:No precursor_mz found in metadata.
2025-10-07 04:48:21,676:WARNING:matchms:add_precursor_mz:No precursor_mz found in metadata.
2025-10-07 04:48:21,677:WARNING:matchms:add_precursor_mz:No precursor_mz found in metadata.
2025-10-07 04:48:21,678:WARNING:matchms:add_precursor_mz:No precursor_mz found in metadata.
2025-10-07 04:48:21,970:WARNING:matchms:add_precursor_mz:No precursor_mz found in metadata.
2025-10-07 04:48:21,971:WARNING:matchms:add_precursor_mz:No precursor_mz found in metadata.
2025-10-07 04:48:21,971:WARNING:matchms:add_precursor_mz:No precursor_mz found in metadata.
2025-10-07 04:48:21,987:WARNING:matchms:add_precursor_mz:No precursor_mz found in metadata.
2025-10-07 04:48:21,987:WARNING:matchms:add_precursor_mz:No precursor_mz found in metadata.
2025-10-07 04:48:21,988:WARNING:matchms:add_precursor_mz:No precursor_mz found in metadata.

Processing spectra:   0%|          | 0/4 [00:00<?, ?it/s]
Processing spectra: 100%|██████████| 4/4 [00:00<00:00, 3530.56it/s]

Processing spectra:   0%|          | 0/4 [00:00<?, ?it/s]
Processing spectra: 100%|██████████| 4/4 [00:00<00:00, 3819.08it/s]

Processing spectra:   0%|          | 0/4 [00:00<?, ?it/s]
Processing spectra: 100%|██████████| 4/4 [00:00<00:00, 3873.75it/s]

Processing spectra:   0%|          | 0/4 [00:00<?, ?it/s]
Processing spectra: 100%|██████████| 4/4 [00:00<00:00, 4136.39it/s]

Processing spectra:   0%|          | 0/4 [00:00<?, ?it/s]
Processing spectra: 100%|██████████| 4/4 [00:00<00:00, 4031.05it/s]
[ FAIL 0 | WARN 4 | SKIP 1 | PASS 592 ]

══ Skipped tests (1) ═══════════════════════════════════════════════════════════
• empty test (1): 'test_zzz.R:16:1'

[ FAIL 0 | WARN 4 | SKIP 1 | PASS 592 ]
> 
> ## TODO: add tests from the Spectra unit test suite!
> 
> ## ## Run the MsBackend spectra variable test suite
> ## test_suite <- system.file("test_backends", "test_MsBackend",
> ##                           package = "Spectra")
> 
> ## ## Run single test file.
> ## res <- test_dir(test_suite, stop_on_failure = TRUE)
> 
> proc.time()
   user  system elapsed 
 29.204   2.657  30.616 

Example timings

SpectriPy.Rcheck/SpectriPy-Ex.timings

nameusersystemelapsed
MsBackendPy5.3210.8015.987
compareSpectriPy2.3480.2142.584
conversion0.4060.3200.526
filterSpectriPy0.2130.0190.231