Back to Multiple platform build/check report for BioC 3.22:   simplified   long
ABCDEFGH[I]JKLMNOPQRSTUVWXYZ

This page was generated on 2025-10-13 12:07 -0400 (Mon, 13 Oct 2025).

HostnameOSArch (*)R versionInstalled pkgs
nebbiolo2Linux (Ubuntu 24.04.3 LTS)x86_644.5.1 Patched (2025-08-23 r88802) -- "Great Square Root" 4864
lconwaymacOS 12.7.1 Montereyx86_644.5.1 Patched (2025-09-10 r88807) -- "Great Square Root" 4652
kjohnson3macOS 13.7.7 Venturaarm644.5.1 Patched (2025-09-10 r88807) -- "Great Square Root" 4597
taishanLinux (openEuler 24.03 LTS)aarch644.5.0 (2025-04-11) -- "How About a Twenty-Six" 4586
Click on any hostname to see more info about the system (e.g. compilers)      (*) as reported by 'uname -p', except on Windows and Mac OS X

Package 1073/2346HostnameOS / ArchINSTALLBUILDCHECKBUILD BIN
ISAnalytics 1.19.3  (landing page)
Francesco Gazzo
Snapshot Date: 2025-10-12 13:45 -0400 (Sun, 12 Oct 2025)
git_url: https://git.bioconductor.org/packages/ISAnalytics
git_branch: devel
git_last_commit: 923672f
git_last_commit_date: 2025-07-21 09:31:21 -0400 (Mon, 21 Jul 2025)
nebbiolo2Linux (Ubuntu 24.04.3 LTS) / x86_64  OK    OK    OK  UNNEEDED, same version is already published
lconwaymacOS 12.7.1 Monterey / x86_64  OK    OK    OK    OK  UNNEEDED, same version is already published
kjohnson3macOS 13.7.7 Ventura / arm64  OK    OK    OK    OK  UNNEEDED, same version is already published
taishanLinux (openEuler 24.03 LTS) / aarch64  OK    OK    OK  


CHECK results for ISAnalytics on taishan

To the developers/maintainers of the ISAnalytics package:
- Allow up to 24 hours (and sometimes 48 hours) for your latest push to git@git.bioconductor.org:packages/ISAnalytics.git to reflect on this report. See Troubleshooting Build Report for more information.
- Use the following Renviron settings to reproduce errors and warnings.
- If 'R CMD check' started to fail recently on the Linux builder(s) over a missing dependency, add the missing dependency to 'Suggests:' in your DESCRIPTION file. See Renviron.bioc for more information.
- See Martin Grigorov's blog post for how to debug Linux ARM64 related issues on a x86_64 host.

raw results


Summary

Package: ISAnalytics
Version: 1.19.3
Command: /home/biocbuild/R/R/bin/R CMD check --install=check:ISAnalytics.install-out.txt --library=/home/biocbuild/R/R/site-library --no-vignettes --timings ISAnalytics_1.19.3.tar.gz
StartedAt: 2025-10-10 10:05:31 -0000 (Fri, 10 Oct 2025)
EndedAt: 2025-10-10 10:16:48 -0000 (Fri, 10 Oct 2025)
EllapsedTime: 677.5 seconds
RetCode: 0
Status:   OK  
CheckDir: ISAnalytics.Rcheck
Warnings: 0

Command output

##############################################################################
##############################################################################
###
### Running command:
###
###   /home/biocbuild/R/R/bin/R CMD check --install=check:ISAnalytics.install-out.txt --library=/home/biocbuild/R/R/site-library --no-vignettes --timings ISAnalytics_1.19.3.tar.gz
###
##############################################################################
##############################################################################


* using log directory ‘/home/biocbuild/bbs-3.22-bioc/meat/ISAnalytics.Rcheck’
* using R version 4.5.0 (2025-04-11)
* using platform: aarch64-unknown-linux-gnu
* R was compiled by
    aarch64-unknown-linux-gnu-gcc (GCC) 14.2.0
    GNU Fortran (GCC) 14.2.0
* running under: openEuler 24.03 (LTS)
* using session charset: UTF-8
* using option ‘--no-vignettes’
* checking for file ‘ISAnalytics/DESCRIPTION’ ... OK
* this is package ‘ISAnalytics’ version ‘1.19.3’
* package encoding: UTF-8
* checking package namespace information ... OK
* checking package dependencies ... INFO
Imports includes 22 non-default packages.
Importing from so many packages makes the package vulnerable to any of
them becoming unavailable.  Move as many as possible to Suggests and
use conditionally.
* checking if this is a source package ... OK
* checking if there is a namespace ... OK
* checking for hidden files and directories ... OK
* checking for portable file names ... OK
* checking for sufficient/correct file permissions ... OK
* checking whether package ‘ISAnalytics’ can be installed ... OK
* checking installed package size ... INFO
  installed size is  8.3Mb
  sub-directories of 1Mb or more:
    data   5.8Mb
* checking package directory ... OK
* checking ‘build’ directory ... OK
* checking DESCRIPTION meta-information ... OK
* checking top-level files ... OK
* checking for left-over files ... OK
* checking index information ... OK
* checking package subdirectories ... OK
* checking code files for non-ASCII characters ... OK
* checking R files for syntax errors ... OK
* checking whether the package can be loaded ... OK
* checking whether the package can be loaded with stated dependencies ... OK
* checking whether the package can be unloaded cleanly ... OK
* checking whether the namespace can be loaded with stated dependencies ... OK
* checking whether the namespace can be unloaded cleanly ... OK
* checking loading without being on the library search path ... OK
* checking whether startup messages can be suppressed ... OK
* checking dependencies in R code ... OK
* checking S3 generic/method consistency ... OK
* checking replacement functions ... OK
* checking foreign function calls ... OK
* checking R code for possible problems ... OK
* checking Rd files ... NOTE
checkRd: (-1) refGenes_hg19.Rd:21: Lost braces; missing escapes or markup?
    21 | \item Download from {http://hgdownload.soe.ucsc.edu/goldenPath/hg19/database/}
       |                     ^
* checking Rd metadata ... OK
* checking Rd cross-references ... OK
* checking for missing documentation entries ... OK
* checking for code/documentation mismatches ... OK
* checking Rd \usage sections ... OK
* checking Rd contents ... OK
* checking for unstated dependencies in examples ... OK
* checking contents of ‘data’ directory ... OK
* checking data for non-ASCII characters ... OK
* checking data for ASCII and uncompressed saves ... OK
* checking files in ‘vignettes’ ... OK
* checking examples ... OK
Examples with CPU (user + system) or elapsed time > 5s
                                user system elapsed
integration_alluvial_plot      5.588  0.624  12.403
sharing_venn                   5.358  0.392  45.950
import_parallel_Vispa2Matrices 3.308  0.238  20.623
sharing_heatmap                2.742  0.086  14.893
CIS_grubbs_overtime            2.049  0.285   9.587
top_cis_overtime_heatmap       2.108  0.196  10.892
import_Vispa2_stats            2.040  0.190   9.638
HSC_population_plot            1.775  0.205   8.579
is_sharing                     1.640  0.126  11.585
iss_source                     1.635  0.055  10.398
realign_after_collisions       1.400  0.036   8.861
remove_collisions              1.337  0.057   8.719
HSC_population_size_estimate   1.036  0.161   5.378
compute_near_integrations      1.026  0.064   7.777
* checking for unstated dependencies in ‘tests’ ... OK
* checking tests ...
  Running ‘testthat.R’
 OK
* checking for unstated dependencies in vignettes ... OK
* checking package vignettes ... OK
* checking running R code from vignettes ... SKIPPED
* checking re-building of vignette outputs ... SKIPPED
* checking PDF version of manual ... OK
* DONE

Status: 1 NOTE
See
  ‘/home/biocbuild/bbs-3.22-bioc/meat/ISAnalytics.Rcheck/00check.log’
for details.


Installation output

ISAnalytics.Rcheck/00install.out

##############################################################################
##############################################################################
###
### Running command:
###
###   /home/biocbuild/R/R/bin/R CMD INSTALL ISAnalytics
###
##############################################################################
##############################################################################


* installing to library ‘/home/biocbuild/R/R-4.5.0/site-library’
* installing *source* package ‘ISAnalytics’ ...
** this is package ‘ISAnalytics’ version ‘1.19.3’
** using staged installation
** R
** data
** inst
** byte-compile and prepare package for lazy loading
** help
*** installing help indices
*** copying figures
** building package indices
** installing vignettes
** testing if installed package can be loaded from temporary location
** testing if installed package can be loaded from final location
** testing if installed package keeps a record of temporary installation path
* DONE (ISAnalytics)

Tests output

ISAnalytics.Rcheck/tests/testthat.Rout


R version 4.5.0 (2025-04-11) -- "How About a Twenty-Six"
Copyright (C) 2025 The R Foundation for Statistical Computing
Platform: aarch64-unknown-linux-gnu

R is free software and comes with ABSOLUTELY NO WARRANTY.
You are welcome to redistribute it under certain conditions.
Type 'license()' or 'licence()' for distribution details.

R is a collaborative project with many contributors.
Type 'contributors()' for more information and
'citation()' on how to cite R or R packages in publications.

Type 'demo()' for some demos, 'help()' for on-line help, or
'help.start()' for an HTML browser interface to help.
Type 'q()' to quit R.

> library(testthat)
> library(ISAnalytics)
> 
> test_check("ISAnalytics")
Loading required namespace: plotly
Loading required namespace: rmarkdown
Report correctly saved
i Report saved to: /home/biocbuild/tmp/RtmppE5uMh/file15a57b6db18b76/2025-10-10_collision_removal_report.html
Report correctly saved
i Report saved to: /home/biocbuild/tmp/RtmppE5uMh/file15a57b793b720a/2025-10-10_outlier_test_pool_fragments_report.html
[ FAIL 0 | WARN 0 | SKIP 0 | PASS 834 ]
> 
> proc.time()
   user  system elapsed 
139.882   7.947 377.325 

Example timings

ISAnalytics.Rcheck/ISAnalytics-Ex.timings

nameusersystemelapsed
CIS_grubbs1.1570.0281.187
CIS_grubbs_overtime2.0490.2859.587
CIS_volcano_plot2.2180.2462.474
HSC_population_plot1.7750.2058.579
HSC_population_size_estimate1.0360.1615.378
NGSdataExplorer000
aggregate_metadata0.1430.0000.143
aggregate_values_by_key0.0880.0000.088
annotation_issues0.0350.0000.034
as_sparse_matrix0.0700.0000.071
available_outlier_tests000
available_tags0.0310.0000.030
blood_lineages_default0.0410.0000.041
circos_genomic_density000
clinical_relevant_suspicious_genes0.0170.0000.017
comparison_matrix0.040.000.04
compute_abundance0.0420.0030.046
compute_near_integrations1.0260.0647.777
cumulative_count_union000
cumulative_is0.2190.0080.228
date_formats000
default_af_transform0.0010.0000.001
default_iss_file_prefixes000
default_meta_agg0.0210.0160.036
default_rec_agg_lambdas0.0010.0000.001
default_report_path0.0070.0040.011
default_stats1.3480.0561.408
enable_progress_bars0.0190.0000.020
export_ISA_settings0.0910.0120.104
fisher_scatterplot1.5740.1751.755
gene_frequency_fisher1.2660.0361.305
generate_Vispa2_launch_AF0.2760.0110.286
generate_blank_association_file0.0130.0040.017
generate_default_folder_structure0.5180.1040.624
import_ISA_settings0.0920.0050.098
import_Vispa2_stats2.0400.1909.638
import_association_file0.7980.1090.913
import_parallel_Vispa2Matrices 3.308 0.23820.623
import_single_Vispa2Matrix1.0140.1341.151
inspect_tags0.0170.0040.021
integration_alluvial_plot 5.588 0.62412.403
is_sharing 1.640 0.12611.585
iss_source 1.635 0.05510.398
known_clinical_oncogenes0.0130.0000.014
mandatory_IS_vars0.1170.0040.122
matching_options000
outlier_filter0.1900.0040.194
outliers_by_pool_fragments0.2070.0160.223
pcr_id_column0.0240.0040.029
purity_filter0.4640.0360.502
quantification_types0.0010.0000.000
realign_after_collisions1.4000.0368.861
reduced_AF_columns0.0660.0000.066
refGene_table_cols0.0010.0000.001
remove_collisions1.3370.0578.719
reset_mandatory_IS_vars0.0060.0000.007
sample_statistics0.4560.0040.461
separate_quant_matrices0.0190.0000.019
set_mandatory_IS_vars0.1220.0000.122
set_matrix_file_suffixes0.0270.0000.027
sharing_heatmap 2.742 0.08614.893
sharing_venn 5.358 0.39245.950
threshold_filter000
top_abund_tableGrob0.9410.0160.960
top_cis_overtime_heatmap 2.108 0.19610.892
top_integrations0.0450.0000.045
top_targeted_genes0.7840.0270.814
transform_columns0.0360.0000.036