Back to Multiple platform build/check report for BioC 3.22: simplified long |
|
This page was generated on 2025-04-29 12:10 -0400 (Tue, 29 Apr 2025).
Hostname | OS | Arch (*) | R version | Installed pkgs |
---|---|---|---|---|
nebbiolo2 | Linux (Ubuntu 24.04.1 LTS) | x86_64 | 4.5.0 (2025-04-11) -- "How About a Twenty-Six" | 4722 |
palomino8 | Windows Server 2022 Datacenter | x64 | 4.5.0 (2025-04-11 ucrt) -- "How About a Twenty-Six" | 4496 |
lconway | macOS 12.7.1 Monterey | x86_64 | 4.5.0 Patched (2025-04-21 r88169) -- "How About a Twenty-Six" | 4523 |
kjohnson3 | macOS 13.7.1 Ventura | arm64 | 4.5.0 Patched (2025-04-21 r88169) -- "How About a Twenty-Six" | 4465 |
taishan | Linux (openEuler 24.03 LTS) | aarch64 | 4.5.0 (2025-04-11) -- "How About a Twenty-Six" | 4410 |
Click on any hostname to see more info about the system (e.g. compilers) (*) as reported by 'uname -p', except on Windows and Mac OS X |
Package 1052/2302 | Hostname | OS / Arch | INSTALL | BUILD | CHECK | BUILD BIN | ||||||||
ISAnalytics 1.19.0 (landing page) Francesco Gazzo
| nebbiolo2 | Linux (Ubuntu 24.04.1 LTS) / x86_64 | OK | OK | OK | ![]() | ||||||||
palomino8 | Windows Server 2022 Datacenter / x64 | OK | OK | OK | OK | ![]() | ||||||||
lconway | macOS 12.7.1 Monterey / x86_64 | OK | OK | OK | OK | ![]() | ||||||||
kjohnson3 | macOS 13.7.1 Ventura / arm64 | OK | OK | OK | OK | ![]() | ||||||||
taishan | Linux (openEuler 24.03 LTS) / aarch64 | OK | OK | OK | ||||||||||
To the developers/maintainers of the ISAnalytics package: - Allow up to 24 hours (and sometimes 48 hours) for your latest push to git@git.bioconductor.org:packages/ISAnalytics.git to reflect on this report. See Troubleshooting Build Report for more information. - Use the following Renviron settings to reproduce errors and warnings. - If 'R CMD check' started to fail recently on the Linux builder(s) over a missing dependency, add the missing dependency to 'Suggests:' in your DESCRIPTION file. See Renviron.bioc for more information. |
Package: ISAnalytics |
Version: 1.19.0 |
Command: /Library/Frameworks/R.framework/Resources/bin/R CMD check --install=check:ISAnalytics.install-out.txt --library=/Library/Frameworks/R.framework/Resources/library --no-vignettes --timings ISAnalytics_1.19.0.tar.gz |
StartedAt: 2025-04-28 20:23:58 -0400 (Mon, 28 Apr 2025) |
EndedAt: 2025-04-28 20:27:30 -0400 (Mon, 28 Apr 2025) |
EllapsedTime: 212.7 seconds |
RetCode: 0 |
Status: OK |
CheckDir: ISAnalytics.Rcheck |
Warnings: 0 |
############################################################################## ############################################################################## ### ### Running command: ### ### /Library/Frameworks/R.framework/Resources/bin/R CMD check --install=check:ISAnalytics.install-out.txt --library=/Library/Frameworks/R.framework/Resources/library --no-vignettes --timings ISAnalytics_1.19.0.tar.gz ### ############################################################################## ############################################################################## * using log directory ‘/Users/biocbuild/bbs-3.22-bioc/meat/ISAnalytics.Rcheck’ * using R version 4.5.0 Patched (2025-04-21 r88169) * using platform: aarch64-apple-darwin20 * R was compiled by Apple clang version 16.0.0 (clang-1600.0.26.6) GNU Fortran (GCC) 14.2.0 * running under: macOS Ventura 13.7.1 * using session charset: UTF-8 * using option ‘--no-vignettes’ * checking for file ‘ISAnalytics/DESCRIPTION’ ... OK * this is package ‘ISAnalytics’ version ‘1.19.0’ * package encoding: UTF-8 * checking package namespace information ... OK * checking package dependencies ... OK * checking if this is a source package ... OK * checking if there is a namespace ... OK * checking for hidden files and directories ... OK * checking for portable file names ... OK * checking for sufficient/correct file permissions ... OK * checking whether package ‘ISAnalytics’ can be installed ... OK * checking installed package size ... OK * checking package directory ... OK * checking ‘build’ directory ... OK * checking DESCRIPTION meta-information ... OK * checking top-level files ... OK * checking for left-over files ... OK * checking index information ... OK * checking package subdirectories ... OK * checking code files for non-ASCII characters ... OK * checking R files for syntax errors ... OK * checking whether the package can be loaded ... OK * checking whether the package can be loaded with stated dependencies ... OK * checking whether the package can be unloaded cleanly ... OK * checking whether the namespace can be loaded with stated dependencies ... OK * checking whether the namespace can be unloaded cleanly ... OK * checking whether startup messages can be suppressed ... OK * checking dependencies in R code ... OK * checking S3 generic/method consistency ... OK * checking replacement functions ... OK * checking foreign function calls ... OK * checking R code for possible problems ... OK * checking Rd files ... NOTE checkRd: (-1) refGenes_hg19.Rd:21: Lost braces; missing escapes or markup? 21 | \item Download from {http://hgdownload.soe.ucsc.edu/goldenPath/hg19/database/} | ^ * checking Rd metadata ... OK * checking Rd cross-references ... OK * checking for missing documentation entries ... OK * checking for code/documentation mismatches ... OK * checking Rd \usage sections ... OK * checking Rd contents ... OK * checking for unstated dependencies in examples ... OK * checking contents of ‘data’ directory ... OK * checking data for non-ASCII characters ... OK * checking data for ASCII and uncompressed saves ... OK * checking files in ‘vignettes’ ... OK * checking examples ... OK Examples with CPU (user + system) or elapsed time > 5s user system elapsed import_parallel_Vispa2Matrices 0.779 0.101 6.838 sharing_venn 0.593 0.035 10.668 * checking for unstated dependencies in ‘tests’ ... OK * checking tests ... Running ‘testthat.R’ OK * checking for unstated dependencies in vignettes ... OK * checking package vignettes ... OK * checking running R code from vignettes ... SKIPPED * checking re-building of vignette outputs ... SKIPPED * checking PDF version of manual ... OK * DONE Status: 1 NOTE See ‘/Users/biocbuild/bbs-3.22-bioc/meat/ISAnalytics.Rcheck/00check.log’ for details.
ISAnalytics.Rcheck/00install.out
############################################################################## ############################################################################## ### ### Running command: ### ### /Library/Frameworks/R.framework/Resources/bin/R CMD INSTALL ISAnalytics ### ############################################################################## ############################################################################## * installing to library ‘/Library/Frameworks/R.framework/Versions/4.5-arm64/Resources/library’ * installing *source* package ‘ISAnalytics’ ... ** this is package ‘ISAnalytics’ version ‘1.19.0’ ** using staged installation ** R ** data ** inst ** byte-compile and prepare package for lazy loading ** help *** installing help indices *** copying figures ** building package indices ** installing vignettes ** testing if installed package can be loaded from temporary location ** testing if installed package can be loaded from final location ** testing if installed package keeps a record of temporary installation path * DONE (ISAnalytics)
ISAnalytics.Rcheck/tests/testthat.Rout
R version 4.5.0 Patched (2025-04-21 r88169) -- "How About a Twenty-Six" Copyright (C) 2025 The R Foundation for Statistical Computing Platform: aarch64-apple-darwin20 R is free software and comes with ABSOLUTELY NO WARRANTY. You are welcome to redistribute it under certain conditions. Type 'license()' or 'licence()' for distribution details. R is a collaborative project with many contributors. Type 'contributors()' for more information and 'citation()' on how to cite R or R packages in publications. Type 'demo()' for some demos, 'help()' for on-line help, or 'help.start()' for an HTML browser interface to help. Type 'q()' to quit R. > library(testthat) > library(ISAnalytics) > > test_check("ISAnalytics") Loading required namespace: plotly Loading required namespace: rmarkdown 2025-04-28 20:25:50.350 R[32036:1048213432] XType: Using static font registry. Report correctly saved i Report saved to: /var/folders/r0/l4fjk6cj5xj0j3brt4bplpl40000gt/T/Rtmpi7UL78/file7d2450048c6f/2025-04-28_collision_removal_report.html Report correctly saved i Report saved to: /var/folders/r0/l4fjk6cj5xj0j3brt4bplpl40000gt/T/Rtmpi7UL78/file7d24717cfc6b/2025-04-28_outlier_test_pool_fragments_report.html [ FAIL 0 | WARN 0 | SKIP 0 | PASS 834 ] > > proc.time() user system elapsed 31.910 2.371 122.234
ISAnalytics.Rcheck/ISAnalytics-Ex.timings
name | user | system | elapsed | |
CIS_grubbs | 0.364 | 0.013 | 0.376 | |
CIS_grubbs_overtime | 0.639 | 0.092 | 2.725 | |
CIS_volcano_plot | 0.433 | 0.007 | 0.440 | |
HSC_population_plot | 0.341 | 0.014 | 2.196 | |
HSC_population_size_estimate | 0.258 | 0.014 | 2.123 | |
NGSdataExplorer | 0 | 0 | 0 | |
aggregate_metadata | 0.034 | 0.001 | 0.034 | |
aggregate_values_by_key | 0.021 | 0.001 | 0.022 | |
annotation_issues | 0.009 | 0.000 | 0.010 | |
as_sparse_matrix | 0.015 | 0.001 | 0.016 | |
available_outlier_tests | 0 | 0 | 0 | |
available_tags | 0.009 | 0.000 | 0.009 | |
blood_lineages_default | 0.006 | 0.000 | 0.006 | |
circos_genomic_density | 0 | 0 | 0 | |
clinical_relevant_suspicious_genes | 0.003 | 0.000 | 0.004 | |
comparison_matrix | 0.008 | 0.000 | 0.008 | |
compute_abundance | 0.012 | 0.001 | 0.013 | |
compute_near_integrations | 0.419 | 0.030 | 3.673 | |
cumulative_count_union | 0 | 0 | 0 | |
cumulative_is | 0.052 | 0.001 | 0.052 | |
date_formats | 0.000 | 0.000 | 0.001 | |
default_af_transform | 0 | 0 | 0 | |
default_iss_file_prefixes | 0 | 0 | 0 | |
default_meta_agg | 0.004 | 0.000 | 0.004 | |
default_rec_agg_lambdas | 0.000 | 0.000 | 0.001 | |
default_report_path | 0.002 | 0.001 | 0.003 | |
default_stats | 0.408 | 0.015 | 0.426 | |
enable_progress_bars | 0.006 | 0.001 | 0.007 | |
export_ISA_settings | 0.022 | 0.002 | 0.023 | |
fisher_scatterplot | 0.360 | 0.006 | 0.367 | |
gene_frequency_fisher | 0.297 | 0.004 | 0.303 | |
generate_Vispa2_launch_AF | 0.068 | 0.008 | 0.076 | |
generate_blank_association_file | 0.005 | 0.001 | 0.005 | |
generate_default_folder_structure | 0.130 | 0.064 | 0.151 | |
import_ISA_settings | 0.018 | 0.000 | 0.019 | |
import_Vispa2_stats | 0.504 | 0.089 | 3.141 | |
import_association_file | 0.195 | 0.075 | 0.219 | |
import_parallel_Vispa2Matrices | 0.779 | 0.101 | 6.838 | |
import_single_Vispa2Matrix | 0.322 | 0.076 | 0.350 | |
inspect_tags | 0.004 | 0.000 | 0.004 | |
integration_alluvial_plot | 1.084 | 0.032 | 3.894 | |
is_sharing | 0.322 | 0.019 | 3.403 | |
iss_source | 0.404 | 0.019 | 3.339 | |
known_clinical_oncogenes | 0.004 | 0.001 | 0.004 | |
mandatory_IS_vars | 0.031 | 0.003 | 0.035 | |
matching_options | 0 | 0 | 0 | |
outlier_filter | 0.042 | 0.002 | 0.044 | |
outliers_by_pool_fragments | 0.045 | 0.001 | 0.045 | |
pcr_id_column | 0.006 | 0.000 | 0.006 | |
purity_filter | 0.097 | 0.001 | 0.098 | |
quantification_types | 0 | 0 | 0 | |
realign_after_collisions | 0.341 | 0.014 | 2.894 | |
reduced_AF_columns | 0.015 | 0.000 | 0.015 | |
refGene_table_cols | 0 | 0 | 0 | |
remove_collisions | 0.331 | 0.015 | 2.843 | |
reset_mandatory_IS_vars | 0.001 | 0.000 | 0.001 | |
sample_statistics | 0.100 | 0.014 | 0.114 | |
separate_quant_matrices | 0.006 | 0.000 | 0.006 | |
set_mandatory_IS_vars | 0.024 | 0.000 | 0.024 | |
set_matrix_file_suffixes | 0.006 | 0.000 | 0.005 | |
sharing_heatmap | 0.476 | 0.029 | 3.850 | |
sharing_venn | 0.593 | 0.035 | 10.668 | |
threshold_filter | 0 | 0 | 0 | |
top_abund_tableGrob | 0.202 | 0.002 | 0.204 | |
top_cis_overtime_heatmap | 0.604 | 0.054 | 3.541 | |
top_integrations | 0.009 | 0.000 | 0.009 | |
top_targeted_genes | 0.118 | 0.001 | 0.119 | |
transform_columns | 0.006 | 0.000 | 0.005 | |