| Back to Multiple platform build/check report for BioC 3.23: simplified long |
|
This page was generated on 2025-11-26 11:38 -0500 (Wed, 26 Nov 2025).
| Hostname | OS | Arch (*) | R version | Installed pkgs |
|---|---|---|---|---|
| nebbiolo1 | Linux (Ubuntu 24.04.3 LTS) | x86_64 | R Under development (unstable) (2025-10-20 r88955) -- "Unsuffered Consequences" | 4830 |
| lconway | macOS 12.7.6 Monterey | x86_64 | R Under development (unstable) (2025-10-21 r88958) -- "Unsuffered Consequences" | 4609 |
| kjohnson3 | macOS 13.7.7 Ventura | arm64 | R Under development (unstable) (2025-11-04 r88984) -- "Unsuffered Consequences" | 4569 |
| Click on any hostname to see more info about the system (e.g. compilers) (*) as reported by 'uname -p', except on Windows and Mac OS X | ||||
| Package 1067/2328 | Hostname | OS / Arch | INSTALL | BUILD | CHECK | BUILD BIN | ||||||||
| ISAnalytics 1.21.0 (landing page) Francesco Gazzo
| nebbiolo1 | Linux (Ubuntu 24.04.3 LTS) / x86_64 | OK | OK | OK | |||||||||
| lconway | macOS 12.7.6 Monterey / x86_64 | OK | OK | OK | OK | |||||||||
| kjohnson3 | macOS 13.7.7 Ventura / arm64 | OK | OK | OK | OK | |||||||||
|
To the developers/maintainers of the ISAnalytics package: - Allow up to 24 hours (and sometimes 48 hours) for your latest push to git@git.bioconductor.org:packages/ISAnalytics.git to reflect on this report. See Troubleshooting Build Report for more information. - Use the following Renviron settings to reproduce errors and warnings. - If 'R CMD check' started to fail recently on the Linux builder(s) over a missing dependency, add the missing dependency to 'Suggests:' in your DESCRIPTION file. See Renviron.bioc for more information. |
| Package: ISAnalytics |
| Version: 1.21.0 |
| Command: /Library/Frameworks/R.framework/Resources/bin/R CMD check --install=check:ISAnalytics.install-out.txt --library=/Library/Frameworks/R.framework/Resources/library --no-vignettes --timings ISAnalytics_1.21.0.tar.gz |
| StartedAt: 2025-11-25 22:05:50 -0500 (Tue, 25 Nov 2025) |
| EndedAt: 2025-11-25 22:17:23 -0500 (Tue, 25 Nov 2025) |
| EllapsedTime: 692.9 seconds |
| RetCode: 0 |
| Status: OK |
| CheckDir: ISAnalytics.Rcheck |
| Warnings: 0 |
##############################################################################
##############################################################################
###
### Running command:
###
### /Library/Frameworks/R.framework/Resources/bin/R CMD check --install=check:ISAnalytics.install-out.txt --library=/Library/Frameworks/R.framework/Resources/library --no-vignettes --timings ISAnalytics_1.21.0.tar.gz
###
##############################################################################
##############################################################################
* using log directory ‘/Users/biocbuild/bbs-3.23-bioc/meat/ISAnalytics.Rcheck’
* using R Under development (unstable) (2025-10-21 r88958)
* using platform: x86_64-apple-darwin20
* R was compiled by
Apple clang version 14.0.0 (clang-1400.0.29.202)
GNU Fortran (GCC) 14.2.0
* running under: macOS Ventura 13.7.8
* using session charset: UTF-8
* using option ‘--no-vignettes’
* checking for file ‘ISAnalytics/DESCRIPTION’ ... OK
* this is package ‘ISAnalytics’ version ‘1.21.0’
* package encoding: UTF-8
* checking package namespace information ... OK
* checking package dependencies ... INFO
Imports includes 22 non-default packages.
Importing from so many packages makes the package vulnerable to any of
them becoming unavailable. Move as many as possible to Suggests and
use conditionally.
* checking if this is a source package ... OK
* checking if there is a namespace ... OK
* checking for hidden files and directories ... OK
* checking for portable file names ... OK
* checking for sufficient/correct file permissions ... OK
* checking whether package ‘ISAnalytics’ can be installed ... OK
* checking installed package size ... INFO
installed size is 8.3Mb
sub-directories of 1Mb or more:
data 5.8Mb
* checking package directory ... OK
* checking ‘build’ directory ... OK
* checking DESCRIPTION meta-information ... OK
* checking top-level files ... OK
* checking for left-over files ... OK
* checking index information ... OK
* checking package subdirectories ... OK
* checking code files for non-ASCII characters ... OK
* checking R files for syntax errors ... OK
* checking whether the package can be loaded ... OK
* checking whether the package can be loaded with stated dependencies ... OK
* checking whether the package can be unloaded cleanly ... OK
* checking whether the namespace can be loaded with stated dependencies ... OK
* checking whether the namespace can be unloaded cleanly ... OK
* checking whether startup messages can be suppressed ... OK
* checking dependencies in R code ... OK
* checking S3 generic/method consistency ... OK
* checking replacement functions ... OK
* checking foreign function calls ... OK
* checking R code for possible problems ... OK
* checking Rd files ... NOTE
checkRd: (-1) refGenes_hg19.Rd:21: Lost braces; missing escapes or markup?
21 | \item Download from {http://hgdownload.soe.ucsc.edu/goldenPath/hg19/database/}
| ^
* checking Rd metadata ... OK
* checking Rd cross-references ... OK
* checking for missing documentation entries ... OK
* checking for code/documentation mismatches ... OK
* checking Rd \usage sections ... OK
* checking Rd contents ... OK
* checking for unstated dependencies in examples ... OK
* checking contents of ‘data’ directory ... OK
* checking data for non-ASCII characters ... OK
* checking data for ASCII and uncompressed saves ... OK
* checking files in ‘vignettes’ ... OK
* checking examples ... OK
Examples with CPU (user + system) or elapsed time > 5s
user system elapsed
integration_alluvial_plot 3.925 0.151 12.620
import_parallel_Vispa2Matrices 3.031 0.166 20.062
sharing_venn 2.419 0.123 41.926
sharing_heatmap 2.099 0.058 12.954
CIS_grubbs_overtime 1.816 0.227 8.883
import_Vispa2_stats 1.836 0.138 9.559
top_cis_overtime_heatmap 1.860 0.083 11.367
iss_source 1.511 0.036 11.640
is_sharing 1.462 0.050 10.983
HSC_population_plot 1.367 0.037 7.776
realign_after_collisions 1.348 0.051 9.007
remove_collisions 1.222 0.029 8.693
compute_near_integrations 0.988 0.041 12.793
HSC_population_size_estimate 0.972 0.031 7.857
* checking for unstated dependencies in ‘tests’ ... OK
* checking tests ...
Running ‘testthat.R’
OK
* checking for unstated dependencies in vignettes ... OK
* checking package vignettes ... OK
* checking running R code from vignettes ... SKIPPED
* checking re-building of vignette outputs ... SKIPPED
* checking PDF version of manual ... OK
* DONE
Status: 1 NOTE
See
‘/Users/biocbuild/bbs-3.23-bioc/meat/ISAnalytics.Rcheck/00check.log’
for details.
ISAnalytics.Rcheck/00install.out
############################################################################## ############################################################################## ### ### Running command: ### ### /Library/Frameworks/R.framework/Resources/bin/R CMD INSTALL ISAnalytics ### ############################################################################## ############################################################################## * installing to library ‘/Library/Frameworks/R.framework/Versions/4.6-x86_64/Resources/library’ * installing *source* package ‘ISAnalytics’ ... ** this is package ‘ISAnalytics’ version ‘1.21.0’ ** using staged installation ** R ** data ** inst ** byte-compile and prepare package for lazy loading ** help *** installing help indices *** copying figures ** building package indices ** installing vignettes ** testing if installed package can be loaded from temporary location ** testing if installed package can be loaded from final location ** testing if installed package keeps a record of temporary installation path * DONE (ISAnalytics)
ISAnalytics.Rcheck/tests/testthat.Rout
R Under development (unstable) (2025-10-21 r88958) -- "Unsuffered Consequences"
Copyright (C) 2025 The R Foundation for Statistical Computing
Platform: x86_64-apple-darwin20
R is free software and comes with ABSOLUTELY NO WARRANTY.
You are welcome to redistribute it under certain conditions.
Type 'license()' or 'licence()' for distribution details.
R is a collaborative project with many contributors.
Type 'contributors()' for more information and
'citation()' on how to cite R or R packages in publications.
Type 'demo()' for some demos, 'help()' for on-line help, or
'help.start()' for an HTML browser interface to help.
Type 'q()' to quit R.
> library(testthat)
> library(ISAnalytics)
>
> test_check("ISAnalytics")
Loading required namespace: plotly
Loading required namespace: rmarkdown
2025-11-25 22:12:05.460 R[7860:8081176] XType: Using static font registry.
Report correctly saved
i Report saved to: /tmp/RtmpnlxiEf/file1eb42108f93b/2025-11-25_collision_removal_report.html
Report correctly saved
i Report saved to: /tmp/RtmpnlxiEf/file1eb440c3783f/2025-11-25_outlier_test_pool_fragments_report.html
[ FAIL 0 | WARN 0 | SKIP 0 | PASS 834 ]
>
> proc.time()
user system elapsed
111.527 5.773 391.591
ISAnalytics.Rcheck/ISAnalytics-Ex.timings
| name | user | system | elapsed | |
| CIS_grubbs | 0.856 | 0.043 | 0.904 | |
| CIS_grubbs_overtime | 1.816 | 0.227 | 8.883 | |
| CIS_volcano_plot | 1.545 | 0.042 | 1.598 | |
| HSC_population_plot | 1.367 | 0.037 | 7.776 | |
| HSC_population_size_estimate | 0.972 | 0.031 | 7.857 | |
| NGSdataExplorer | 0.000 | 0.000 | 0.001 | |
| aggregate_metadata | 0.121 | 0.002 | 0.124 | |
| aggregate_values_by_key | 0.078 | 0.003 | 0.083 | |
| annotation_issues | 0.031 | 0.002 | 0.034 | |
| as_sparse_matrix | 0.064 | 0.003 | 0.068 | |
| available_outlier_tests | 0.000 | 0.001 | 0.000 | |
| available_tags | 0.027 | 0.001 | 0.028 | |
| blood_lineages_default | 0.039 | 0.001 | 0.040 | |
| circos_genomic_density | 0.000 | 0.000 | 0.001 | |
| clinical_relevant_suspicious_genes | 0.017 | 0.000 | 0.017 | |
| comparison_matrix | 0.034 | 0.001 | 0.035 | |
| compute_abundance | 0.044 | 0.002 | 0.047 | |
| compute_near_integrations | 0.988 | 0.041 | 12.793 | |
| cumulative_count_union | 0 | 0 | 0 | |
| cumulative_is | 0.179 | 0.003 | 0.182 | |
| date_formats | 0.000 | 0.001 | 0.000 | |
| default_af_transform | 0.001 | 0.000 | 0.001 | |
| default_iss_file_prefixes | 0 | 0 | 0 | |
| default_meta_agg | 0.016 | 0.000 | 0.016 | |
| default_rec_agg_lambdas | 0.001 | 0.000 | 0.001 | |
| default_report_path | 0.009 | 0.002 | 0.009 | |
| default_stats | 1.191 | 0.040 | 1.236 | |
| enable_progress_bars | 0.017 | 0.003 | 0.020 | |
| export_ISA_settings | 0.082 | 0.005 | 0.089 | |
| fisher_scatterplot | 1.245 | 0.063 | 1.316 | |
| gene_frequency_fisher | 0.895 | 0.014 | 0.915 | |
| generate_Vispa2_launch_AF | 0.267 | 0.025 | 0.300 | |
| generate_blank_association_file | 0.012 | 0.000 | 0.013 | |
| generate_default_folder_structure | 0.435 | 0.085 | 0.466 | |
| import_ISA_settings | 0.075 | 0.006 | 0.081 | |
| import_Vispa2_stats | 1.836 | 0.138 | 9.559 | |
| import_association_file | 0.712 | 0.114 | 0.758 | |
| import_parallel_Vispa2Matrices | 3.031 | 0.166 | 20.062 | |
| import_single_Vispa2Matrix | 1.114 | 0.142 | 1.202 | |
| inspect_tags | 0.018 | 0.000 | 0.018 | |
| integration_alluvial_plot | 3.925 | 0.151 | 12.620 | |
| is_sharing | 1.462 | 0.050 | 10.983 | |
| iss_source | 1.511 | 0.036 | 11.640 | |
| known_clinical_oncogenes | 0.014 | 0.001 | 0.015 | |
| mandatory_IS_vars | 0.115 | 0.006 | 0.121 | |
| matching_options | 0.001 | 0.000 | 0.001 | |
| outlier_filter | 0.172 | 0.010 | 0.183 | |
| outliers_by_pool_fragments | 0.181 | 0.007 | 0.192 | |
| pcr_id_column | 0.025 | 0.002 | 0.028 | |
| purity_filter | 0.403 | 0.008 | 0.415 | |
| quantification_types | 0.000 | 0.000 | 0.001 | |
| realign_after_collisions | 1.348 | 0.051 | 9.007 | |
| reduced_AF_columns | 0.051 | 0.001 | 0.052 | |
| refGene_table_cols | 0.000 | 0.000 | 0.001 | |
| remove_collisions | 1.222 | 0.029 | 8.693 | |
| reset_mandatory_IS_vars | 0.005 | 0.001 | 0.004 | |
| sample_statistics | 0.328 | 0.038 | 0.368 | |
| separate_quant_matrices | 0.013 | 0.001 | 0.015 | |
| set_mandatory_IS_vars | 0.094 | 0.005 | 0.099 | |
| set_matrix_file_suffixes | 0.021 | 0.000 | 0.022 | |
| sharing_heatmap | 2.099 | 0.058 | 12.954 | |
| sharing_venn | 2.419 | 0.123 | 41.926 | |
| threshold_filter | 0.000 | 0.001 | 0.001 | |
| top_abund_tableGrob | 0.684 | 0.012 | 0.702 | |
| top_cis_overtime_heatmap | 1.860 | 0.083 | 11.367 | |
| top_integrations | 0.033 | 0.001 | 0.034 | |
| top_targeted_genes | 0.471 | 0.007 | 0.483 | |
| transform_columns | 0.023 | 0.000 | 0.024 | |