Back to Multiple platform build/check report for BioC 3.22:   simplified   long
ABCDEFGH[I]JKLMNOPQRSTUVWXYZ

This page was generated on 2025-10-13 12:03 -0400 (Mon, 13 Oct 2025).

HostnameOSArch (*)R versionInstalled pkgs
nebbiolo2Linux (Ubuntu 24.04.3 LTS)x86_644.5.1 Patched (2025-08-23 r88802) -- "Great Square Root" 4864
lconwaymacOS 12.7.1 Montereyx86_644.5.1 Patched (2025-09-10 r88807) -- "Great Square Root" 4652
kjohnson3macOS 13.7.7 Venturaarm644.5.1 Patched (2025-09-10 r88807) -- "Great Square Root" 4597
taishanLinux (openEuler 24.03 LTS)aarch644.5.0 (2025-04-11) -- "How About a Twenty-Six" 4586
Click on any hostname to see more info about the system (e.g. compilers)      (*) as reported by 'uname -p', except on Windows and Mac OS X

Package 1073/2346HostnameOS / ArchINSTALLBUILDCHECKBUILD BIN
ISAnalytics 1.19.3  (landing page)
Francesco Gazzo
Snapshot Date: 2025-10-12 13:45 -0400 (Sun, 12 Oct 2025)
git_url: https://git.bioconductor.org/packages/ISAnalytics
git_branch: devel
git_last_commit: 923672f
git_last_commit_date: 2025-07-21 09:31:21 -0400 (Mon, 21 Jul 2025)
nebbiolo2Linux (Ubuntu 24.04.3 LTS) / x86_64  OK    OK    OK  UNNEEDED, same version is already published
lconwaymacOS 12.7.1 Monterey / x86_64  OK    OK    OK    OK  UNNEEDED, same version is already published
kjohnson3macOS 13.7.7 Ventura / arm64  OK    OK    OK    OK  UNNEEDED, same version is already published
taishanLinux (openEuler 24.03 LTS) / aarch64  OK    OK    OK  


CHECK results for ISAnalytics on nebbiolo2

To the developers/maintainers of the ISAnalytics package:
- Allow up to 24 hours (and sometimes 48 hours) for your latest push to git@git.bioconductor.org:packages/ISAnalytics.git to reflect on this report. See Troubleshooting Build Report for more information.
- Use the following Renviron settings to reproduce errors and warnings.
- If 'R CMD check' started to fail recently on the Linux builder(s) over a missing dependency, add the missing dependency to 'Suggests:' in your DESCRIPTION file. See Renviron.bioc for more information.

raw results


Summary

Package: ISAnalytics
Version: 1.19.3
Command: /home/biocbuild/bbs-3.22-bioc/R/bin/R CMD check --install=check:ISAnalytics.install-out.txt --library=/home/biocbuild/bbs-3.22-bioc/R/site-library --timings ISAnalytics_1.19.3.tar.gz
StartedAt: 2025-10-13 00:56:16 -0400 (Mon, 13 Oct 2025)
EndedAt: 2025-10-13 01:06:55 -0400 (Mon, 13 Oct 2025)
EllapsedTime: 638.7 seconds
RetCode: 0
Status:   OK  
CheckDir: ISAnalytics.Rcheck
Warnings: 0

Command output

##############################################################################
##############################################################################
###
### Running command:
###
###   /home/biocbuild/bbs-3.22-bioc/R/bin/R CMD check --install=check:ISAnalytics.install-out.txt --library=/home/biocbuild/bbs-3.22-bioc/R/site-library --timings ISAnalytics_1.19.3.tar.gz
###
##############################################################################
##############################################################################


* using log directory ‘/home/biocbuild/bbs-3.22-bioc/meat/ISAnalytics.Rcheck’
* using R version 4.5.1 Patched (2025-08-23 r88802)
* using platform: x86_64-pc-linux-gnu
* R was compiled by
    gcc (Ubuntu 13.3.0-6ubuntu2~24.04) 13.3.0
    GNU Fortran (Ubuntu 13.3.0-6ubuntu2~24.04) 13.3.0
* running under: Ubuntu 24.04.3 LTS
* using session charset: UTF-8
* checking for file ‘ISAnalytics/DESCRIPTION’ ... OK
* this is package ‘ISAnalytics’ version ‘1.19.3’
* package encoding: UTF-8
* checking package namespace information ... OK
* checking package dependencies ... INFO
Imports includes 22 non-default packages.
Importing from so many packages makes the package vulnerable to any of
them becoming unavailable.  Move as many as possible to Suggests and
use conditionally.
* checking if this is a source package ... OK
* checking if there is a namespace ... OK
* checking for hidden files and directories ... OK
* checking for portable file names ... OK
* checking for sufficient/correct file permissions ... OK
* checking whether package ‘ISAnalytics’ can be installed ... OK
* checking installed package size ... INFO
  installed size is  8.3Mb
  sub-directories of 1Mb or more:
    data   5.8Mb
* checking package directory ... OK
* checking ‘build’ directory ... OK
* checking DESCRIPTION meta-information ... OK
* checking top-level files ... OK
* checking for left-over files ... OK
* checking index information ... OK
* checking package subdirectories ... OK
* checking code files for non-ASCII characters ... OK
* checking R files for syntax errors ... OK
* checking whether the package can be loaded ... OK
* checking whether the package can be loaded with stated dependencies ... OK
* checking whether the package can be unloaded cleanly ... OK
* checking whether the namespace can be loaded with stated dependencies ... OK
* checking whether the namespace can be unloaded cleanly ... OK
* checking loading without being on the library search path ... OK
* checking whether startup messages can be suppressed ... OK
* checking dependencies in R code ... OK
* checking S3 generic/method consistency ... OK
* checking replacement functions ... OK
* checking foreign function calls ... OK
* checking R code for possible problems ... OK
* checking Rd files ... NOTE
checkRd: (-1) refGenes_hg19.Rd:21: Lost braces; missing escapes or markup?
    21 | \item Download from {http://hgdownload.soe.ucsc.edu/goldenPath/hg19/database/}
       |                     ^
* checking Rd metadata ... OK
* checking Rd cross-references ... OK
* checking for missing documentation entries ... OK
* checking for code/documentation mismatches ... OK
* checking Rd \usage sections ... OK
* checking Rd contents ... OK
* checking for unstated dependencies in examples ... OK
* checking contents of ‘data’ directory ... OK
* checking data for non-ASCII characters ... OK
* checking data for ASCII and uncompressed saves ... OK
* checking files in ‘vignettes’ ... OK
* checking examples ... OK
Examples with CPU (user + system) or elapsed time > 5s
                                user system elapsed
sharing_venn                   3.902  0.452  33.669
integration_alluvial_plot      3.935  0.349  11.012
import_parallel_Vispa2Matrices 3.230  0.316  17.283
sharing_heatmap                2.522  0.217  12.165
CIS_grubbs_overtime            1.875  0.106   7.390
import_Vispa2_stats            1.746  0.234   7.950
top_cis_overtime_heatmap       1.838  0.128   9.213
is_sharing                     1.578  0.120   9.587
iss_source                     1.493  0.071   9.259
HSC_population_plot            1.411  0.095   6.698
realign_after_collisions       1.283  0.105   7.473
remove_collisions              1.267  0.120   7.229
HSC_population_size_estimate   1.287  0.017   6.444
compute_near_integrations      1.070  0.058   6.506
* checking for unstated dependencies in ‘tests’ ... OK
* checking tests ...
  Running ‘testthat.R’
 OK
* checking for unstated dependencies in vignettes ... OK
* checking package vignettes ... OK
* checking re-building of vignette outputs ... OK
* checking PDF version of manual ... OK
* DONE

Status: 1 NOTE
See
  ‘/home/biocbuild/bbs-3.22-bioc/meat/ISAnalytics.Rcheck/00check.log’
for details.


Installation output

ISAnalytics.Rcheck/00install.out

##############################################################################
##############################################################################
###
### Running command:
###
###   /home/biocbuild/bbs-3.22-bioc/R/bin/R CMD INSTALL ISAnalytics
###
##############################################################################
##############################################################################


* installing to library ‘/home/biocbuild/bbs-3.22-bioc/R/site-library’
* installing *source* package ‘ISAnalytics’ ...
** this is package ‘ISAnalytics’ version ‘1.19.3’
** using staged installation
** R
** data
** inst
** byte-compile and prepare package for lazy loading
** help
*** installing help indices
*** copying figures
** building package indices
** installing vignettes
** testing if installed package can be loaded from temporary location
** testing if installed package can be loaded from final location
** testing if installed package keeps a record of temporary installation path
* DONE (ISAnalytics)

Tests output

ISAnalytics.Rcheck/tests/testthat.Rout


R version 4.5.1 Patched (2025-08-23 r88802) -- "Great Square Root"
Copyright (C) 2025 The R Foundation for Statistical Computing
Platform: x86_64-pc-linux-gnu

R is free software and comes with ABSOLUTELY NO WARRANTY.
You are welcome to redistribute it under certain conditions.
Type 'license()' or 'licence()' for distribution details.

R is a collaborative project with many contributors.
Type 'contributors()' for more information and
'citation()' on how to cite R or R packages in publications.

Type 'demo()' for some demos, 'help()' for on-line help, or
'help.start()' for an HTML browser interface to help.
Type 'q()' to quit R.

> library(testthat)
> library(ISAnalytics)
> 
> test_check("ISAnalytics")
Loading required namespace: plotly
Loading required namespace: rmarkdown
Report correctly saved
i Report saved to: /tmp/Rtmpwi24YC/file12105c3e423f45/2025-10-13_collision_removal_report.html
Report correctly saved
i Report saved to: /tmp/Rtmpwi24YC/file12105c2c2b11a3/2025-10-13_outlier_test_pool_fragments_report.html
[ FAIL 0 | WARN 0 | SKIP 0 | PASS 834 ]
> 
> proc.time()
   user  system elapsed 
106.216   6.320 295.952 

Example timings

ISAnalytics.Rcheck/ISAnalytics-Ex.timings

nameusersystemelapsed
CIS_grubbs0.7890.0250.814
CIS_grubbs_overtime1.8750.1067.390
CIS_volcano_plot1.4800.2351.715
HSC_population_plot1.4110.0956.698
HSC_population_size_estimate1.2870.0176.444
NGSdataExplorer000
aggregate_metadata0.1180.0010.120
aggregate_values_by_key0.0750.0030.077
annotation_issues0.0320.0000.032
as_sparse_matrix0.0610.0000.061
available_outlier_tests000
available_tags0.0260.0000.027
blood_lineages_default0.0350.0000.035
circos_genomic_density000
clinical_relevant_suspicious_genes0.0150.0240.040
comparison_matrix0.0370.0360.074
compute_abundance0.0440.0070.051
compute_near_integrations1.0700.0586.506
cumulative_count_union0.0010.0000.000
cumulative_is0.2100.0010.210
date_formats000
default_af_transform0.0000.0000.001
default_iss_file_prefixes000
default_meta_agg0.0170.0000.017
default_rec_agg_lambdas0.0000.0010.001
default_report_path0.0050.0030.007
default_stats1.0670.1161.184
enable_progress_bars0.0130.0010.015
export_ISA_settings0.0610.0110.072
fisher_scatterplot1.0750.0941.169
gene_frequency_fisher0.8780.0400.918
generate_Vispa2_launch_AF0.1750.0110.184
generate_blank_association_file0.0110.0010.012
generate_default_folder_structure0.3310.1040.432
import_ISA_settings0.0570.0090.065
import_Vispa2_stats1.7460.2347.950
import_association_file0.5990.1430.743
import_parallel_Vispa2Matrices 3.230 0.31617.283
import_single_Vispa2Matrix0.8420.0820.923
inspect_tags0.0120.0000.013
integration_alluvial_plot 3.935 0.34911.012
is_sharing1.5780.1209.587
iss_source1.4930.0719.259
known_clinical_oncogenes0.0110.0000.010
mandatory_IS_vars0.0850.0210.106
matching_options000
outlier_filter0.1310.0140.145
outliers_by_pool_fragments0.1440.0120.156
pcr_id_column0.0190.0000.019
purity_filter0.3080.0180.326
quantification_types000
realign_after_collisions1.2830.1057.473
reduced_AF_columns0.0430.0010.044
refGene_table_cols000
remove_collisions1.2670.1207.229
reset_mandatory_IS_vars0.0080.0000.007
sample_statistics0.3740.0150.389
separate_quant_matrices0.0150.0010.016
set_mandatory_IS_vars0.0880.0060.094
set_matrix_file_suffixes0.0170.0020.019
sharing_heatmap 2.522 0.21712.165
sharing_venn 3.902 0.45233.669
threshold_filter000
top_abund_tableGrob0.6710.0260.698
top_cis_overtime_heatmap1.8380.1289.213
top_integrations0.0300.0020.032
top_targeted_genes0.4790.0300.509
transform_columns0.0220.0000.022