Back to Multiple platform build/check report for BioC 3.21:   simplified   long
ABCDEFG[H]IJKLMNOPQRSTUVWXYZ

This page was generated on 2025-02-19 11:41 -0500 (Wed, 19 Feb 2025).

HostnameOSArch (*)R versionInstalled pkgs
nebbiolo1Linux (Ubuntu 24.04.1 LTS)x86_64R Under development (unstable) (2025-01-20 r87609) -- "Unsuffered Consequences" 4720
palomino7Windows Server 2022 Datacenterx64R Under development (unstable) (2025-01-21 r87610 ucrt) -- "Unsuffered Consequences" 4482
lconwaymacOS 12.7.1 Montereyx86_64R Under development (unstable) (2025-01-22 r87618) -- "Unsuffered Consequences" 4493
kjohnson3macOS 13.7.1 Venturaarm64R Under development (unstable) (2025-01-20 r87609) -- "Unsuffered Consequences" 4446
Click on any hostname to see more info about the system (e.g. compilers)      (*) as reported by 'uname -p', except on Windows and Mac OS X

Package 955/2295HostnameOS / ArchINSTALLBUILDCHECKBUILD BIN
HiCBricks 1.25.0  (landing page)
Koustav Pal
Snapshot Date: 2025-02-18 13:40 -0500 (Tue, 18 Feb 2025)
git_url: https://git.bioconductor.org/packages/HiCBricks
git_branch: devel
git_last_commit: 51b1cc8
git_last_commit_date: 2024-10-29 10:32:24 -0500 (Tue, 29 Oct 2024)
nebbiolo1Linux (Ubuntu 24.04.1 LTS) / x86_64  OK    OK    OK  UNNEEDED, same version is already published
palomino7Windows Server 2022 Datacenter / x64  OK    OK    OK    OK  UNNEEDED, same version is already published
lconwaymacOS 12.7.1 Monterey / x86_64  OK    OK    OK    OK  UNNEEDED, same version is already published
kjohnson3macOS 13.7.1 Ventura / arm64  OK    OK    OK    OK  UNNEEDED, same version is already published


CHECK results for HiCBricks on palomino7

To the developers/maintainers of the HiCBricks package:
- Allow up to 24 hours (and sometimes 48 hours) for your latest push to git@git.bioconductor.org:packages/HiCBricks.git to reflect on this report. See Troubleshooting Build Report for more information.
- Use the following Renviron settings to reproduce errors and warnings.
- If 'R CMD check' started to fail recently on the Linux builder(s) over a missing dependency, add the missing dependency to 'Suggests:' in your DESCRIPTION file. See Renviron.bioc for more information.

raw results


Summary

Package: HiCBricks
Version: 1.25.0
Command: E:\biocbuild\bbs-3.21-bioc\R\bin\R.exe CMD check --no-multiarch --install=check:HiCBricks.install-out.txt --library=E:\biocbuild\bbs-3.21-bioc\R\library --no-vignettes --timings HiCBricks_1.25.0.tar.gz
StartedAt: 2025-02-19 01:51:16 -0500 (Wed, 19 Feb 2025)
EndedAt: 2025-02-19 01:56:12 -0500 (Wed, 19 Feb 2025)
EllapsedTime: 295.7 seconds
RetCode: 0
Status:   OK  
CheckDir: HiCBricks.Rcheck
Warnings: 0

Command output

##############################################################################
##############################################################################
###
### Running command:
###
###   E:\biocbuild\bbs-3.21-bioc\R\bin\R.exe CMD check --no-multiarch --install=check:HiCBricks.install-out.txt --library=E:\biocbuild\bbs-3.21-bioc\R\library --no-vignettes --timings HiCBricks_1.25.0.tar.gz
###
##############################################################################
##############################################################################


* using log directory 'E:/biocbuild/bbs-3.21-bioc/meat/HiCBricks.Rcheck'
* using R Under development (unstable) (2025-01-21 r87610 ucrt)
* using platform: x86_64-w64-mingw32
* R was compiled by
    gcc.exe (GCC) 13.3.0
    GNU Fortran (GCC) 13.3.0
* running under: Windows Server 2022 x64 (build 20348)
* using session charset: UTF-8
* using option '--no-vignettes'
* checking for file 'HiCBricks/DESCRIPTION' ... OK
* checking extension type ... Package
* this is package 'HiCBricks' version '1.25.0'
* package encoding: UTF-8
* checking package namespace information ... OK
* checking package dependencies ... OK
* checking if this is a source package ... OK
* checking if there is a namespace ... OK
* checking for hidden files and directories ... OK
* checking for portable file names ... OK
* checking whether package 'HiCBricks' can be installed ... OK
* checking installed package size ... OK
* checking package directory ... OK
* checking 'build' directory ... OK
* checking DESCRIPTION meta-information ... OK
* checking top-level files ... OK
* checking for left-over files ... OK
* checking index information ... OK
* checking package subdirectories ... OK
* checking code files for non-ASCII characters ... OK
* checking R files for syntax errors ... OK
* checking whether the package can be loaded ... OK
* checking whether the package can be loaded with stated dependencies ... OK
* checking whether the package can be unloaded cleanly ... OK
* checking whether the namespace can be loaded with stated dependencies ... OK
* checking whether the namespace can be unloaded cleanly ... OK
* checking dependencies in R code ... OK
* checking S3 generic/method consistency ... OK
* checking replacement functions ... OK
* checking foreign function calls ... OK
* checking R code for possible problems ... OK
* checking Rd files ... OK
* checking Rd metadata ... OK
* checking Rd cross-references ... OK
* checking for missing documentation entries ... OK
* checking for code/documentation mismatches ... OK
* checking Rd \usage sections ... OK
* checking Rd contents ... OK
* checking for unstated dependencies in examples ... OK
* checking files in 'vignettes' ... OK
* checking examples ... OK
Examples with CPU (user + system) or elapsed time > 5s
                                 user system elapsed
Brick_export_to_sparse           3.57   0.42    6.94
Brick_add_ranges                 2.52   0.15    5.43
Brick_local_score_differentiator 2.06   0.43    5.11
BrickContainer_unlink_resolution 2.14   0.30    6.41
Brick_fetch_row_vector           1.92   0.23    5.05
Brick_matrix_dimensions          1.53   0.23    7.05
Brick_matrix_exists              1.53   0.23    5.38
Brick_matrix_maxdist             1.28   0.30    5.61
* checking for unstated dependencies in vignettes ... OK
* checking package vignettes ... OK
* checking running R code from vignettes ... SKIPPED
* checking re-building of vignette outputs ... SKIPPED
* checking PDF version of manual ... OK
* DONE

Status: OK


Installation output

HiCBricks.Rcheck/00install.out

##############################################################################
##############################################################################
###
### Running command:
###
###   E:\biocbuild\bbs-3.21-bioc\R\bin\R.exe CMD INSTALL HiCBricks
###
##############################################################################
##############################################################################


* installing to library 'E:/biocbuild/bbs-3.21-bioc/R/library'
* installing *source* package 'HiCBricks' ...
** this is package 'HiCBricks' version '1.25.0'
** using staged installation
** R
** inst
** byte-compile and prepare package for lazy loading
** help
*** installing help indices
** building package indices
** installing vignettes
** testing if installed package can be loaded from temporary location
** testing if installed package can be loaded from final location
** testing if installed package keeps a record of temporary installation path
* DONE (HiCBricks)

Tests output


Example timings

HiCBricks.Rcheck/HiCBricks-Ex.timings

nameusersystemelapsed
BrickContainer_change_experiment_name1.310.243.57
BrickContainer_change_output_directory1.250.102.95
BrickContainer_get_path_to_file1.100.103.01
BrickContainer_list_chromosomes1.030.172.96
BrickContainer_list_experiment_name1.060.092.83
BrickContainer_list_files0.860.242.89
BrickContainer_list_output_directory0.970.152.86
BrickContainer_list_resolutions1.010.152.85
BrickContainer_unlink_resolution2.140.306.41
Brick_add_ranges2.520.155.43
Brick_call_compartments1.800.224.38
Brick_export_to_sparse3.570.426.94
Brick_fetch_range_index1.100.103.67
Brick_fetch_row_vector1.920.235.05
Brick_get_bintable1.030.102.90
Brick_get_chrominfo0.940.123.27
Brick_get_entire_matrix1.350.254.16
Brick_get_matrix1.790.254.01
Brick_get_matrix_mcols1.600.164.47
Brick_get_matrix_within_coords2.190.204.80
Brick_get_ranges1.120.193.33
Brick_get_values_by_distance1.660.264.81
Brick_get_vector_values1.360.184.13
Brick_list_matrices0.900.152.59
Brick_list_matrix_mcols1.050.113.17
Brick_list_mcool_normalisations000
Brick_list_mcool_resolutions000
Brick_list_rangekeys1.110.082.88
Brick_list_ranges_mcols1.010.143.79
Brick_load_cis_matrix_till_distance1.470.114.21
Brick_load_data_from_mcool000
Brick_load_data_from_sparse000
Brick_load_matrix1.460.214.06
Brick_local_score_differentiator2.060.435.11
Brick_make_ranges000
Brick_matrix_dimensions1.530.237.05
Brick_matrix_exists1.530.235.38
Brick_matrix_filename1.170.244.39
Brick_matrix_isdone1.460.314.50
Brick_matrix_issparse1.310.254.81
Brick_matrix_maxdist1.280.305.61
Brick_matrix_minmax1.500.334.56
Brick_mcool_normalisation_exists000
Brick_rangekey_exists1.020.062.86
Brick_return_region_position1.090.032.83
Brick_vizart_plot_heatmap2.190.474.94
Create_many_Bricks1.150.123.07
Create_many_Bricks_from_mcool000
load_BrickContainer0.990.112.69