| Back to Multiple platform build/check report for BioC 3.23: simplified long |
|
This page was generated on 2025-11-28 11:37 -0500 (Fri, 28 Nov 2025).
| Hostname | OS | Arch (*) | R version | Installed pkgs |
|---|---|---|---|---|
| nebbiolo1 | Linux (Ubuntu 24.04.3 LTS) | x86_64 | R Under development (unstable) (2025-10-20 r88955) -- "Unsuffered Consequences" | 4866 |
| lconway | macOS 12.7.6 Monterey | x86_64 | R Under development (unstable) (2025-10-21 r88958) -- "Unsuffered Consequences" | 4614 |
| kjohnson3 | macOS 13.7.7 Ventura | arm64 | R Under development (unstable) (2025-11-04 r88984) -- "Unsuffered Consequences" | 4571 |
| Click on any hostname to see more info about the system (e.g. compilers) (*) as reported by 'uname -p', except on Windows and Mac OS X | ||||
| Package 967/2328 | Hostname | OS / Arch | INSTALL | BUILD | CHECK | BUILD BIN | ||||||||
| HiCBricks 1.29.0 (landing page) Koustav Pal
| nebbiolo1 | Linux (Ubuntu 24.04.3 LTS) / x86_64 | OK | OK | OK | |||||||||
| lconway | macOS 12.7.6 Monterey / x86_64 | OK | OK | OK | OK | |||||||||
| kjohnson3 | macOS 13.7.7 Ventura / arm64 | OK | OK | OK | OK | |||||||||
|
To the developers/maintainers of the HiCBricks package: - Allow up to 24 hours (and sometimes 48 hours) for your latest push to git@git.bioconductor.org:packages/HiCBricks.git to reflect on this report. See Troubleshooting Build Report for more information. - Use the following Renviron settings to reproduce errors and warnings. - If 'R CMD check' started to fail recently on the Linux builder(s) over a missing dependency, add the missing dependency to 'Suggests:' in your DESCRIPTION file. See Renviron.bioc for more information. |
| Package: HiCBricks |
| Version: 1.29.0 |
| Command: /home/biocbuild/bbs-3.23-bioc/R/bin/R CMD check --install=check:HiCBricks.install-out.txt --library=/home/biocbuild/bbs-3.23-bioc/R/site-library --timings HiCBricks_1.29.0.tar.gz |
| StartedAt: 2025-11-28 00:21:59 -0500 (Fri, 28 Nov 2025) |
| EndedAt: 2025-11-28 00:25:25 -0500 (Fri, 28 Nov 2025) |
| EllapsedTime: 206.2 seconds |
| RetCode: 0 |
| Status: OK |
| CheckDir: HiCBricks.Rcheck |
| Warnings: 0 |
##############################################################################
##############################################################################
###
### Running command:
###
### /home/biocbuild/bbs-3.23-bioc/R/bin/R CMD check --install=check:HiCBricks.install-out.txt --library=/home/biocbuild/bbs-3.23-bioc/R/site-library --timings HiCBricks_1.29.0.tar.gz
###
##############################################################################
##############################################################################
* using log directory ‘/home/biocbuild/bbs-3.23-bioc/meat/HiCBricks.Rcheck’
* using R Under development (unstable) (2025-10-20 r88955)
* using platform: x86_64-pc-linux-gnu
* R was compiled by
gcc (Ubuntu 13.3.0-6ubuntu2~24.04) 13.3.0
GNU Fortran (Ubuntu 13.3.0-6ubuntu2~24.04) 13.3.0
* running under: Ubuntu 24.04.3 LTS
* using session charset: UTF-8
* checking for file ‘HiCBricks/DESCRIPTION’ ... OK
* checking extension type ... Package
* this is package ‘HiCBricks’ version ‘1.29.0’
* package encoding: UTF-8
* checking package namespace information ... OK
* checking package dependencies ... OK
* checking if this is a source package ... OK
* checking if there is a namespace ... OK
* checking for hidden files and directories ... OK
* checking for portable file names ... OK
* checking for sufficient/correct file permissions ... OK
* checking whether package ‘HiCBricks’ can be installed ... OK
* checking installed package size ... OK
* checking package directory ... OK
* checking ‘build’ directory ... OK
* checking DESCRIPTION meta-information ... OK
* checking top-level files ... OK
* checking for left-over files ... OK
* checking index information ... OK
* checking package subdirectories ... OK
* checking code files for non-ASCII characters ... OK
* checking R files for syntax errors ... OK
* checking whether the package can be loaded ... OK
* checking whether the package can be loaded with stated dependencies ... OK
* checking whether the package can be unloaded cleanly ... OK
* checking whether the namespace can be loaded with stated dependencies ... OK
* checking whether the namespace can be unloaded cleanly ... OK
* checking loading without being on the library search path ... OK
* checking dependencies in R code ... OK
* checking S3 generic/method consistency ... OK
* checking replacement functions ... OK
* checking foreign function calls ... OK
* checking R code for possible problems ... OK
* checking Rd files ... OK
* checking Rd metadata ... OK
* checking Rd cross-references ... OK
* checking for missing documentation entries ... OK
* checking for code/documentation mismatches ... OK
* checking Rd \usage sections ... OK
* checking Rd contents ... OK
* checking for unstated dependencies in examples ... OK
* checking files in ‘vignettes’ ... OK
* checking examples ... OK
* checking for unstated dependencies in vignettes ... OK
* checking package vignettes ... OK
* checking re-building of vignette outputs ... OK
* checking PDF version of manual ... OK
* DONE
Status: OK
HiCBricks.Rcheck/00install.out
############################################################################## ############################################################################## ### ### Running command: ### ### /home/biocbuild/bbs-3.23-bioc/R/bin/R CMD INSTALL HiCBricks ### ############################################################################## ############################################################################## * installing to library ‘/home/biocbuild/bbs-3.23-bioc/R/site-library’ * installing *source* package ‘HiCBricks’ ... ** this is package ‘HiCBricks’ version ‘1.29.0’ ** using staged installation ** R ** inst ** byte-compile and prepare package for lazy loading ** help *** installing help indices ** building package indices ** installing vignettes ** testing if installed package can be loaded from temporary location ** testing if installed package can be loaded from final location ** testing if installed package keeps a record of temporary installation path * DONE (HiCBricks)
HiCBricks.Rcheck/HiCBricks-Ex.timings
| name | user | system | elapsed | |
| BrickContainer_change_experiment_name | 1.203 | 0.028 | 1.229 | |
| BrickContainer_change_output_directory | 0.959 | 0.022 | 0.982 | |
| BrickContainer_get_path_to_file | 0.936 | 0.008 | 0.944 | |
| BrickContainer_list_chromosomes | 0.878 | 0.113 | 0.990 | |
| BrickContainer_list_experiment_name | 0.829 | 0.036 | 0.865 | |
| BrickContainer_list_files | 0.818 | 0.050 | 0.869 | |
| BrickContainer_list_output_directory | 0.875 | 0.015 | 0.890 | |
| BrickContainer_list_resolutions | 0.814 | 0.021 | 0.835 | |
| BrickContainer_unlink_resolution | 1.774 | 0.069 | 1.844 | |
| Brick_add_ranges | 2.131 | 0.061 | 2.192 | |
| Brick_call_compartments | 1.253 | 0.058 | 1.313 | |
| Brick_export_to_sparse | 2.315 | 0.075 | 2.390 | |
| Brick_fetch_range_index | 1.407 | 0.051 | 1.459 | |
| Brick_fetch_row_vector | 1.425 | 0.081 | 1.506 | |
| Brick_get_bintable | 0.856 | 0.011 | 0.868 | |
| Brick_get_chrominfo | 0.798 | 0.055 | 0.853 | |
| Brick_get_entire_matrix | 1.203 | 0.025 | 1.284 | |
| Brick_get_matrix | 1.138 | 0.025 | 1.163 | |
| Brick_get_matrix_mcols | 1.077 | 0.028 | 1.105 | |
| Brick_get_matrix_within_coords | 1.645 | 0.021 | 1.666 | |
| Brick_get_ranges | 0.806 | 0.016 | 0.821 | |
| Brick_get_values_by_distance | 1.354 | 0.034 | 1.388 | |
| Brick_get_vector_values | 1.159 | 0.126 | 1.285 | |
| Brick_list_matrices | 0.851 | 0.006 | 0.860 | |
| Brick_list_matrix_mcols | 0.863 | 0.008 | 0.874 | |
| Brick_list_mcool_normalisations | 0 | 0 | 0 | |
| Brick_list_mcool_resolutions | 0 | 0 | 0 | |
| Brick_list_rangekeys | 0.901 | 0.012 | 0.946 | |
| Brick_list_ranges_mcols | 0.930 | 0.014 | 0.944 | |
| Brick_load_cis_matrix_till_distance | 0.991 | 0.020 | 1.012 | |
| Brick_load_data_from_mcool | 0.000 | 0.001 | 0.001 | |
| Brick_load_data_from_sparse | 0.000 | 0.001 | 0.001 | |
| Brick_load_matrix | 1.035 | 0.017 | 1.051 | |
| Brick_local_score_differentiator | 1.680 | 0.051 | 1.732 | |
| Brick_make_ranges | 0.008 | 0.000 | 0.008 | |
| Brick_matrix_dimensions | 1.037 | 0.116 | 1.153 | |
| Brick_matrix_exists | 0.977 | 0.022 | 0.999 | |
| Brick_matrix_filename | 1.022 | 0.046 | 1.068 | |
| Brick_matrix_isdone | 1.041 | 0.084 | 1.125 | |
| Brick_matrix_issparse | 1.000 | 0.015 | 1.015 | |
| Brick_matrix_maxdist | 1.097 | 0.055 | 1.152 | |
| Brick_matrix_minmax | 1.022 | 0.017 | 1.039 | |
| Brick_mcool_normalisation_exists | 0 | 0 | 0 | |
| Brick_rangekey_exists | 0.796 | 0.054 | 0.850 | |
| Brick_return_region_position | 0.841 | 0.014 | 0.855 | |
| Brick_vizart_plot_heatmap | 2.248 | 0.036 | 2.284 | |
| Create_many_Bricks | 0.785 | 0.045 | 0.830 | |
| Create_many_Bricks_from_mcool | 0.000 | 0.001 | 0.001 | |
| load_BrickContainer | 0.899 | 0.019 | 0.918 | |