Back to Multiple platform build/check report for BioC 3.22: simplified long |
|
This page was generated on 2025-05-23 12:08 -0400 (Fri, 23 May 2025).
Hostname | OS | Arch (*) | R version | Installed pkgs |
---|---|---|---|---|
nebbiolo2 | Linux (Ubuntu 24.04.1 LTS) | x86_64 | 4.5.0 (2025-04-11) -- "How About a Twenty-Six" | 4753 |
palomino8 | Windows Server 2022 Datacenter | x64 | 4.5.0 (2025-04-11 ucrt) -- "How About a Twenty-Six" | 4528 |
lconway | macOS 12.7.1 Monterey | x86_64 | 4.5.0 Patched (2025-04-21 r88169) -- "How About a Twenty-Six" | 4553 |
kjohnson3 | macOS 13.7.1 Ventura | arm64 | 4.5.0 Patched (2025-04-21 r88169) -- "How About a Twenty-Six" | 4493 |
taishan | Linux (openEuler 24.03 LTS) | aarch64 | 4.5.0 (2025-04-11) -- "How About a Twenty-Six" | 4460 |
Click on any hostname to see more info about the system (e.g. compilers) (*) as reported by 'uname -p', except on Windows and Mac OS X |
Package 956/2306 | Hostname | OS / Arch | INSTALL | BUILD | CHECK | BUILD BIN | ||||||||
HiCBricks 1.27.0 (landing page) Koustav Pal
| nebbiolo2 | Linux (Ubuntu 24.04.1 LTS) / x86_64 | OK | OK | OK | ![]() | ||||||||
palomino8 | Windows Server 2022 Datacenter / x64 | OK | OK | OK | OK | ![]() | ||||||||
lconway | macOS 12.7.1 Monterey / x86_64 | OK | OK | OK | OK | ![]() | ||||||||
kjohnson3 | macOS 13.7.1 Ventura / arm64 | OK | OK | OK | OK | ![]() | ||||||||
taishan | Linux (openEuler 24.03 LTS) / aarch64 | OK | OK | OK | ||||||||||
To the developers/maintainers of the HiCBricks package: - Allow up to 24 hours (and sometimes 48 hours) for your latest push to git@git.bioconductor.org:packages/HiCBricks.git to reflect on this report. See Troubleshooting Build Report for more information. - Use the following Renviron settings to reproduce errors and warnings. - If 'R CMD check' started to fail recently on the Linux builder(s) over a missing dependency, add the missing dependency to 'Suggests:' in your DESCRIPTION file. See Renviron.bioc for more information. |
Package: HiCBricks |
Version: 1.27.0 |
Command: /Library/Frameworks/R.framework/Resources/bin/R CMD check --install=check:HiCBricks.install-out.txt --library=/Library/Frameworks/R.framework/Resources/library --no-vignettes --timings HiCBricks_1.27.0.tar.gz |
StartedAt: 2025-05-22 20:59:49 -0400 (Thu, 22 May 2025) |
EndedAt: 2025-05-22 21:02:45 -0400 (Thu, 22 May 2025) |
EllapsedTime: 175.3 seconds |
RetCode: 0 |
Status: OK |
CheckDir: HiCBricks.Rcheck |
Warnings: 0 |
############################################################################## ############################################################################## ### ### Running command: ### ### /Library/Frameworks/R.framework/Resources/bin/R CMD check --install=check:HiCBricks.install-out.txt --library=/Library/Frameworks/R.framework/Resources/library --no-vignettes --timings HiCBricks_1.27.0.tar.gz ### ############################################################################## ############################################################################## * using log directory ‘/Users/biocbuild/bbs-3.22-bioc/meat/HiCBricks.Rcheck’ * using R version 4.5.0 Patched (2025-04-21 r88169) * using platform: x86_64-apple-darwin20 * R was compiled by Apple clang version 14.0.0 (clang-1400.0.29.202) GNU Fortran (GCC) 14.2.0 * running under: macOS Monterey 12.7.6 * using session charset: UTF-8 * using option ‘--no-vignettes’ * checking for file ‘HiCBricks/DESCRIPTION’ ... OK * checking extension type ... Package * this is package ‘HiCBricks’ version ‘1.27.0’ * package encoding: UTF-8 * checking package namespace information ... OK * checking package dependencies ... OK * checking if this is a source package ... OK * checking if there is a namespace ... OK * checking for hidden files and directories ... OK * checking for portable file names ... OK * checking for sufficient/correct file permissions ... OK * checking whether package ‘HiCBricks’ can be installed ... OK * checking installed package size ... OK * checking package directory ... OK * checking ‘build’ directory ... OK * checking DESCRIPTION meta-information ... OK * checking top-level files ... OK * checking for left-over files ... OK * checking index information ... OK * checking package subdirectories ... OK * checking code files for non-ASCII characters ... OK * checking R files for syntax errors ... OK * checking whether the package can be loaded ... OK * checking whether the package can be loaded with stated dependencies ... OK * checking whether the package can be unloaded cleanly ... OK * checking whether the namespace can be loaded with stated dependencies ... OK * checking whether the namespace can be unloaded cleanly ... OK * checking dependencies in R code ... OK * checking S3 generic/method consistency ... OK * checking replacement functions ... OK * checking foreign function calls ... OK * checking R code for possible problems ... OK * checking Rd files ... OK * checking Rd metadata ... OK * checking Rd cross-references ... OK * checking for missing documentation entries ... OK * checking for code/documentation mismatches ... OK * checking Rd \usage sections ... OK * checking Rd contents ... OK * checking for unstated dependencies in examples ... OK * checking files in ‘vignettes’ ... OK * checking examples ... OK * checking for unstated dependencies in vignettes ... OK * checking package vignettes ... OK * checking running R code from vignettes ... SKIPPED * checking re-building of vignette outputs ... SKIPPED * checking PDF version of manual ... OK * DONE Status: OK
HiCBricks.Rcheck/00install.out
############################################################################## ############################################################################## ### ### Running command: ### ### /Library/Frameworks/R.framework/Resources/bin/R CMD INSTALL HiCBricks ### ############################################################################## ############################################################################## * installing to library ‘/Library/Frameworks/R.framework/Versions/4.5-x86_64/Resources/library’ * installing *source* package ‘HiCBricks’ ... ** this is package ‘HiCBricks’ version ‘1.27.0’ ** using staged installation ** R ** inst ** byte-compile and prepare package for lazy loading ** help *** installing help indices ** building package indices ** installing vignettes ** testing if installed package can be loaded from temporary location ** testing if installed package can be loaded from final location ** testing if installed package keeps a record of temporary installation path * DONE (HiCBricks)
HiCBricks.Rcheck/HiCBricks-Ex.timings
name | user | system | elapsed | |
BrickContainer_change_experiment_name | 1.190 | 0.109 | 1.314 | |
BrickContainer_change_output_directory | 0.979 | 0.088 | 1.074 | |
BrickContainer_get_path_to_file | 0.819 | 0.076 | 0.903 | |
BrickContainer_list_chromosomes | 0.842 | 0.073 | 0.921 | |
BrickContainer_list_experiment_name | 0.807 | 0.075 | 0.888 | |
BrickContainer_list_files | 0.832 | 0.072 | 0.912 | |
BrickContainer_list_output_directory | 0.843 | 0.079 | 0.931 | |
BrickContainer_list_resolutions | 0.865 | 0.077 | 0.950 | |
BrickContainer_unlink_resolution | 1.838 | 0.166 | 2.017 | |
Brick_add_ranges | 2.010 | 0.128 | 2.166 | |
Brick_call_compartments | 1.444 | 0.308 | 1.769 | |
Brick_export_to_sparse | 2.593 | 0.307 | 2.920 | |
Brick_fetch_range_index | 1.005 | 0.077 | 1.090 | |
Brick_fetch_row_vector | 1.571 | 0.233 | 1.819 | |
Brick_get_bintable | 0.847 | 0.078 | 0.935 | |
Brick_get_chrominfo | 0.789 | 0.081 | 0.880 | |
Brick_get_entire_matrix | 1.262 | 0.332 | 1.612 | |
Brick_get_matrix | 1.547 | 0.251 | 1.815 | |
Brick_get_matrix_mcols | 1.198 | 0.289 | 1.505 | |
Brick_get_matrix_within_coords | 1.655 | 0.351 | 2.018 | |
Brick_get_ranges | 0.820 | 0.078 | 0.908 | |
Brick_get_values_by_distance | 1.290 | 0.252 | 1.564 | |
Brick_get_vector_values | 1.185 | 0.229 | 1.430 | |
Brick_list_matrices | 0.779 | 0.074 | 0.862 | |
Brick_list_matrix_mcols | 0.795 | 0.076 | 0.880 | |
Brick_list_mcool_normalisations | 0.001 | 0.000 | 0.000 | |
Brick_list_mcool_resolutions | 0 | 0 | 0 | |
Brick_list_rangekeys | 0.796 | 0.075 | 0.879 | |
Brick_list_ranges_mcols | 0.784 | 0.075 | 0.864 | |
Brick_load_cis_matrix_till_distance | 1.113 | 0.238 | 1.363 | |
Brick_load_data_from_mcool | 0.001 | 0.000 | 0.000 | |
Brick_load_data_from_sparse | 0.000 | 0.000 | 0.001 | |
Brick_load_matrix | 1.125 | 0.385 | 1.536 | |
Brick_local_score_differentiator | 1.890 | 0.418 | 2.366 | |
Brick_make_ranges | 0.009 | 0.000 | 0.009 | |
Brick_matrix_dimensions | 1.166 | 0.267 | 1.446 | |
Brick_matrix_exists | 1.214 | 0.292 | 1.525 | |
Brick_matrix_filename | 1.230 | 0.341 | 1.591 | |
Brick_matrix_isdone | 1.204 | 0.293 | 1.514 | |
Brick_matrix_issparse | 1.287 | 0.357 | 1.673 | |
Brick_matrix_maxdist | 1.218 | 0.231 | 1.464 | |
Brick_matrix_minmax | 1.190 | 0.391 | 1.614 | |
Brick_mcool_normalisation_exists | 0.000 | 0.001 | 0.001 | |
Brick_rangekey_exists | 0.875 | 0.085 | 0.968 | |
Brick_return_region_position | 0.957 | 0.083 | 1.053 | |
Brick_vizart_plot_heatmap | 2.274 | 0.429 | 2.727 | |
Create_many_Bricks | 0.847 | 0.081 | 0.934 | |
Create_many_Bricks_from_mcool | 0.000 | 0.001 | 0.001 | |
load_BrickContainer | 0.855 | 0.077 | 0.934 | |