| Back to Multiple platform build/check report for BioC 3.23: simplified long |
|
This page was generated on 2025-11-17 11:40 -0500 (Mon, 17 Nov 2025).
| Hostname | OS | Arch (*) | R version | Installed pkgs |
|---|---|---|---|---|
| nebbiolo1 | Linux (Ubuntu 24.04.3 LTS) | x86_64 | R Under development (unstable) (2025-10-20 r88955) -- "Unsuffered Consequences" | 4826 |
| lconway | macOS 12.7.6 Monterey | x86_64 | R Under development (unstable) (2025-10-21 r88958) -- "Unsuffered Consequences" | 4491 |
| kjohnson3 | macOS 13.7.7 Ventura | arm64 | R Under development (unstable) (2025-11-04 r88984) -- "Unsuffered Consequences" | 4562 |
| Click on any hostname to see more info about the system (e.g. compilers) (*) as reported by 'uname -p', except on Windows and Mac OS X | ||||
| Package 909/2325 | Hostname | OS / Arch | INSTALL | BUILD | CHECK | BUILD BIN | ||||||||
| GRaNIE 1.15.0 (landing page) Christian Arnold
| nebbiolo1 | Linux (Ubuntu 24.04.3 LTS) / x86_64 | OK | OK | OK | |||||||||
| lconway | macOS 12.7.6 Monterey / x86_64 | OK | OK | ERROR | OK | |||||||||
| kjohnson3 | macOS 13.7.7 Ventura / arm64 | OK | OK | OK | OK | |||||||||
|
To the developers/maintainers of the GRaNIE package: - Allow up to 24 hours (and sometimes 48 hours) for your latest push to git@git.bioconductor.org:packages/GRaNIE.git to reflect on this report. See Troubleshooting Build Report for more information. - Use the following Renviron settings to reproduce errors and warnings. - If 'R CMD check' started to fail recently on the Linux builder(s) over a missing dependency, add the missing dependency to 'Suggests:' in your DESCRIPTION file. See Renviron.bioc for more information. |
| Package: GRaNIE |
| Version: 1.15.0 |
| Command: /Library/Frameworks/R.framework/Resources/bin/R CMD check --install=check:GRaNIE.install-out.txt --library=/Library/Frameworks/R.framework/Resources/library --no-vignettes --timings GRaNIE_1.15.0.tar.gz |
| StartedAt: 2025-11-16 20:16:58 -0500 (Sun, 16 Nov 2025) |
| EndedAt: 2025-11-16 20:20:33 -0500 (Sun, 16 Nov 2025) |
| EllapsedTime: 214.7 seconds |
| RetCode: 0 |
| Status: OK |
| CheckDir: GRaNIE.Rcheck |
| Warnings: 0 |
##############################################################################
##############################################################################
###
### Running command:
###
### /Library/Frameworks/R.framework/Resources/bin/R CMD check --install=check:GRaNIE.install-out.txt --library=/Library/Frameworks/R.framework/Resources/library --no-vignettes --timings GRaNIE_1.15.0.tar.gz
###
##############################################################################
##############################################################################
* using log directory ‘/Users/biocbuild/bbs-3.23-bioc/meat/GRaNIE.Rcheck’
* using R Under development (unstable) (2025-11-04 r88984)
* using platform: aarch64-apple-darwin20
* R was compiled by
Apple clang version 16.0.0 (clang-1600.0.26.6)
GNU Fortran (GCC) 14.2.0
* running under: macOS Ventura 13.7.8
* using session charset: UTF-8
* using option ‘--no-vignettes’
* checking for file ‘GRaNIE/DESCRIPTION’ ... OK
* this is package ‘GRaNIE’ version ‘1.15.0’
* package encoding: UTF-8
* checking package namespace information ... OK
* checking package dependencies ... INFO
Imports includes 37 non-default packages.
Importing from so many packages makes the package vulnerable to any of
them becoming unavailable. Move as many as possible to Suggests and
use conditionally.
* checking if this is a source package ... OK
* checking if there is a namespace ... OK
* checking for hidden files and directories ... OK
* checking for portable file names ... OK
* checking for sufficient/correct file permissions ... OK
* checking whether package ‘GRaNIE’ can be installed ... OK
* checking installed package size ... OK
* checking package directory ... OK
* checking ‘build’ directory ... OK
* checking DESCRIPTION meta-information ... OK
* checking top-level files ... OK
* checking for left-over files ... OK
* checking index information ... OK
* checking package subdirectories ... OK
* checking code files for non-ASCII characters ... OK
* checking R files for syntax errors ... OK
* checking whether the package can be loaded ... OK
* checking whether the package can be loaded with stated dependencies ... OK
* checking whether the package can be unloaded cleanly ... OK
* checking whether the namespace can be loaded with stated dependencies ... OK
* checking whether the namespace can be unloaded cleanly ... OK
* checking whether startup messages can be suppressed ... OK
* checking dependencies in R code ... OK
* checking S3 generic/method consistency ... OK
* checking replacement functions ... OK
* checking foreign function calls ... OK
* checking R code for possible problems ... NOTE
.performIHW: no visible binding for global variable 'adj_pvalue'
Undefined global functions or variables:
adj_pvalue
* checking Rd files ... OK
* checking Rd metadata ... OK
* checking Rd cross-references ... OK
* checking for missing documentation entries ... OK
* checking for code/documentation mismatches ... OK
* checking Rd \usage sections ... OK
* checking Rd contents ... OK
* checking for unstated dependencies in examples ... OK
* checking files in ‘vignettes’ ... OK
* checking examples ... OK
* checking for unstated dependencies in vignettes ... OK
* checking package vignettes ... OK
* checking running R code from vignettes ... SKIPPED
* checking re-building of vignette outputs ... SKIPPED
* checking PDF version of manual ... OK
* DONE
Status: 1 NOTE
See
‘/Users/biocbuild/bbs-3.23-bioc/meat/GRaNIE.Rcheck/00check.log’
for details.
GRaNIE.Rcheck/00install.out
############################################################################## ############################################################################## ### ### Running command: ### ### /Library/Frameworks/R.framework/Resources/bin/R CMD INSTALL GRaNIE ### ############################################################################## ############################################################################## * installing to library ‘/Library/Frameworks/R.framework/Versions/4.6-arm64/Resources/library’ * installing *source* package ‘GRaNIE’ ... ** this is package ‘GRaNIE’ version ‘1.15.0’ ** using staged installation ** R ** byte-compile and prepare package for lazy loading ** help *** installing help indices *** copying figures ** building package indices ** installing vignettes ** testing if installed package can be loaded from temporary location ** testing if installed package can be loaded from final location ** testing if installed package keeps a record of temporary installation path * DONE (GRaNIE)
GRaNIE.Rcheck/GRaNIE-Ex.timings
| name | user | system | elapsed | |
| AR_classification_wrapper | 0 | 0 | 0 | |
| addConnections_TF_peak | 1.882 | 0.273 | 4.461 | |
| addConnections_peak_gene | 1.300 | 0.021 | 1.810 | |
| addData | 0 | 0 | 0 | |
| addSNPData | 2.155 | 0.105 | 4.020 | |
| addTFBS | 0 | 0 | 0 | |
| add_TF_gene_correlation | 0.870 | 0.019 | 1.338 | |
| add_featureVariation | 0.001 | 0.000 | 0.000 | |
| build_eGRN_graph | 1.425 | 0.027 | 2.567 | |
| calculateCommunitiesEnrichment | 1.372 | 0.055 | 2.459 | |
| calculateCommunitiesStats | 0.996 | 0.026 | 2.037 | |
| calculateGeneralEnrichment | 0.953 | 0.029 | 1.595 | |
| calculateTFEnrichment | 1.113 | 0.029 | 1.743 | |
| changeOutputDirectory | 0.932 | 0.024 | 1.929 | |
| deleteIntermediateData | 0.874 | 0.027 | 1.342 | |
| filterConnectionsForPlotting | 0.917 | 0.021 | 1.346 | |
| filterData | 1.090 | 0.027 | 1.538 | |
| filterGRNAndConnectGenes | 0.904 | 0.022 | 1.378 | |
| generateStatsSummary | 3.174 | 0.080 | 3.913 | |
| getCounts | 0.864 | 0.024 | 1.356 | |
| getGRNConnections | 0.938 | 0.027 | 1.447 | |
| getGRNSummary | 1.683 | 0.034 | 2.186 | |
| getParameters | 0.811 | 0.018 | 1.297 | |
| getTopNodes | 0.975 | 0.023 | 1.465 | |
| initializeGRN | 0.005 | 0.001 | 0.005 | |
| loadExampleObject | 0.973 | 0.022 | 1.461 | |
| nGenes | 0.978 | 0.024 | 1.787 | |
| nPeaks | 1.485 | 0.028 | 2.395 | |
| nTFs | 0.954 | 0.027 | 1.509 | |
| overlapPeaksAndTFBS | 1.004 | 0.025 | 1.819 | |
| performAllNetworkAnalyses | 0 | 0 | 0 | |
| plotCommunitiesEnrichment | 1.517 | 0.055 | 2.575 | |
| plotCommunitiesStats | 1.668 | 0.028 | 2.676 | |
| plotCorrelations | 1.117 | 0.030 | 1.878 | |
| plotDiagnosticPlots_TFPeaks | 2.180 | 0.051 | 3.735 | |
| plotDiagnosticPlots_peakGene | 1.861 | 0.054 | 2.925 | |
| plotGeneralEnrichment | 1.138 | 0.028 | 1.949 | |
| plotGeneralGraphStats | 1.580 | 0.028 | 2.656 | |
| plotPCA_all | 1.754 | 0.082 | 2.891 | |
| plotTFEnrichment | 1.093 | 0.021 | 1.555 | |
| plot_stats_connectionSummary | 1.076 | 0.032 | 1.604 | |
| visualizeGRN | 1.916 | 0.054 | 2.396 | |