| Back to Multiple platform build/check report for BioC 3.22: simplified long |
|
This page was generated on 2025-10-25 12:04 -0400 (Sat, 25 Oct 2025).
| Hostname | OS | Arch (*) | R version | Installed pkgs |
|---|---|---|---|---|
| nebbiolo2 | Linux (Ubuntu 24.04.3 LTS) | x86_64 | 4.5.1 Patched (2025-08-23 r88802) -- "Great Square Root" | 4901 |
| lconway | macOS 12.7.6 Monterey | x86_64 | 4.5.1 Patched (2025-09-10 r88807) -- "Great Square Root" | 4691 |
| kjohnson3 | macOS 13.7.7 Ventura | arm64 | 4.5.1 Patched (2025-09-10 r88807) -- "Great Square Root" | 4637 |
| taishan | Linux (openEuler 24.03 LTS) | aarch64 | 4.5.0 (2025-04-11) -- "How About a Twenty-Six" | 4658 |
| Click on any hostname to see more info about the system (e.g. compilers) (*) as reported by 'uname -p', except on Windows and Mac OS X | ||||
| Package 920/2361 | Hostname | OS / Arch | INSTALL | BUILD | CHECK | BUILD BIN | ||||||||
| GRaNIE 1.13.0 (landing page) Christian Arnold
| nebbiolo2 | Linux (Ubuntu 24.04.3 LTS) / x86_64 | OK | OK | OK | |||||||||
| lconway | macOS 12.7.6 Monterey / x86_64 | OK | OK | OK | OK | |||||||||
| kjohnson3 | macOS 13.7.7 Ventura / arm64 | OK | OK | OK | OK | |||||||||
| taishan | Linux (openEuler 24.03 LTS) / aarch64 | OK | NA | NA | ||||||||||
|
To the developers/maintainers of the GRaNIE package: - Allow up to 24 hours (and sometimes 48 hours) for your latest push to git@git.bioconductor.org:packages/GRaNIE.git to reflect on this report. See Troubleshooting Build Report for more information. - Use the following Renviron settings to reproduce errors and warnings. - If 'R CMD check' started to fail recently on the Linux builder(s) over a missing dependency, add the missing dependency to 'Suggests:' in your DESCRIPTION file. See Renviron.bioc for more information. |
| Package: GRaNIE |
| Version: 1.13.0 |
| Command: /Library/Frameworks/R.framework/Resources/bin/R CMD check --install=check:GRaNIE.install-out.txt --library=/Library/Frameworks/R.framework/Resources/library --no-vignettes --timings GRaNIE_1.13.0.tar.gz |
| StartedAt: 2025-10-24 21:39:40 -0400 (Fri, 24 Oct 2025) |
| EndedAt: 2025-10-24 21:48:15 -0400 (Fri, 24 Oct 2025) |
| EllapsedTime: 514.8 seconds |
| RetCode: 0 |
| Status: OK |
| CheckDir: GRaNIE.Rcheck |
| Warnings: 0 |
##############################################################################
##############################################################################
###
### Running command:
###
### /Library/Frameworks/R.framework/Resources/bin/R CMD check --install=check:GRaNIE.install-out.txt --library=/Library/Frameworks/R.framework/Resources/library --no-vignettes --timings GRaNIE_1.13.0.tar.gz
###
##############################################################################
##############################################################################
* using log directory ‘/Users/biocbuild/bbs-3.22-bioc/meat/GRaNIE.Rcheck’
* using R version 4.5.1 Patched (2025-09-10 r88807)
* using platform: x86_64-apple-darwin20
* R was compiled by
Apple clang version 14.0.0 (clang-1400.0.29.202)
GNU Fortran (GCC) 14.2.0
* running under: macOS Monterey 12.7.6
* using session charset: UTF-8
* using option ‘--no-vignettes’
* checking for file ‘GRaNIE/DESCRIPTION’ ... OK
* this is package ‘GRaNIE’ version ‘1.13.0’
* package encoding: UTF-8
* checking package namespace information ... OK
* checking package dependencies ... INFO
Imports includes 37 non-default packages.
Importing from so many packages makes the package vulnerable to any of
them becoming unavailable. Move as many as possible to Suggests and
use conditionally.
* checking if this is a source package ... OK
* checking if there is a namespace ... OK
* checking for hidden files and directories ... OK
* checking for portable file names ... OK
* checking for sufficient/correct file permissions ... OK
* checking whether package ‘GRaNIE’ can be installed ... OK
* checking installed package size ... OK
* checking package directory ... OK
* checking ‘build’ directory ... OK
* checking DESCRIPTION meta-information ... OK
* checking top-level files ... OK
* checking for left-over files ... OK
* checking index information ... OK
* checking package subdirectories ... OK
* checking code files for non-ASCII characters ... OK
* checking R files for syntax errors ... OK
* checking whether the package can be loaded ... OK
* checking whether the package can be loaded with stated dependencies ... OK
* checking whether the package can be unloaded cleanly ... OK
* checking whether the namespace can be loaded with stated dependencies ... OK
* checking whether the namespace can be unloaded cleanly ... OK
* checking whether startup messages can be suppressed ... OK
* checking dependencies in R code ... OK
* checking S3 generic/method consistency ... OK
* checking replacement functions ... OK
* checking foreign function calls ... OK
* checking R code for possible problems ... NOTE
.performIHW: no visible binding for global variable 'adj_pvalue'
Undefined global functions or variables:
adj_pvalue
* checking Rd files ... OK
* checking Rd metadata ... OK
* checking Rd cross-references ... OK
* checking for missing documentation entries ... OK
* checking for code/documentation mismatches ... OK
* checking Rd \usage sections ... OK
* checking Rd contents ... OK
* checking for unstated dependencies in examples ... OK
* checking files in ‘vignettes’ ... OK
* checking examples ... OK
Examples with CPU (user + system) or elapsed time > 5s
user system elapsed
generateStatsSummary 8.033 0.180 8.687
addConnections_TF_peak 5.663 1.038 9.098
plotDiagnosticPlots_peakGene 5.765 0.114 6.312
addSNPData 4.783 0.374 6.463
plotCommunitiesEnrichment 4.580 0.151 5.176
* checking for unstated dependencies in vignettes ... OK
* checking package vignettes ... OK
* checking running R code from vignettes ... SKIPPED
* checking re-building of vignette outputs ... SKIPPED
* checking PDF version of manual ... OK
* DONE
Status: 1 NOTE
See
‘/Users/biocbuild/bbs-3.22-bioc/meat/GRaNIE.Rcheck/00check.log’
for details.
GRaNIE.Rcheck/00install.out
############################################################################## ############################################################################## ### ### Running command: ### ### /Library/Frameworks/R.framework/Resources/bin/R CMD INSTALL GRaNIE ### ############################################################################## ############################################################################## * installing to library ‘/Library/Frameworks/R.framework/Versions/4.5-x86_64/Resources/library’ * installing *source* package ‘GRaNIE’ ... ** this is package ‘GRaNIE’ version ‘1.13.0’ ** using staged installation ** R ** byte-compile and prepare package for lazy loading ** help *** installing help indices *** copying figures ** building package indices ** installing vignettes ** testing if installed package can be loaded from temporary location ** testing if installed package can be loaded from final location ** testing if installed package keeps a record of temporary installation path * DONE (GRaNIE)
GRaNIE.Rcheck/GRaNIE-Ex.timings
| name | user | system | elapsed | |
| AR_classification_wrapper | 0.000 | 0.001 | 0.000 | |
| addConnections_TF_peak | 5.663 | 1.038 | 9.098 | |
| addConnections_peak_gene | 2.814 | 0.076 | 3.314 | |
| addData | 0 | 0 | 0 | |
| addSNPData | 4.783 | 0.374 | 6.463 | |
| addTFBS | 0.001 | 0.000 | 0.000 | |
| add_TF_gene_correlation | 2.861 | 0.087 | 3.364 | |
| add_featureVariation | 0 | 0 | 0 | |
| build_eGRN_graph | 1.821 | 0.053 | 2.278 | |
| calculateCommunitiesEnrichment | 3.875 | 0.171 | 4.506 | |
| calculateCommunitiesStats | 1.884 | 0.051 | 2.342 | |
| calculateGeneralEnrichment | 2.129 | 0.066 | 2.600 | |
| calculateTFEnrichment | 2.326 | 0.069 | 2.805 | |
| changeOutputDirectory | 1.942 | 0.056 | 2.408 | |
| deleteIntermediateData | 2.014 | 0.062 | 2.495 | |
| filterConnectionsForPlotting | 2.029 | 0.062 | 2.500 | |
| filterData | 2.288 | 0.060 | 2.771 | |
| filterGRNAndConnectGenes | 1.909 | 0.067 | 2.383 | |
| generateStatsSummary | 8.033 | 0.180 | 8.687 | |
| getCounts | 1.994 | 0.062 | 2.461 | |
| getGRNConnections | 1.860 | 0.065 | 2.336 | |
| getGRNSummary | 2.663 | 0.082 | 3.161 | |
| getParameters | 2.811 | 0.075 | 3.298 | |
| getTopNodes | 2.020 | 0.052 | 2.494 | |
| initializeGRN | 0.019 | 0.002 | 0.021 | |
| loadExampleObject | 1.936 | 0.060 | 2.409 | |
| nGenes | 1.944 | 0.055 | 2.426 | |
| nPeaks | 1.992 | 0.060 | 2.478 | |
| nTFs | 1.886 | 0.052 | 2.338 | |
| overlapPeaksAndTFBS | 1.922 | 0.050 | 2.388 | |
| performAllNetworkAnalyses | 0.000 | 0.000 | 0.001 | |
| plotCommunitiesEnrichment | 4.580 | 0.151 | 5.176 | |
| plotCommunitiesStats | 4.293 | 0.103 | 4.814 | |
| plotCorrelations | 3.515 | 0.093 | 4.023 | |
| plotDiagnosticPlots_TFPeaks | 3.626 | 0.087 | 4.127 | |
| plotDiagnosticPlots_peakGene | 5.765 | 0.114 | 6.312 | |
| plotGeneralEnrichment | 2.377 | 0.061 | 2.854 | |
| plotGeneralGraphStats | 3.402 | 0.067 | 3.879 | |
| plotPCA_all | 3.963 | 0.162 | 4.614 | |
| plotTFEnrichment | 2.740 | 0.057 | 3.282 | |
| plot_stats_connectionSummary | 2.641 | 0.074 | 3.144 | |
| visualizeGRN | 3.284 | 0.096 | 3.792 | |