| Back to Multiple platform build/check report for BioC 3.23: simplified long |
|
This page was generated on 2025-11-20 11:37 -0500 (Thu, 20 Nov 2025).
| Hostname | OS | Arch (*) | R version | Installed pkgs |
|---|---|---|---|---|
| nebbiolo1 | Linux (Ubuntu 24.04.3 LTS) | x86_64 | R Under development (unstable) (2025-10-20 r88955) -- "Unsuffered Consequences" | 4827 |
| lconway | macOS 12.7.6 Monterey | x86_64 | R Under development (unstable) (2025-10-21 r88958) -- "Unsuffered Consequences" | 4600 |
| kjohnson3 | macOS 13.7.7 Ventura | arm64 | R Under development (unstable) (2025-11-04 r88984) -- "Unsuffered Consequences" | 4564 |
| Click on any hostname to see more info about the system (e.g. compilers) (*) as reported by 'uname -p', except on Windows and Mac OS X | ||||
| Package 909/2325 | Hostname | OS / Arch | INSTALL | BUILD | CHECK | BUILD BIN | ||||||||
| GRaNIE 1.15.0 (landing page) Christian Arnold
| nebbiolo1 | Linux (Ubuntu 24.04.3 LTS) / x86_64 | OK | OK | OK | |||||||||
| lconway | macOS 12.7.6 Monterey / x86_64 | OK | OK | OK | OK | |||||||||
| kjohnson3 | macOS 13.7.7 Ventura / arm64 | OK | OK | OK | OK | |||||||||
|
To the developers/maintainers of the GRaNIE package: - Allow up to 24 hours (and sometimes 48 hours) for your latest push to git@git.bioconductor.org:packages/GRaNIE.git to reflect on this report. See Troubleshooting Build Report for more information. - Use the following Renviron settings to reproduce errors and warnings. - If 'R CMD check' started to fail recently on the Linux builder(s) over a missing dependency, add the missing dependency to 'Suggests:' in your DESCRIPTION file. See Renviron.bioc for more information. |
| Package: GRaNIE |
| Version: 1.15.0 |
| Command: /home/biocbuild/bbs-3.23-bioc/R/bin/R CMD check --install=check:GRaNIE.install-out.txt --library=/home/biocbuild/bbs-3.23-bioc/R/site-library --timings GRaNIE_1.15.0.tar.gz |
| StartedAt: 2025-11-20 00:11:09 -0500 (Thu, 20 Nov 2025) |
| EndedAt: 2025-11-20 00:21:46 -0500 (Thu, 20 Nov 2025) |
| EllapsedTime: 636.9 seconds |
| RetCode: 0 |
| Status: OK |
| CheckDir: GRaNIE.Rcheck |
| Warnings: 0 |
##############################################################################
##############################################################################
###
### Running command:
###
### /home/biocbuild/bbs-3.23-bioc/R/bin/R CMD check --install=check:GRaNIE.install-out.txt --library=/home/biocbuild/bbs-3.23-bioc/R/site-library --timings GRaNIE_1.15.0.tar.gz
###
##############################################################################
##############################################################################
* using log directory ‘/home/biocbuild/bbs-3.23-bioc/meat/GRaNIE.Rcheck’
* using R Under development (unstable) (2025-10-20 r88955)
* using platform: x86_64-pc-linux-gnu
* R was compiled by
gcc (Ubuntu 13.3.0-6ubuntu2~24.04) 13.3.0
GNU Fortran (Ubuntu 13.3.0-6ubuntu2~24.04) 13.3.0
* running under: Ubuntu 24.04.3 LTS
* using session charset: UTF-8
* checking for file ‘GRaNIE/DESCRIPTION’ ... OK
* this is package ‘GRaNIE’ version ‘1.15.0’
* package encoding: UTF-8
* checking package namespace information ... OK
* checking package dependencies ... INFO
Imports includes 37 non-default packages.
Importing from so many packages makes the package vulnerable to any of
them becoming unavailable. Move as many as possible to Suggests and
use conditionally.
* checking if this is a source package ... OK
* checking if there is a namespace ... OK
* checking for hidden files and directories ... OK
* checking for portable file names ... OK
* checking for sufficient/correct file permissions ... OK
* checking whether package ‘GRaNIE’ can be installed ... OK
* checking installed package size ... OK
* checking package directory ... OK
* checking ‘build’ directory ... OK
* checking DESCRIPTION meta-information ... OK
* checking top-level files ... OK
* checking for left-over files ... OK
* checking index information ... OK
* checking package subdirectories ... OK
* checking code files for non-ASCII characters ... OK
* checking R files for syntax errors ... OK
* checking whether the package can be loaded ... OK
* checking whether the package can be loaded with stated dependencies ... OK
* checking whether the package can be unloaded cleanly ... OK
* checking whether the namespace can be loaded with stated dependencies ... OK
* checking whether the namespace can be unloaded cleanly ... OK
* checking loading without being on the library search path ... OK
* checking whether startup messages can be suppressed ... OK
* checking dependencies in R code ... OK
* checking S3 generic/method consistency ... OK
* checking replacement functions ... OK
* checking foreign function calls ... OK
* checking R code for possible problems ... NOTE
.performIHW: no visible binding for global variable 'adj_pvalue'
Undefined global functions or variables:
adj_pvalue
* checking Rd files ... OK
* checking Rd metadata ... OK
* checking Rd cross-references ... OK
* checking for missing documentation entries ... OK
* checking for code/documentation mismatches ... OK
* checking Rd \usage sections ... OK
* checking Rd contents ... OK
* checking for unstated dependencies in examples ... OK
* checking files in ‘vignettes’ ... OK
* checking examples ... OK
Examples with CPU (user + system) or elapsed time > 5s
user system elapsed
plotDiagnosticPlots_peakGene 7.390 0.398 8.541
generateStatsSummary 5.935 0.340 6.696
addSNPData 5.221 0.573 7.251
plotCommunitiesStats 5.452 0.322 6.537
plotPCA_all 5.033 0.593 6.518
plotDiagnosticPlots_TFPeaks 5.299 0.203 6.433
plotTFEnrichment 4.065 0.288 5.133
calculateTFEnrichment 3.706 0.388 5.982
calculateCommunitiesEnrichment 3.623 0.322 5.306
plot_stats_connectionSummary 3.591 0.104 5.151
addConnections_TF_peak 3.154 0.364 6.028
* checking for unstated dependencies in vignettes ... OK
* checking package vignettes ... OK
* checking re-building of vignette outputs ... OK
* checking PDF version of manual ... OK
* DONE
Status: 1 NOTE
See
‘/home/biocbuild/bbs-3.23-bioc/meat/GRaNIE.Rcheck/00check.log’
for details.
GRaNIE.Rcheck/00install.out
############################################################################## ############################################################################## ### ### Running command: ### ### /home/biocbuild/bbs-3.23-bioc/R/bin/R CMD INSTALL GRaNIE ### ############################################################################## ############################################################################## * installing to library ‘/home/biocbuild/bbs-3.23-bioc/R/site-library’ * installing *source* package ‘GRaNIE’ ... ** this is package ‘GRaNIE’ version ‘1.15.0’ ** using staged installation ** R ** byte-compile and prepare package for lazy loading ** help *** installing help indices *** copying figures ** building package indices ** installing vignettes ** testing if installed package can be loaded from temporary location ** testing if installed package can be loaded from final location ** testing if installed package keeps a record of temporary installation path * DONE (GRaNIE)
GRaNIE.Rcheck/GRaNIE-Ex.timings
| name | user | system | elapsed | |
| AR_classification_wrapper | 0.001 | 0.000 | 0.000 | |
| addConnections_TF_peak | 3.154 | 0.364 | 6.028 | |
| addConnections_peak_gene | 2.683 | 0.312 | 3.388 | |
| addData | 0 | 0 | 0 | |
| addSNPData | 5.221 | 0.573 | 7.251 | |
| addTFBS | 0 | 0 | 0 | |
| add_TF_gene_correlation | 3.154 | 0.236 | 4.751 | |
| add_featureVariation | 0.000 | 0.001 | 0.000 | |
| build_eGRN_graph | 3.593 | 0.355 | 4.501 | |
| calculateCommunitiesEnrichment | 3.623 | 0.322 | 5.306 | |
| calculateCommunitiesStats | 2.679 | 0.244 | 3.919 | |
| calculateGeneralEnrichment | 2.585 | 0.250 | 3.480 | |
| calculateTFEnrichment | 3.706 | 0.388 | 5.982 | |
| changeOutputDirectory | 1.829 | 0.075 | 2.305 | |
| deleteIntermediateData | 3.019 | 0.057 | 4.385 | |
| filterConnectionsForPlotting | 2.069 | 0.027 | 2.522 | |
| filterData | 2.269 | 0.107 | 2.787 | |
| filterGRNAndConnectGenes | 1.864 | 0.112 | 2.379 | |
| generateStatsSummary | 5.935 | 0.340 | 6.696 | |
| getCounts | 3.109 | 0.307 | 3.821 | |
| getGRNConnections | 1.757 | 0.092 | 2.258 | |
| getGRNSummary | 2.507 | 0.229 | 3.166 | |
| getParameters | 1.810 | 0.148 | 2.363 | |
| getTopNodes | 1.956 | 0.133 | 2.492 | |
| initializeGRN | 0.018 | 0.004 | 0.022 | |
| loadExampleObject | 1.980 | 0.293 | 2.687 | |
| nGenes | 2.946 | 0.372 | 3.715 | |
| nPeaks | 1.751 | 0.091 | 2.239 | |
| nTFs | 1.909 | 0.240 | 2.568 | |
| overlapPeaksAndTFBS | 1.940 | 0.125 | 2.479 | |
| performAllNetworkAnalyses | 0 | 0 | 0 | |
| plotCommunitiesEnrichment | 3.630 | 0.262 | 4.298 | |
| plotCommunitiesStats | 5.452 | 0.322 | 6.537 | |
| plotCorrelations | 3.794 | 0.275 | 4.788 | |
| plotDiagnosticPlots_TFPeaks | 5.299 | 0.203 | 6.433 | |
| plotDiagnosticPlots_peakGene | 7.390 | 0.398 | 8.541 | |
| plotGeneralEnrichment | 3.234 | 0.202 | 4.068 | |
| plotGeneralGraphStats | 3.736 | 0.336 | 4.526 | |
| plotPCA_all | 5.033 | 0.593 | 6.518 | |
| plotTFEnrichment | 4.065 | 0.288 | 5.133 | |
| plot_stats_connectionSummary | 3.591 | 0.104 | 5.151 | |
| visualizeGRN | 3.416 | 0.049 | 3.889 | |