Back to Build/check report for BioC 3.23:   simplified   long
ABC[D]EFGHIJKLMNOPQRSTUVWXYZ

This page was generated on 2025-11-13 11:32 -0500 (Thu, 13 Nov 2025).

HostnameOSArch (*)R versionInstalled pkgs
kjohnson3macOS 13.7.7 Venturaarm64R Under development (unstable) (2025-11-04 r88984) -- "Unsuffered Consequences" 4013
Click on any hostname to see more info about the system (e.g. compilers)      (*) as reported by 'uname -p', except on Windows and Mac OS X

All results for package DESeq2


To the developers/maintainers of the DESeq2 package:
- Allow up to 24 hours (and sometimes 48 hours) for your latest push to git@git.bioconductor.org:packages/DESeq2.git to reflect on this report. See Troubleshooting Build Report for more information.
- Use the following Renviron settings to reproduce errors and warnings.
- If 'R CMD check' started to fail recently on the Linux builder(s) over a missing dependency, add the missing dependency to 'Suggests:' in your DESCRIPTION file. See Renviron.bioc for more information.

raw results

Package 562/2325HostnameOS / ArchINSTALLBUILDCHECKBUILD BIN
DESeq2 1.51.2  (landing page)
Michael Love
Snapshot Date: 2025-11-12 13:40 -0500 (Wed, 12 Nov 2025)
git_url: https://git.bioconductor.org/packages/DESeq2
git_branch: devel
git_last_commit: 55c5b1f
git_last_commit_date: 2025-11-11 19:30:14 -0500 (Tue, 11 Nov 2025)
kjohnson3macOS 13.7.7 Ventura / arm64  OK    OK    ERROR    OK  



Results for Bioconductor software packages that depend directly on package DESeq2

QUICK STATSOS / ArchINSTALLBUILDCHECKBUILD BIN
kjohnson3macOS 13.7.7 Ventura / arm64
05536
05833
07224
0033
Package 1/91HostnameOS / ArchINSTALLBUILDCHECKBUILD BIN
Anaquin 2.35.0  (landing page)
Ted Wong
git_last_commit: b243e73
git_last_commit_date: 2025-10-29 10:34:00 -0500
kjohnson3macOS 13.7.7 Ventura / arm64  OK    OK    OK    OK  NO, package depends on 'DESeq2' which is only available as a source package that needs compilation
Package 2/91HostnameOS / ArchINSTALLBUILDCHECKBUILD BIN
animalcules 1.27.0  (landing page)
Jessica McClintock
git_last_commit: 30597c8
git_last_commit_date: 2025-10-29 10:52:04 -0500
kjohnson3macOS 13.7.7 Ventura / arm64  OK    OK    ERROR    OK  
Package 3/91HostnameOS / ArchINSTALLBUILDCHECKBUILD BIN
anota2seq 1.33.0  (landing page)
Christian Oertlin , Ola Larsson
git_last_commit: 8d76555
git_last_commit_date: 2025-10-29 10:41:23 -0500
kjohnson3macOS 13.7.7 Ventura / arm64  ERROR    ERROR  skippedskipped
Package 4/91HostnameOS / ArchINSTALLBUILDCHECKBUILD BIN
APAlyzer 1.25.0  (landing page)
Ruijia Wang
git_last_commit: 5b343c9
git_last_commit_date: 2025-10-29 10:53:34 -0500
kjohnson3macOS 13.7.7 Ventura / arm64  OK    OK    ERROR    OK  
Package 5/91HostnameOS / ArchINSTALLBUILDCHECKBUILD BIN
BatchQC 2.7.0  (landing page)
Jessica Anderson
git_last_commit: bfa8664
git_last_commit_date: 2025-10-29 10:31:36 -0500
kjohnson3macOS 13.7.7 Ventura / arm64  ERROR    ERROR  skippedskipped
Package 6/91HostnameOS / ArchINSTALLBUILDCHECKBUILD BIN
benchdamic 1.17.0  (landing page)
Matteo Calgaro
git_last_commit: 316209e
git_last_commit_date: 2025-10-29 11:13:17 -0500
kjohnson3macOS 13.7.7 Ventura / arm64  ERROR    ERROR  skippedskipped
Package 7/91HostnameOS / ArchINSTALLBUILDCHECKBUILD BIN
broadSeq 1.5.0  (landing page)
Rishi Das Roy
git_last_commit: f8280c0
git_last_commit_date: 2025-10-29 11:30:34 -0500
kjohnson3macOS 13.7.7 Ventura / arm64  ERROR    ERROR  skippedskipped
Package 8/91HostnameOS / ArchINSTALLBUILDCHECKBUILD BIN
CeTF 1.23.0  (landing page)
Carlos Alberto Oliveira de Biagi Junior
git_last_commit: d8786fc
git_last_commit_date: 2025-10-29 10:56:07 -0500
kjohnson3macOS 13.7.7 Ventura / arm64  OK    OK    OK    OK  NO, package depends on 'DESeq2' which is only available as a source package that needs compilation
Package 9/91HostnameOS / ArchINSTALLBUILDCHECKBUILD BIN
circRNAprofiler 1.25.0  (landing page)
Simona Aufiero
git_last_commit: a9049f9
git_last_commit_date: 2025-10-29 10:53:06 -0500
kjohnson3macOS 13.7.7 Ventura / arm64  ERROR    ERROR  skippedskipped
Package 10/91HostnameOS / ArchINSTALLBUILDCHECKBUILD BIN
CleanUpRNAseq 1.5.0  (landing page)
Haibo Liu
git_last_commit: 4f653f6
git_last_commit_date: 2025-10-29 11:31:19 -0500
kjohnson3macOS 13.7.7 Ventura / arm64  ERROR    ERROR  skippedskipped
Package 11/91HostnameOS / ArchINSTALLBUILDCHECKBUILD BIN
consensusDE 1.29.0  (landing page)
Ashley J. Waardenberg
git_last_commit: e69df52
git_last_commit_date: 2025-10-29 10:48:35 -0500
kjohnson3macOS 13.7.7 Ventura / arm64  ERROR    ERROR  skippedskipped
Package 12/91HostnameOS / ArchINSTALLBUILDCHECKBUILD BIN
coseq 1.35.0  (landing page)
Andrea Rau
git_last_commit: 9d19790
git_last_commit_date: 2025-10-29 10:36:16 -0500
kjohnson3macOS 13.7.7 Ventura / arm64  ERROR    ERROR  skippedskipped
Package 13/91HostnameOS / ArchINSTALLBUILDCHECKBUILD BIN
countsimQC 1.29.0  (landing page)
Charlotte Soneson
git_last_commit: 21f3a2b
git_last_commit_date: 2025-10-29 10:47:52 -0500
kjohnson3macOS 13.7.7 Ventura / arm64  ERROR    ERROR  skippedskipped
Package 14/91HostnameOS / ArchINSTALLBUILDCHECKBUILD BIN
cypress 1.7.0  (landing page)
Shilin Yu
git_last_commit: 40f21f4
git_last_commit_date: 2025-10-29 11:29:05 -0500
kjohnson3macOS 13.7.7 Ventura / arm64  ERROR    ERROR  skippedskipped
Package 15/91HostnameOS / ArchINSTALLBUILDCHECKBUILD BIN
DaMiRseq 2.23.0  (landing page)
Mattia Chiesa
git_last_commit: 48f9b25
git_last_commit_date: 2025-10-29 10:37:23 -0500
kjohnson3macOS 13.7.7 Ventura / arm64  ERROR    ERROR  skippedskipped
Package 16/91HostnameOS / ArchINSTALLBUILDCHECKBUILD BIN
debrowser 1.39.0  (landing page)
Alper Kucukural
git_last_commit: 17795bc
git_last_commit_date: 2025-10-29 10:30:54 -0500
kjohnson3macOS 13.7.7 Ventura / arm64  ERROR    ERROR  skippedskipped
Package 17/91HostnameOS / ArchINSTALLBUILDCHECKBUILD BIN
DeeDeeExperiment 1.1.0  (landing page)
Najla Abassi
git_last_commit: 482df35
git_last_commit_date: 2025-10-29 11:37:21 -0500
kjohnson3macOS 13.7.7 Ventura / arm64  ERROR    ERROR  skippedskipped
Package 18/91HostnameOS / ArchINSTALLBUILDCHECKBUILD BIN
DEFormats 1.39.0  (landing page)
Andrzej OleÅ›
git_last_commit: 5034890
git_last_commit_date: 2025-10-29 10:31:05 -0500
kjohnson3macOS 13.7.7 Ventura / arm64  ERROR    ERROR  skippedskipped
Package 19/91HostnameOS / ArchINSTALLBUILDCHECKBUILD BIN
DEGreport 1.47.0  (landing page)
Lorena Pantano
git_last_commit: 792957e
git_last_commit_date: 2025-10-29 10:19:57 -0500
kjohnson3macOS 13.7.7 Ventura / arm64  ERROR    ERROR  skippedskipped
Package 20/91HostnameOS / ArchINSTALLBUILDCHECKBUILD BIN
DELocal 1.11.0  (landing page)
Rishi Das Roy
git_last_commit: 4c4795e
git_last_commit_date: 2025-10-29 11:22:35 -0500
kjohnson3macOS 13.7.7 Ventura / arm64  OK    ERROR  skippedskipped
Package 21/91HostnameOS / ArchINSTALLBUILDCHECKBUILD BIN
deltaCaptureC 1.25.0  (landing page)
Michael Shapiro
git_last_commit: 012ccf3
git_last_commit_date: 2025-10-29 10:54:03 -0500
kjohnson3macOS 13.7.7 Ventura / arm64  OK    OK    OK    OK  NO, package depends on 'GenomicRanges' which is only available as a source package that needs compilation
Package 22/91HostnameOS / ArchINSTALLBUILDCHECKBUILD BIN
DEsubs 1.37.0  (landing page)
Aristidis G. Vrahatis , Panos Balomenos
git_last_commit: 795ef9b
git_last_commit_date: 2025-10-29 10:34:42 -0500
kjohnson3macOS 13.7.7 Ventura / arm64  ERROR    ERROR  skippedskipped
Package 23/91HostnameOS / ArchINSTALLBUILDCHECKBUILD BIN
DEWSeq 1.25.0  (landing page)
bioinformatics team Hentze
git_last_commit: 065d2b7
git_last_commit_date: 2025-10-29 10:55:18 -0500
kjohnson3macOS 13.7.7 Ventura / arm64  OK    ERROR  skippedskipped
Package 24/91HostnameOS / ArchINSTALLBUILDCHECKBUILD BIN
DEXSeq 1.57.0  (landing page)
Alejandro Reyes
git_last_commit: db6ed7c
git_last_commit_date: 2025-10-29 10:07:54 -0500
kjohnson3macOS 13.7.7 Ventura / arm64  OK    OK    ERROR    OK  
Package 25/91HostnameOS / ArchINSTALLBUILDCHECKBUILD BIN
DiffBind 3.21.0  (landing page)
Rory Stark
git_last_commit: f329968
git_last_commit_date: 2025-10-29 10:08:58 -0500
kjohnson3macOS 13.7.7 Ventura / arm64  OK    ERROR  skippedskipped
Package 26/91HostnameOS / ArchINSTALLBUILDCHECKBUILD BIN
DOtools 1.1.0  (landing page)
Mariano Ruz Jurado
git_last_commit: 527ea73
git_last_commit_date: 2025-10-29 11:38:46 -0500
kjohnson3macOS 13.7.7 Ventura / arm64  ERROR    ERROR  skippedskipped
Package 27/91HostnameOS / ArchINSTALLBUILDCHECKBUILD BIN
DspikeIn 1.1.0  (landing page)
Mitra Ghotbi
git_last_commit: 18fc5b8
git_last_commit_date: 2025-10-29 11:39:12 -0500
kjohnson3macOS 13.7.7 Ventura / arm64  ERROR    ERROR  skippedskipped
Package 28/91HostnameOS / ArchINSTALLBUILDCHECKBUILD BIN
easier 1.17.0  (landing page)
Oscar Lapuente-Santana
git_last_commit: d6354ad
git_last_commit_date: 2025-10-29 11:13:51 -0500
kjohnson3macOS 13.7.7 Ventura / arm64  OK    OK    OK    OK  NO, package depends on 'DESeq2' which is only available as a source package that needs compilation
Package 29/91HostnameOS / ArchINSTALLBUILDCHECKBUILD BIN
EBSEA 1.39.0  (landing page)
Arfa Mehmood
git_last_commit: 0db6298
git_last_commit_date: 2025-10-29 10:31:19 -0500
kjohnson3macOS 13.7.7 Ventura / arm64  OK    OK    OK    OK  NO, package depends on 'DESeq2' which is only available as a source package that needs compilation
Package 30/91HostnameOS / ArchINSTALLBUILDCHECKBUILD BIN
ERSSA 1.29.0  (landing page)
Zixuan Shao
git_last_commit: 0abfd23
git_last_commit_date: 2025-10-29 10:47:37 -0500
kjohnson3macOS 13.7.7 Ventura / arm64  ERROR    ERROR  skippedskipped
Package 31/91HostnameOS / ArchINSTALLBUILDCHECKBUILD BIN
GDCRNATools 1.31.0  (landing page)
Ruidong Li
git_last_commit: 0524945
git_last_commit_date: 2025-10-29 10:42:54 -0500
kjohnson3macOS 13.7.7 Ventura / arm64  ERROR    ERROR  skippedskipped
Package 32/91HostnameOS / ArchINSTALLBUILDCHECKBUILD BIN
GeneTonic 3.5.0  (landing page)
Federico Marini
git_last_commit: 0340f38
git_last_commit_date: 2025-10-29 10:56:40 -0500
kjohnson3macOS 13.7.7 Ventura / arm64  OK    OK    ERROR    OK  
Package 33/91HostnameOS / ArchINSTALLBUILDCHECKBUILD BIN
gg4way 1.9.0  (landing page)
Benjamin I Laufer
git_last_commit: d0f2a7c
git_last_commit_date: 2025-10-29 11:25:41 -0500
kjohnson3macOS 13.7.7 Ventura / arm64  ERROR    ERROR  skippedskipped
Package 34/91HostnameOS / ArchINSTALLBUILDCHECKBUILD BIN
Glimma 2.21.0  (landing page)
Shian Su
git_last_commit: c7699be
git_last_commit_date: 2025-10-29 10:31:31 -0500
kjohnson3macOS 13.7.7 Ventura / arm64  ERROR    ERROR  skippedskipped
Package 35/91HostnameOS / ArchINSTALLBUILDCHECKBUILD BIN
GRaNIE 1.15.0  (landing page)
Christian Arnold
git_last_commit: 43246b6
git_last_commit_date: 2025-10-29 11:16:56 -0500
kjohnson3macOS 13.7.7 Ventura / arm64  OK    OK    ERROR    OK  
Package 36/91HostnameOS / ArchINSTALLBUILDCHECKBUILD BIN
hermes 1.15.0  (landing page)
Daniel Sabanés Bové
git_last_commit: da21eaa
git_last_commit_date: 2025-10-29 11:14:07 -0500
kjohnson3macOS 13.7.7 Ventura / arm64  ERROR    ERROR  skippedskipped
Package 37/91HostnameOS / ArchINSTALLBUILDCHECKBUILD BIN
HTSFilter 1.51.0  (landing page)
Andrea Rau
git_last_commit: 675388a
git_last_commit_date: 2025-10-29 10:13:32 -0500
kjohnson3macOS 13.7.7 Ventura / arm64  ERROR    ERROR  skippedskipped
Package 38/91HostnameOS / ArchINSTALLBUILDCHECKBUILD BIN
HybridExpress 1.7.0  (landing page)
Fabricio Almeida-Silva
git_last_commit: 0f48849
git_last_commit_date: 2025-10-29 11:28:44 -0500
kjohnson3macOS 13.7.7 Ventura / arm64  OK    OK    OK    OK  NO, package depends on 'DESeq2' which is only available as a source package that needs compilation
Package 39/91HostnameOS / ArchINSTALLBUILDCHECKBUILD BIN
icetea 1.29.0  (landing page)
Vivek Bhardwaj
git_last_commit: 2bfbdfd
git_last_commit_date: 2025-10-29 10:45:57 -0500
kjohnson3macOS 13.7.7 Ventura / arm64  ERROR    ERROR  skippedskipped
Package 40/91HostnameOS / ArchINSTALLBUILDCHECKBUILD BIN
ideal 2.5.0  (landing page)
Federico Marini
git_last_commit: 2ff36ae
git_last_commit_date: 2025-10-29 10:38:28 -0500
kjohnson3macOS 13.7.7 Ventura / arm64  ERROR    ERROR  skippedskipped
Package 41/91HostnameOS / ArchINSTALLBUILDCHECKBUILD BIN
INSPEcT 1.41.0  (landing page)
Stefano de Pretis
git_last_commit: 54a4fbd
git_last_commit_date: 2025-10-29 10:26:37 -0500
kjohnson3macOS 13.7.7 Ventura / arm64  OK    OK    OK    OK  NO, package depends on 'GenomicRanges' which is only available as a source package that needs compilation
Package 42/91HostnameOS / ArchINSTALLBUILDCHECKBUILD BIN
IntEREst 1.35.0  (landing page)
Ali Oghabian
git_last_commit: 0e454ed
git_last_commit_date: 2025-10-29 10:37:18 -0500
kjohnson3macOS 13.7.7 Ventura / arm64  ERROR    ERROR  skippedskipped
Package 43/91HostnameOS / ArchINSTALLBUILDCHECKBUILD BIN
iSEEde 1.9.0  (landing page)
Kevin Rue-Albrecht
git_last_commit: b1d08fe
git_last_commit_date: 2025-10-29 11:24:44 -0500
kjohnson3macOS 13.7.7 Ventura / arm64  ERROR    ERROR  skippedskipped
Package 44/91HostnameOS / ArchINSTALLBUILDCHECKBUILD BIN
isomiRs 1.39.0  (landing page)
Lorena Pantano
git_last_commit: feed20d
git_last_commit_date: 2025-10-29 10:31:12 -0500
kjohnson3macOS 13.7.7 Ventura / arm64  ERROR    ERROR  skippedskipped
Package 45/91HostnameOS / ArchINSTALLBUILDCHECKBUILD BIN
kissDE 1.31.0  (landing page)
Aurélie Siberchicot
git_last_commit: ba36c2d
git_last_commit_date: 2025-10-29 10:43:14 -0500
kjohnson3macOS 13.7.7 Ventura / arm64  ERROR    ERROR  skippedskipped
Package 46/91HostnameOS / ArchINSTALLBUILDCHECKBUILD BIN
magpie 1.11.0  (landing page)
Daoyu Duan
git_last_commit: 48f31cd
git_last_commit_date: 2025-10-29 11:21:48 -0500
kjohnson3macOS 13.7.7 Ventura / arm64  OK    OK    WARNINGS    OK  NO, package depends on 'rtracklayer' which is only available as a source package that needs compilation
Package 47/91HostnameOS / ArchINSTALLBUILDCHECKBUILD BIN
metaseqR2 1.23.0  (landing page)
Panagiotis Moulos
git_last_commit: 25b9df1
git_last_commit_date: 2025-10-29 10:59:18 -0500
kjohnson3macOS 13.7.7 Ventura / arm64  ERROR    ERROR  skippedskipped
Package 48/91HostnameOS / ArchINSTALLBUILDCHECKBUILD BIN
microbiomeExplorer 1.21.0  (landing page)
Janina Reeder
git_last_commit: 6045c09
git_last_commit_date: 2025-10-29 11:03:17 -0500
kjohnson3macOS 13.7.7 Ventura / arm64  ERROR    ERROR  skippedskipped
Package 49/91HostnameOS / ArchINSTALLBUILDCHECKBUILD BIN
MIRit 1.7.1  (landing page)
Jacopo Ronchi
git_last_commit: a0208d2
git_last_commit_date: 2025-11-05 08:05:07 -0500
kjohnson3macOS 13.7.7 Ventura / arm64  ERROR    ERROR  skippedskipped
Package 50/91HostnameOS / ArchINSTALLBUILDCHECKBUILD BIN
MLSeq 2.29.0  (landing page)
Gokmen Zararsiz
git_last_commit: b1aac87
git_last_commit_date: 2025-10-29 10:18:29 -0500
kjohnson3macOS 13.7.7 Ventura / arm64  ERROR    ERROR  skippedskipped
Package 51/91HostnameOS / ArchINSTALLBUILDCHECKBUILD BIN
mobileRNA 1.7.1  (landing page)
Katie Jeynes-Cupper
git_last_commit: b58cca2
git_last_commit_date: 2025-11-03 12:51:23 -0500
kjohnson3macOS 13.7.7 Ventura / arm64  ERROR    ERROR  skippedskipped
Package 52/91HostnameOS / ArchINSTALLBUILDCHECKBUILD BIN
mosdef 1.7.0  (landing page)
Federico Marini
git_last_commit: 9ba0438
git_last_commit_date: 2025-10-29 11:29:58 -0500
kjohnson3macOS 13.7.7 Ventura / arm64  OK    OK    OK    OK  NO, package depends on 'DESeq2' which is only available as a source package that needs compilation
Package 53/91HostnameOS / ArchINSTALLBUILDCHECKBUILD BIN
MultiRNAflow 1.9.0  (landing page)
Rodolphe Loubaton
git_last_commit: 3c2e28d
git_last_commit_date: 2025-10-29 11:24:54 -0500
kjohnson3macOS 13.7.7 Ventura / arm64  OK    OK    OK    OK  NO, package depends on 'DESeq2' which is only available as a source package that needs compilation
Package 54/91HostnameOS / ArchINSTALLBUILDCHECKBUILD BIN
muscat 1.25.0  (landing page)
Helena L. Crowell
git_last_commit: 7a0ebff
git_last_commit_date: 2025-10-29 10:53:55 -0500
kjohnson3macOS 13.7.7 Ventura / arm64  ERROR    ERROR  skippedskipped
Package 55/91HostnameOS / ArchINSTALLBUILDCHECKBUILD BIN
NBAMSeq 1.27.0  (landing page)
Xu Ren
git_last_commit: e827f50
git_last_commit_date: 2025-10-29 10:51:23 -0500
kjohnson3macOS 13.7.7 Ventura / arm64  OK    OK    OK    OK  NO, package depends on 'DESeq2' which is only available as a source package that needs compilation
Package 56/91HostnameOS / ArchINSTALLBUILDCHECKBUILD BIN
NetActivity 1.13.0  (landing page)
Carlos Ruiz-Arenas
git_last_commit: 0cad5d9
git_last_commit_date: 2025-10-29 11:19:51 -0500
kjohnson3macOS 13.7.7 Ventura / arm64  OK    OK    OK    OK  NO, package depends on 'DelayedArray' which is only available as a source package that needs compilation
Package 57/91HostnameOS / ArchINSTALLBUILDCHECKBUILD BIN
octad 1.13.0  (landing page)
E. Chekalin
git_last_commit: 27dcaeb
git_last_commit_date: 2025-10-29 11:19:54 -0500
kjohnson3macOS 13.7.7 Ventura / arm64  ERROR    ERROR  skippedskipped
Package 58/91HostnameOS / ArchINSTALLBUILDCHECKBUILD BIN
ORFik 1.31.0  (landing page)
Haakon Tjeldnes
git_last_commit: 1c0375d
git_last_commit_date: 2025-10-29 10:45:22 -0500
kjohnson3macOS 13.7.7 Ventura / arm64  OK    OK    OK    OK  NO, package depends on 'GenomicRanges' which is only available as a source package that needs compilation
Package 59/91HostnameOS / ArchINSTALLBUILDCHECKBUILD BIN
OUTRIDER 1.29.0  (landing page)
Christian Mertes
git_last_commit: 8caa8cb
git_last_commit_date: 2025-10-29 10:46:21 -0500
kjohnson3macOS 13.7.7 Ventura / arm64  OK    OK    OK    OK  NO, package depends on 'DESeq2' which is only available as a source package that needs compilation
Package 60/91HostnameOS / ArchINSTALLBUILDCHECKBUILD BIN
pairedGSEA 1.11.0  (landing page)
Søren Helweg Dam
git_last_commit: dcfda05
git_last_commit_date: 2025-10-29 11:22:53 -0500
kjohnson3macOS 13.7.7 Ventura / arm64  ERROR    ERROR  skippedskipped
Package 61/91HostnameOS / ArchINSTALLBUILDCHECKBUILD BIN
PathoStat 1.37.0  (landing page)
Solaiappan Manimaran
git_last_commit: b2188f7
git_last_commit_date: 2025-10-29 10:34:57 -0500
kjohnson3macOS 13.7.7 Ventura / arm64  ERROR    ERROR  skippedskipped
Package 62/91HostnameOS / ArchINSTALLBUILDCHECKBUILD BIN
pcaExplorer 3.5.0  (landing page)
Federico Marini
git_last_commit: 4e88ee9
git_last_commit_date: 2025-10-29 10:31:39 -0500
kjohnson3macOS 13.7.7 Ventura / arm64  OK    OK    OK    OK  NO, package depends on 'DESeq2' which is only available as a source package that needs compilation
Package 63/91HostnameOS / ArchINSTALLBUILDCHECKBUILD BIN
phantasus 1.31.0  (landing page)
Alexey Sergushichev
git_last_commit: 30cb2d9
git_last_commit_date: 2025-10-29 10:44:01 -0500
kjohnson3macOS 13.7.7 Ventura / arm64  ERROR    ERROR  skippedskipped
Package 64/91HostnameOS / ArchINSTALLBUILDCHECKBUILD BIN
POMA 1.21.0  (landing page)
Pol Castellano-Escuder
git_last_commit: e8ab1e6
git_last_commit_date: 2025-10-29 11:01:06 -0500
kjohnson3macOS 13.7.7 Ventura / arm64  ERROR    ERROR  skippedskipped
Package 65/91HostnameOS / ArchINSTALLBUILDCHECKBUILD BIN
proActiv 1.21.0  (landing page)
Joseph Lee
git_last_commit: 8067867
git_last_commit_date: 2025-10-29 11:02:09 -0500
kjohnson3macOS 13.7.7 Ventura / arm64  OK    OK    OK    OK  NO, package depends on 'DESeq2' which is only available as a source package that needs compilation
Package 66/91HostnameOS / ArchINSTALLBUILDCHECKBUILD BIN
RegEnrich 1.21.0  (landing page)
Weiyang Tao
git_last_commit: 73e2009
git_last_commit_date: 2025-10-29 11:00:04 -0500
kjohnson3macOS 13.7.7 Ventura / arm64  OK    OK    OK    OK  NO, package depends on 'DESeq2' which is only available as a source package that needs compilation
Package 67/91HostnameOS / ArchINSTALLBUILDCHECKBUILD BIN
regionReport 1.45.0  (landing page)
Leonardo Collado-Torres
git_last_commit: b61d8a3
git_last_commit_date: 2025-10-29 10:21:56 -0500
kjohnson3macOS 13.7.7 Ventura / arm64  ERROR    ERROR  skippedskipped
Package 68/91HostnameOS / ArchINSTALLBUILDCHECKBUILD BIN
ReportingTools 2.51.0  (landing page)
Jason A. Hackney , Gabriel Becker
git_last_commit: ba00f72
git_last_commit_date: 2025-10-29 10:12:14 -0500
kjohnson3macOS 13.7.7 Ventura / arm64  ERROR    ERROR  skippedskipped
Package 69/91HostnameOS / ArchINSTALLBUILDCHECKBUILD BIN
rgsepd 1.43.0  (landing page)
Karl Stamm
git_last_commit: c93ca40
git_last_commit_date: 2025-10-29 10:23:22 -0500
kjohnson3macOS 13.7.7 Ventura / arm64  OK    OK    OK    OK  NO, package depends on 'DESeq2' which is only available as a source package that needs compilation
Package 70/91HostnameOS / ArchINSTALLBUILDCHECKBUILD BIN
RiboDiPA 1.19.0  (landing page)
Ji-Ping Wang
git_last_commit: 2487cc4
git_last_commit_date: 2025-10-29 11:05:49 -0500
kjohnson3macOS 13.7.7 Ventura / arm64  OK    OK    OK    OK  NO, package depends on 'Rsamtools' which is only available as a source package that needs compilation
Package 71/91HostnameOS / ArchINSTALLBUILDCHECKBUILD BIN
Rmmquant 1.29.0  (landing page)
Zytnicki Matthias
git_last_commit: b7f3f59
git_last_commit_date: 2025-10-29 10:45:50 -0500
kjohnson3macOS 13.7.7 Ventura / arm64  OK    OK    OK    OK  NO, package depends on 'GenomicRanges' which is only available as a source package that needs compilation
Package 72/91HostnameOS / ArchINSTALLBUILDCHECKBUILD BIN
saseR 1.7.0  (landing page)
Alexandre Segers
git_last_commit: 7f96081
git_last_commit_date: 2025-10-29 11:27:12 -0500
kjohnson3macOS 13.7.7 Ventura / arm64  ERROR    ERROR  skippedskipped
Package 73/91HostnameOS / ArchINSTALLBUILDCHECKBUILD BIN
scBFA 1.25.0  (landing page)
Ruoxin Li
git_last_commit: 128392e
git_last_commit_date: 2025-10-29 10:53:24 -0500
kjohnson3macOS 13.7.7 Ventura / arm64  ERROR    ERROR  skippedskipped
Package 74/91HostnameOS / ArchINSTALLBUILDCHECKBUILD BIN
scGPS 1.25.0  (landing page)
Quan Nguyen
git_last_commit: 73072f6
git_last_commit_date: 2025-10-29 10:53:11 -0500
kjohnson3macOS 13.7.7 Ventura / arm64  OK    OK    OK    OK  NO, package depends on 'DESeq2' which is only available as a source package that needs compilation
Package 75/91HostnameOS / ArchINSTALLBUILDCHECKBUILD BIN
scQTLtools 1.3.0  (landing page)
Xiaofeng Wu
git_last_commit: 2285e5a
git_last_commit_date: 2025-10-29 11:34:00 -0500
kjohnson3macOS 13.7.7 Ventura / arm64  OK    OK    ERROR    OK  
Package 76/91HostnameOS / ArchINSTALLBUILDCHECKBUILD BIN
SeqGSEA 1.51.0  (landing page)
Xi Wang
git_last_commit: d9a1c2a
git_last_commit_date: 2025-10-29 10:14:28 -0500
kjohnson3macOS 13.7.7 Ventura / arm64  OK    OK    OK    OK  NO, package depends on 'DESeq2' which is only available as a source package that needs compilation
Package 77/91HostnameOS / ArchINSTALLBUILDCHECKBUILD BIN
SEtools 1.25.0  (landing page)
Pierre-Luc Germain
git_last_commit: beb739e
git_last_commit_date: 2025-10-29 10:54:13 -0500
kjohnson3macOS 13.7.7 Ventura / arm64  ERROR    ERROR  skippedskipped
Package 78/91HostnameOS / ArchINSTALLBUILDCHECKBUILD BIN
singleCellTK 2.21.0  (landing page)
Joshua David Campbell
git_last_commit: 4895b66
git_last_commit_date: 2025-10-29 11:29:49 -0500
kjohnson3macOS 13.7.7 Ventura / arm64  ERROR    ERROR  skippedskipped
Package 79/91HostnameOS / ArchINSTALLBUILDCHECKBUILD BIN
SNPhood 1.41.0  (landing page)
Christian Arnold
git_last_commit: 4de7497
git_last_commit_date: 2025-10-29 10:28:24 -0500
kjohnson3macOS 13.7.7 Ventura / arm64  OK    OK    OK    OK  NO, package depends on 'GenomicRanges' which is only available as a source package that needs compilation
Package 80/91HostnameOS / ArchINSTALLBUILDCHECKBUILD BIN
srnadiff 1.31.0  (landing page)
Zytnicki Matthias
git_last_commit: 680956d
git_last_commit_date: 2025-10-29 10:43:01 -0500
kjohnson3macOS 13.7.7 Ventura / arm64  ERROR    ERROR  skippedskipped
Package 81/91HostnameOS / ArchINSTALLBUILDCHECKBUILD BIN
SurfR 1.7.0  (landing page)
Aurora Maurizio
git_last_commit: 90bbf06
git_last_commit_date: 2025-10-29 11:27:44 -0500
kjohnson3macOS 13.7.7 Ventura / arm64  ERROR    ERROR  skippedskipped
Package 82/91HostnameOS / ArchINSTALLBUILDCHECKBUILD BIN
systemPipeTools 1.19.0  (landing page)
Daniela Cassol
git_last_commit: 5e1379b
git_last_commit_date: 2025-10-29 11:10:03 -0500
kjohnson3macOS 13.7.7 Ventura / arm64  OK    OK    WARNINGS    OK  NO, package depends on 'DESeq2' which is only available as a source package that needs compilation
Package 83/91HostnameOS / ArchINSTALLBUILDCHECKBUILD BIN
TBSignatureProfiler 1.23.0  (landing page)
Kiloni Quiles
git_last_commit: fa5ed4c
git_last_commit_date: 2025-10-29 10:58:59 -0500
kjohnson3macOS 13.7.7 Ventura / arm64  ERROR    ERROR  skippedskipped
Package 84/91HostnameOS / ArchINSTALLBUILDCHECKBUILD BIN
TCC 1.51.0  (landing page)
Jianqiang Sun
git_last_commit: 0eb2b06
git_last_commit_date: 2025-10-29 10:16:10 -0500
kjohnson3macOS 13.7.7 Ventura / arm64  ERROR    ERROR  skippedskipped
Package 85/91HostnameOS / ArchINSTALLBUILDCHECKBUILD BIN
TEKRABber 1.15.0  (landing page)
Yao-Chung Chen
git_last_commit: ffc9f33
git_last_commit_date: 2025-10-29 11:14:57 -0500
kjohnson3macOS 13.7.7 Ventura / arm64  OK    OK    ERROR    OK  
Package 86/91HostnameOS / ArchINSTALLBUILDCHECKBUILD BIN
terapadog 1.3.0  (landing page)
Gionmattia Carancini
git_last_commit: 48dbe0f
git_last_commit_date: 2025-10-29 11:34:51 -0500
kjohnson3macOS 13.7.7 Ventura / arm64  OK    OK    OK    OK  NO, package depends on 'DESeq2' which is only available as a source package that needs compilation
Package 87/91HostnameOS / ArchINSTALLBUILDCHECKBUILD BIN
tRanslatome 1.49.0  (landing page)
Toma Tebaldi , Erik Dassi
git_last_commit: 6b31799
git_last_commit_date: 2025-10-29 10:14:58 -0500
kjohnson3macOS 13.7.7 Ventura / arm64  ERROR    ERROR  skippedskipped
Package 88/91HostnameOS / ArchINSTALLBUILDCHECKBUILD BIN
UMI4Cats 1.21.0  (landing page)
Mireia Ramos-Rodriguez
git_last_commit: f049a0a
git_last_commit_date: 2025-10-29 11:01:19 -0500
kjohnson3macOS 13.7.7 Ventura / arm64  OK    OK    OK    OK  NO, package depends on 'GenomicRanges' which is only available as a source package that needs compilation
Package 89/91HostnameOS / ArchINSTALLBUILDCHECKBUILD BIN
vidger 1.31.0  (landing page)
Brandon Monier
git_last_commit: bdddd06
git_last_commit_date: 2025-10-29 10:43:35 -0500
kjohnson3macOS 13.7.7 Ventura / arm64  ERROR    ERROR  skippedskipped
Package 90/91HostnameOS / ArchINSTALLBUILDCHECKBUILD BIN
vulcan 1.33.0  (landing page)
Federico M. Giorgi
git_last_commit: 2216885
git_last_commit_date: 2025-10-29 10:41:08 -0500
kjohnson3macOS 13.7.7 Ventura / arm64  ERROR    ERROR  skippedskipped
Package 91/91HostnameOS / ArchINSTALLBUILDCHECKBUILD BIN
zitools 1.5.0  (landing page)
Carlotta Meyring
git_last_commit: 822919b
git_last_commit_date: 2025-10-29 11:30:43 -0500
kjohnson3macOS 13.7.7 Ventura / arm64  ERROR    ERROR  skippedskipped