Back to Multiple platform build/check report for BioC 3.22:   simplified   long
AB[C]DEFGHIJKLMNOPQRSTUVWXYZ

This page was generated on 2025-05-27 12:08 -0400 (Tue, 27 May 2025).

HostnameOSArch (*)R versionInstalled pkgs
nebbiolo2Linux (Ubuntu 24.04.1 LTS)x86_644.5.0 (2025-04-11) -- "How About a Twenty-Six" 4756
palomino8Windows Server 2022 Datacenterx644.5.0 (2025-04-11 ucrt) -- "How About a Twenty-Six" 4530
lconwaymacOS 12.7.1 Montereyx86_644.5.0 Patched (2025-04-21 r88169) -- "How About a Twenty-Six" 4567
kjohnson3macOS 13.7.1 Venturaarm644.5.0 Patched (2025-04-21 r88169) -- "How About a Twenty-Six" 4507
taishanLinux (openEuler 24.03 LTS)aarch644.5.0 (2025-04-11) -- "How About a Twenty-Six" 4464
Click on any hostname to see more info about the system (e.g. compilers)      (*) as reported by 'uname -p', except on Windows and Mac OS X

Package 281/2306HostnameOS / ArchINSTALLBUILDCHECKBUILD BIN
CatsCradle 1.3.0  (landing page)
Michael Shapiro
Snapshot Date: 2025-05-26 13:25 -0400 (Mon, 26 May 2025)
git_url: https://git.bioconductor.org/packages/CatsCradle
git_branch: devel
git_last_commit: ec233bd
git_last_commit_date: 2025-04-15 13:40:27 -0400 (Tue, 15 Apr 2025)
nebbiolo2Linux (Ubuntu 24.04.1 LTS) / x86_64  OK    OK    OK  UNNEEDED, same version is already published
palomino8Windows Server 2022 Datacenter / x64  OK    OK    OK    OK  UNNEEDED, same version is already published
lconwaymacOS 12.7.1 Monterey / x86_64  OK    OK    OK    OK  UNNEEDED, same version is already published
kjohnson3macOS 13.7.1 Ventura / arm64  OK    OK    OK    OK  UNNEEDED, same version is already published
taishanLinux (openEuler 24.03 LTS) / aarch64  OK    OK    OK  


CHECK results for CatsCradle on lconway

To the developers/maintainers of the CatsCradle package:
- Allow up to 24 hours (and sometimes 48 hours) for your latest push to git@git.bioconductor.org:packages/CatsCradle.git to reflect on this report. See Troubleshooting Build Report for more information.
- Use the following Renviron settings to reproduce errors and warnings.
- If 'R CMD check' started to fail recently on the Linux builder(s) over a missing dependency, add the missing dependency to 'Suggests:' in your DESCRIPTION file. See Renviron.bioc for more information.

raw results


Summary

Package: CatsCradle
Version: 1.3.0
Command: /Library/Frameworks/R.framework/Resources/bin/R CMD check --install=check:CatsCradle.install-out.txt --library=/Library/Frameworks/R.framework/Resources/library --no-vignettes --timings CatsCradle_1.3.0.tar.gz
StartedAt: 2025-05-26 19:46:16 -0400 (Mon, 26 May 2025)
EndedAt: 2025-05-26 19:56:22 -0400 (Mon, 26 May 2025)
EllapsedTime: 606.4 seconds
RetCode: 0
Status:   OK  
CheckDir: CatsCradle.Rcheck
Warnings: 0

Command output

##############################################################################
##############################################################################
###
### Running command:
###
###   /Library/Frameworks/R.framework/Resources/bin/R CMD check --install=check:CatsCradle.install-out.txt --library=/Library/Frameworks/R.framework/Resources/library --no-vignettes --timings CatsCradle_1.3.0.tar.gz
###
##############################################################################
##############################################################################


* using log directory ‘/Users/biocbuild/bbs-3.22-bioc/meat/CatsCradle.Rcheck’
* using R version 4.5.0 Patched (2025-04-21 r88169)
* using platform: x86_64-apple-darwin20
* R was compiled by
    Apple clang version 14.0.0 (clang-1400.0.29.202)
    GNU Fortran (GCC) 14.2.0
* running under: macOS Monterey 12.7.6
* using session charset: UTF-8
* using option ‘--no-vignettes’
* checking for file ‘CatsCradle/DESCRIPTION’ ... OK
* this is package ‘CatsCradle’ version ‘1.3.0’
* package encoding: UTF-8
* checking package namespace information ... OK
* checking package dependencies ... INFO
Imports includes 21 non-default packages.
Importing from so many packages makes the package vulnerable to any of
them becoming unavailable.  Move as many as possible to Suggests and
use conditionally.
* checking if this is a source package ... OK
* checking if there is a namespace ... OK
* checking for hidden files and directories ... OK
* checking for portable file names ... OK
* checking for sufficient/correct file permissions ... OK
* checking whether package ‘CatsCradle’ can be installed ... OK
* checking installed package size ... OK
* checking package directory ... OK
* checking ‘build’ directory ... OK
* checking DESCRIPTION meta-information ... OK
* checking top-level files ... OK
* checking for left-over files ... OK
* checking index information ... OK
* checking package subdirectories ... OK
* checking code files for non-ASCII characters ... OK
* checking R files for syntax errors ... OK
* checking whether the package can be loaded ... OK
* checking whether the package can be loaded with stated dependencies ... OK
* checking whether the package can be unloaded cleanly ... OK
* checking whether the namespace can be loaded with stated dependencies ... OK
* checking whether the namespace can be unloaded cleanly ... OK
* checking dependencies in R code ... OK
* checking S3 generic/method consistency ... OK
* checking replacement functions ... OK
* checking foreign function calls ... OK
* checking R code for possible problems ... NOTE
edgeLengthPlot: no visible binding for global variable ‘cellTypePair’
edgeLengthPlot: no visible binding for global variable ‘cutoff’
make.getExample : getExample: no visible binding for global variable
  ‘seuratGenes’
make.getExample : getExample: no visible binding for global variable
  ‘seuratCells’
make.getExample : getExample: no visible binding for global variable
  ‘xeniumCells’
make.getExample : getExample: no visible binding for global variable
  ‘moransI’
make.getExample : getExample: no visible binding for global variable
  ‘moransILigandReceptor’
make.getExample : getExample: no visible binding for global variable
  ‘humanLRN’
make.getExample : getExample: no visible binding for global variable
  ‘mouseLRN’
meanGeneClusterOnCellUMAP: no visible binding for global variable
  ‘UMAP_1’
meanGeneClusterOnCellUMAP: no visible binding for global variable
  ‘UMAP_2’
Undefined global functions or variables:
  UMAP_1 UMAP_2 cellTypePair cutoff humanLRN moransI
  moransILigandReceptor mouseLRN seuratCells seuratGenes xeniumCells
* checking Rd files ... OK
* checking Rd metadata ... OK
* checking Rd cross-references ... OK
* checking for missing documentation entries ... OK
* checking for code/documentation mismatches ... OK
* checking Rd \usage sections ... OK
* checking Rd contents ... OK
* checking for unstated dependencies in examples ... OK
* checking contents of ‘data’ directory ... OK
* checking data for non-ASCII characters ... OK
* checking data for ASCII and uncompressed saves ... OK
* checking files in ‘vignettes’ ... OK
* checking examples ... OK
Examples with CPU (user + system) or elapsed time > 5s
                                      user system elapsed
annotateGeneAsVector                49.502  0.591  50.372
computeNBHDVsCTObject               20.635  0.203  20.971
randomiseNodeIndices                16.566  0.340  17.012
getObjectSubsetClusteringPValue     14.383  0.846  15.299
transposeObject                     11.850  0.094  12.012
aggregateGeneExpression             11.542  0.317  11.936
computeGraphEmbedding               10.907  0.128  11.097
predictAnnotation                    9.339  0.753  10.176
predictAnnotationAllGenes            8.667  0.403   9.129
predictGeneAnnotationImpl            7.350  0.224   7.614
runGeometricClusteringTrials         6.662  0.140   6.837
getNearbyGenes                       6.510  0.063   6.599
medianComplementPValue               6.472  0.097   6.604
getObjectSubsetClusteringStatistics  6.396  0.156   6.616
geneSetsVsGeneClustersPValueMatrix   6.332  0.083   6.460
getAverageExpressionDF               6.252  0.084   6.387
combinatorialSpheres                 6.240  0.079   6.347
tagRowAndColNames                    6.247  0.062   6.342
getGeneClusterAveragesPerCell        6.190  0.094   6.324
getAverageExpressionMatrix           6.149  0.071   6.274
getNearestNeighbourLists             6.087  0.073   6.185
meanZPerClusterOnUMAP                6.009  0.061   6.102
getClusterOrder                      6.006  0.058   6.103
getGeneNeighbors                     5.918  0.060   6.004
symmetriseNN                         5.834  0.119   5.997
meanZPerCluster                      5.878  0.056   5.956
meanGeneClusterOnCellUMAP            5.863  0.067   5.951
desymmetriseNN                       5.725  0.179   5.945
symmetryCheckNN                      5.799  0.059   5.890
* checking for unstated dependencies in vignettes ... OK
* checking package vignettes ... OK
* checking running R code from vignettes ... SKIPPED
* checking re-building of vignette outputs ... SKIPPED
* checking PDF version of manual ... OK
* DONE

Status: 1 NOTE
See
  ‘/Users/biocbuild/bbs-3.22-bioc/meat/CatsCradle.Rcheck/00check.log’
for details.


Installation output

CatsCradle.Rcheck/00install.out

##############################################################################
##############################################################################
###
### Running command:
###
###   /Library/Frameworks/R.framework/Resources/bin/R CMD INSTALL CatsCradle
###
##############################################################################
##############################################################################


* installing to library ‘/Library/Frameworks/R.framework/Versions/4.5-x86_64/Resources/library’
* installing *source* package ‘CatsCradle’ ...
** this is package ‘CatsCradle’ version ‘1.3.0’
** using staged installation
** R
** data
** inst
** byte-compile and prepare package for lazy loading
** help
*** installing help indices
** building package indices
** installing vignettes
** testing if installed package can be loaded from temporary location
** testing if installed package can be loaded from final location
** testing if installed package keeps a record of temporary installation path
* DONE (CatsCradle)

Tests output


Example timings

CatsCradle.Rcheck/CatsCradle-Ex.timings

nameusersystemelapsed
aggregateGeneExpression11.542 0.31711.936
annotateGeneAsVector49.502 0.59150.372
annotateGenesByGeneSet1.8430.2762.133
cellTypesPerCellTypeGraphFromCellMatrix0.6010.0140.620
collapseExtendedNBHDs3.0970.0853.201
combinatorialSpheres6.2400.0796.347
computeCellTypesPerCellTypeMatrix0.5730.0120.589
computeEdgeGraph0.5130.0100.526
computeEdgeObject1.4490.0561.519
computeGraphEmbedding10.907 0.12811.097
computeNBHDByCTMatrix0.5460.0090.559
computeNBHDVsCTObject20.635 0.20320.971
computeNeighbourEnrichment1.8700.0531.939
computeNeighboursDelaunay0.5560.0130.572
computeNeighboursEuclidean0.9430.0210.974
cullEdges0.9750.0301.014
desymmetriseNN5.7250.1795.945
directedHausdorfDistance0.0010.0010.001
edgeCutoffsByClustering0.8630.0270.895
edgeCutoffsByPercentile0.7600.0120.779
edgeCutoffsByWatershed0.7640.0090.777
edgeCutoffsByZScore0.8450.0250.877
edgeLengthPlot0.7130.0100.728
edgeLengthsAndCellTypePairs0.6750.0100.689
exampleObjects000
geneSetsVsGeneClustersPValueMatrix6.3320.0836.460
getAverageExpressionDF6.2520.0846.387
getAverageExpressionMatrix6.1490.0716.274
getClusterOrder6.0060.0586.103
getExtendedNBHDs1.3030.0221.332
getFeatureZScores0.2850.0150.304
getGeneClusterAveragesPerCell6.1900.0946.324
getGeneNeighbors5.9180.0606.004
getLigandReceptorNetwork0.0180.0030.021
getLigandReceptorPairsInPanel0.5210.0120.534
getNearbyGenes6.5100.0636.599
getNearestNeighbourLists6.0870.0736.185
getObjectSubsetClusteringPValue14.383 0.84615.299
getObjectSubsetClusteringStatistics6.3960.1566.616
make.getExample0.5060.0080.518
makeLRInteractionHeatmap0.6920.0180.714
makeSummedLRInteractionHeatmap0.5730.0140.589
meanGeneClusterOnCellUMAP5.8630.0675.951
meanZPerCluster5.8780.0565.956
meanZPerClusterOnUMAP6.0090.0616.102
medianComplementDistance0.0000.0000.001
medianComplementPValue6.4720.0976.604
nbhdsAsEdgesToNbhdsAsList1.3720.1721.564
neighbourhoodDiameter1.4810.1411.633
performLigandReceptorAnalysis3.0950.8573.986
predictAnnotation 9.339 0.75310.176
predictAnnotationAllGenes8.6670.4039.129
predictGeneAnnotationImpl7.3500.2247.614
randomiseNodeIndices16.566 0.34017.012
runGeometricClusteringTrials6.6620.1406.837
runMoransI1.6750.1231.812
sankeyFromMatrix0.0040.0010.004
symmetriseNN5.8340.1195.997
symmetryCheckNN5.7990.0595.890
tagRowAndColNames6.2470.0626.342
transposeObject11.850 0.09412.012