Back to Multiple platform build/check report for BioC 3.23:   simplified   long
AB[C]DEFGHIJKLMNOPQRSTUVWXYZ

This page was generated on 2025-11-17 11:40 -0500 (Mon, 17 Nov 2025).

HostnameOSArch (*)R versionInstalled pkgs
nebbiolo1Linux (Ubuntu 24.04.3 LTS)x86_64R Under development (unstable) (2025-10-20 r88955) -- "Unsuffered Consequences" 4826
lconwaymacOS 12.7.6 Montereyx86_64R Under development (unstable) (2025-10-21 r88958) -- "Unsuffered Consequences" 4491
kjohnson3macOS 13.7.7 Venturaarm64R Under development (unstable) (2025-11-04 r88984) -- "Unsuffered Consequences" 4562
Click on any hostname to see more info about the system (e.g. compilers)      (*) as reported by 'uname -p', except on Windows and Mac OS X

Package 283/2325HostnameOS / ArchINSTALLBUILDCHECKBUILD BIN
CatsCradle 1.5.1  (landing page)
Michael Shapiro
Snapshot Date: 2025-11-16 13:40 -0500 (Sun, 16 Nov 2025)
git_url: https://git.bioconductor.org/packages/CatsCradle
git_branch: devel
git_last_commit: 032f58b
git_last_commit_date: 2025-11-04 07:21:19 -0500 (Tue, 04 Nov 2025)
nebbiolo1Linux (Ubuntu 24.04.3 LTS) / x86_64  OK    OK    OK  UNNEEDED, same version is already published
lconwaymacOS 12.7.6 Monterey / x86_64  OK    OK    OK    OK  YES
kjohnson3macOS 13.7.7 Ventura / arm64  OK    OK    OK    OK  UNNEEDED, same version is already published


CHECK results for CatsCradle on kjohnson3

To the developers/maintainers of the CatsCradle package:
- Allow up to 24 hours (and sometimes 48 hours) for your latest push to git@git.bioconductor.org:packages/CatsCradle.git to reflect on this report. See Troubleshooting Build Report for more information.
- Use the following Renviron settings to reproduce errors and warnings.
- If 'R CMD check' started to fail recently on the Linux builder(s) over a missing dependency, add the missing dependency to 'Suggests:' in your DESCRIPTION file. See Renviron.bioc for more information.

raw results


Summary

Package: CatsCradle
Version: 1.5.1
Command: /Library/Frameworks/R.framework/Resources/bin/R CMD check --install=check:CatsCradle.install-out.txt --library=/Library/Frameworks/R.framework/Resources/library --no-vignettes --timings CatsCradle_1.5.1.tar.gz
StartedAt: 2025-11-16 18:53:02 -0500 (Sun, 16 Nov 2025)
EndedAt: 2025-11-16 18:57:20 -0500 (Sun, 16 Nov 2025)
EllapsedTime: 258.2 seconds
RetCode: 0
Status:   OK  
CheckDir: CatsCradle.Rcheck
Warnings: 0

Command output

##############################################################################
##############################################################################
###
### Running command:
###
###   /Library/Frameworks/R.framework/Resources/bin/R CMD check --install=check:CatsCradle.install-out.txt --library=/Library/Frameworks/R.framework/Resources/library --no-vignettes --timings CatsCradle_1.5.1.tar.gz
###
##############################################################################
##############################################################################


* using log directory ‘/Users/biocbuild/bbs-3.23-bioc/meat/CatsCradle.Rcheck’
* using R Under development (unstable) (2025-11-04 r88984)
* using platform: aarch64-apple-darwin20
* R was compiled by
    Apple clang version 16.0.0 (clang-1600.0.26.6)
    GNU Fortran (GCC) 14.2.0
* running under: macOS Ventura 13.7.8
* using session charset: UTF-8
* using option ‘--no-vignettes’
* checking for file ‘CatsCradle/DESCRIPTION’ ... OK
* this is package ‘CatsCradle’ version ‘1.5.1’
* package encoding: UTF-8
* checking package namespace information ... OK
* checking package dependencies ... INFO
Imports includes 21 non-default packages.
Importing from so many packages makes the package vulnerable to any of
them becoming unavailable.  Move as many as possible to Suggests and
use conditionally.
* checking if this is a source package ... OK
* checking if there is a namespace ... OK
* checking for hidden files and directories ... OK
* checking for portable file names ... OK
* checking for sufficient/correct file permissions ... OK
* checking whether package ‘CatsCradle’ can be installed ... OK
* checking installed package size ... OK
* checking package directory ... OK
* checking ‘build’ directory ... OK
* checking DESCRIPTION meta-information ... OK
* checking top-level files ... OK
* checking for left-over files ... OK
* checking index information ... OK
* checking package subdirectories ... OK
* checking code files for non-ASCII characters ... OK
* checking R files for syntax errors ... OK
* checking whether the package can be loaded ... OK
* checking whether the package can be loaded with stated dependencies ... OK
* checking whether the package can be unloaded cleanly ... OK
* checking whether the namespace can be loaded with stated dependencies ... OK
* checking whether the namespace can be unloaded cleanly ... OK
* checking dependencies in R code ... OK
* checking S3 generic/method consistency ... OK
* checking replacement functions ... OK
* checking foreign function calls ... OK
* checking R code for possible problems ... NOTE
edgeLengthPlot: no visible binding for global variable ‘cellTypePair’
edgeLengthPlot: no visible binding for global variable ‘cutoff’
make.getExample : getExample: no visible binding for global variable
  ‘seuratGenes’
make.getExample : getExample: no visible binding for global variable
  ‘seuratCells’
make.getExample : getExample: no visible binding for global variable
  ‘xeniumCells’
make.getExample : getExample: no visible binding for global variable
  ‘moransI’
make.getExample : getExample: no visible binding for global variable
  ‘moransILigandReceptor’
make.getExample : getExample: no visible binding for global variable
  ‘humanLRN’
make.getExample : getExample: no visible binding for global variable
  ‘mouseLRN’
meanGeneClusterOnCellUMAP: no visible binding for global variable
  ‘UMAP_1’
meanGeneClusterOnCellUMAP: no visible binding for global variable
  ‘UMAP_2’
plotLRDotplot: no visible binding for global variable ‘sender’
plotLRDotplot: no visible binding for global variable ‘negLog10PValue’
plotLRDotplot: no visible binding for global variable ‘receiver’
Undefined global functions or variables:
  UMAP_1 UMAP_2 cellTypePair cutoff humanLRN moransI
  moransILigandReceptor mouseLRN negLog10PValue receiver sender
  seuratCells seuratGenes xeniumCells
* checking Rd files ... OK
* checking Rd metadata ... OK
* checking Rd cross-references ... OK
* checking for missing documentation entries ... OK
* checking for code/documentation mismatches ... OK
* checking Rd \usage sections ... OK
* checking Rd contents ... OK
* checking for unstated dependencies in examples ... OK
* checking contents of ‘data’ directory ... OK
* checking data for non-ASCII characters ... OK
* checking data for ASCII and uncompressed saves ... OK
* checking files in ‘vignettes’ ... OK
* checking examples ... OK
Examples with CPU (user + system) or elapsed time > 5s
                                  user system elapsed
annotateGeneAsVector            20.813  0.145  21.387
computeNBHDVsCTObject           10.550  0.075  10.883
randomiseNodeIndices             7.353  0.144   7.842
getObjectSubsetClusteringPValue  6.391  0.365   7.041
computeGraphEmbedding            5.263  0.053   5.439
transposeObject                  5.247  0.053   5.463
aggregateGeneExpression          5.083  0.121   5.434
* checking for unstated dependencies in vignettes ... OK
* checking package vignettes ... OK
* checking running R code from vignettes ... SKIPPED
* checking re-building of vignette outputs ... SKIPPED
* checking PDF version of manual ... OK
* DONE

Status: 1 NOTE
See
  ‘/Users/biocbuild/bbs-3.23-bioc/meat/CatsCradle.Rcheck/00check.log’
for details.


Installation output

CatsCradle.Rcheck/00install.out

##############################################################################
##############################################################################
###
### Running command:
###
###   /Library/Frameworks/R.framework/Resources/bin/R CMD INSTALL CatsCradle
###
##############################################################################
##############################################################################


* installing to library ‘/Library/Frameworks/R.framework/Versions/4.6-arm64/Resources/library’
* installing *source* package ‘CatsCradle’ ...
** this is package ‘CatsCradle’ version ‘1.5.1’
** using staged installation
** R
** data
** inst
** byte-compile and prepare package for lazy loading
** help
*** installing help indices
** building package indices
** installing vignettes
** testing if installed package can be loaded from temporary location
** testing if installed package can be loaded from final location
** testing if installed package keeps a record of temporary installation path
* DONE (CatsCradle)

Tests output


Example timings

CatsCradle.Rcheck/CatsCradle-Ex.timings

nameusersystemelapsed
aggregateGeneExpression5.0830.1215.434
annotateGeneAsVector20.813 0.14521.387
annotateGenesByGeneSet0.7270.0780.830
cellTypesPerCellTypeGraphFromCellMatrix0.1040.0200.131
collapseExtendedNBHDs1.0160.0171.141
combinatorialSpheres2.8490.0263.013
computeCellTypesPerCellTypeMatrix0.0510.0050.055
computeEdgeGraph0.0850.0060.079
computeEdgeObject0.3160.0210.353
computeGraphEmbedding5.2630.0535.439
computeNBHDByCTMatrix0.0520.0060.057
computeNBHDVsCTObject10.550 0.07510.883
computeNeighbourEnrichment0.0550.0060.069
computeNeighboursDelaunay0.0380.0030.040
computeNeighboursEuclidean0.2670.0290.339
cullEdges0.2070.0170.237
desymmetriseNN2.6120.0322.800
directedHausdorfDistance0.0010.0010.001
edgeCutoffsByClustering0.1200.0150.147
edgeCutoffsByPercentile0.1130.0090.127
edgeCutoffsByWatershed0.1620.0160.180
edgeCutoffsByZScore0.1020.0070.110
edgeLengthPlot0.1340.0070.144
edgeLengthsAndCellTypePairs0.1070.0040.112
exampleObjects000
geneSetsVsGeneClustersPValueMatrix2.7500.0532.917
getAverageExpressionDF2.6970.0412.860
getAverageExpressionMatrix2.6820.0422.836
getClusterOrder2.5860.0352.760
getExtendedNBHDs0.4660.0260.517
getFeatureZScores0.0820.0040.092
getGeneClusterAveragesPerCell2.6450.0382.807
getGeneNeighbors2.5540.0302.695
getLigandReceptorNetwork0.0100.0030.012
getLigandReceptorPairsInPanel0.0400.0030.048
getNearbyGenes2.7690.0342.924
getNearestNeighbourLists2.5660.0642.708
getObjectSubsetClusteringPValue6.3910.3657.041
getObjectSubsetClusteringStatistics2.8100.0562.984
make.getExample0.0400.0030.046
makeLRInteractionHeatmap0.0880.0060.096
makeSummedLRInteractionHeatmap0.0840.0040.089
meanGeneClusterOnCellUMAP2.7160.0492.912
meanZPerCluster2.6220.0262.792
meanZPerClusterOnUMAP2.7120.0252.963
medianComplementDistance0.0000.0000.001
medianComplementPValue2.8990.0403.150
nbhdsAsEdgesToNbhdsAsList0.3880.0860.500
neighbourhoodDiameter0.3540.0610.433
performLigandReceptorAnalysis0.4830.5101.036
performLigandReceptorAnalysisPermutation0.5200.5571.100
plotLRDotplot0.6670.0320.709
predictAnnotation4.1290.3044.753
predictAnnotationAllGenes3.6300.1934.054
predictGeneAnnotationImpl3.3570.1353.636
randomiseNodeIndices7.3530.1447.842
runGeometricClusteringTrials2.8240.0463.125
runMoransI0.4650.0740.586
sankeyFromMatrix0.0010.0000.001
symmetriseNN2.6890.0442.907
symmetryCheckNN2.6010.0252.781
tagRowAndColNames2.7660.0252.897
transposeObject5.2470.0535.463