Back to Multiple platform build/check report for BioC 3.23:   simplified   long
A[B]CDEFGHIJKLMNOPQRSTUVWXYZ

This page was generated on 2025-11-17 11:40 -0500 (Mon, 17 Nov 2025).

HostnameOSArch (*)R versionInstalled pkgs
nebbiolo1Linux (Ubuntu 24.04.3 LTS)x86_64R Under development (unstable) (2025-10-20 r88955) -- "Unsuffered Consequences" 4826
lconwaymacOS 12.7.6 Montereyx86_64R Under development (unstable) (2025-10-21 r88958) -- "Unsuffered Consequences" 4491
kjohnson3macOS 13.7.7 Venturaarm64R Under development (unstable) (2025-11-04 r88984) -- "Unsuffered Consequences" 4562
Click on any hostname to see more info about the system (e.g. compilers)      (*) as reported by 'uname -p', except on Windows and Mac OS X

Package 254/2325HostnameOS / ArchINSTALLBUILDCHECKBUILD BIN
BulkSignalR 1.3.1  (landing page)
Jean-Philippe Villemin
Snapshot Date: 2025-11-16 13:40 -0500 (Sun, 16 Nov 2025)
git_url: https://git.bioconductor.org/packages/BulkSignalR
git_branch: devel
git_last_commit: e236c5a
git_last_commit_date: 2025-11-08 17:09:36 -0500 (Sat, 08 Nov 2025)
nebbiolo1Linux (Ubuntu 24.04.3 LTS) / x86_64  OK    OK    OK  UNNEEDED, same version is already published
lconwaymacOS 12.7.6 Monterey / x86_64  OK    OK    OK    OK  NO, package depends on 'multtest' which is only available as a source package that needs compilation
kjohnson3macOS 13.7.7 Ventura / arm64  OK    OK    OK    OK  UNNEEDED, same version is already published


CHECK results for BulkSignalR on kjohnson3

To the developers/maintainers of the BulkSignalR package:
- Allow up to 24 hours (and sometimes 48 hours) for your latest push to git@git.bioconductor.org:packages/BulkSignalR.git to reflect on this report. See Troubleshooting Build Report for more information.
- Use the following Renviron settings to reproduce errors and warnings.
- If 'R CMD check' started to fail recently on the Linux builder(s) over a missing dependency, add the missing dependency to 'Suggests:' in your DESCRIPTION file. See Renviron.bioc for more information.

raw results


Summary

Package: BulkSignalR
Version: 1.3.1
Command: /Library/Frameworks/R.framework/Resources/bin/R CMD check --install=check:BulkSignalR.install-out.txt --library=/Library/Frameworks/R.framework/Resources/library --no-vignettes --timings BulkSignalR_1.3.1.tar.gz
StartedAt: 2025-11-16 18:49:13 -0500 (Sun, 16 Nov 2025)
EndedAt: 2025-11-16 18:52:39 -0500 (Sun, 16 Nov 2025)
EllapsedTime: 206.5 seconds
RetCode: 0
Status:   OK  
CheckDir: BulkSignalR.Rcheck
Warnings: 0

Command output

##############################################################################
##############################################################################
###
### Running command:
###
###   /Library/Frameworks/R.framework/Resources/bin/R CMD check --install=check:BulkSignalR.install-out.txt --library=/Library/Frameworks/R.framework/Resources/library --no-vignettes --timings BulkSignalR_1.3.1.tar.gz
###
##############################################################################
##############################################################################


* using log directory ‘/Users/biocbuild/bbs-3.23-bioc/meat/BulkSignalR.Rcheck’
* using R Under development (unstable) (2025-11-04 r88984)
* using platform: aarch64-apple-darwin20
* R was compiled by
    Apple clang version 16.0.0 (clang-1600.0.26.6)
    GNU Fortran (GCC) 14.2.0
* running under: macOS Ventura 13.7.8
* using session charset: UTF-8
* using option ‘--no-vignettes’
* checking for file ‘BulkSignalR/DESCRIPTION’ ... OK
* checking extension type ... Package
* this is package ‘BulkSignalR’ version ‘1.3.1’
* package encoding: UTF-8
* checking package namespace information ... OK
* checking package dependencies ... INFO
Imports includes 26 non-default packages.
Importing from so many packages makes the package vulnerable to any of
them becoming unavailable.  Move as many as possible to Suggests and
use conditionally.
* checking if this is a source package ... OK
* checking if there is a namespace ... OK
* checking for hidden files and directories ... OK
* checking for portable file names ... OK
* checking for sufficient/correct file permissions ... OK
* checking whether package ‘BulkSignalR’ can be installed ... OK
* checking installed package size ... OK
* checking package directory ... OK
* checking ‘build’ directory ... OK
* checking DESCRIPTION meta-information ... OK
* checking top-level files ... OK
* checking for left-over files ... OK
* checking index information ... OK
* checking package subdirectories ... OK
* checking code files for non-ASCII characters ... OK
* checking R files for syntax errors ... OK
* checking whether the package can be loaded ... OK
* checking whether the package can be loaded with stated dependencies ... OK
* checking whether the package can be unloaded cleanly ... OK
* checking whether the namespace can be loaded with stated dependencies ... OK
* checking whether the namespace can be unloaded cleanly ... OK
* checking whether startup messages can be suppressed ... OK
* checking dependencies in R code ... OK
* checking S3 generic/method consistency ... OK
* checking replacement functions ... OK
* checking foreign function calls ... OK
* checking R code for possible problems ... OK
* checking Rd files ... OK
* checking Rd metadata ... OK
* checking Rd cross-references ... OK
* checking for missing documentation entries ... OK
* checking for code/documentation mismatches ... OK
* checking Rd \usage sections ... OK
* checking Rd contents ... OK
* checking for unstated dependencies in examples ... OK
* checking contents of ‘data’ directory ... OK
* checking data for non-ASCII characters ... OK
* checking data for ASCII and uncompressed saves ... OK
* checking files in ‘vignettes’ ... OK
* checking examples ... OK
Examples with CPU (user + system) or elapsed time > 5s
                user system elapsed
cacheClear     1.467  0.080   5.990
convertToHuman 0.072  0.004   5.407
* checking for unstated dependencies in ‘tests’ ... OK
* checking tests ...
  Running ‘testthat.R’
 OK
* checking for unstated dependencies in vignettes ... OK
* checking package vignettes ... OK
* checking running R code from vignettes ... SKIPPED
* checking re-building of vignette outputs ... SKIPPED
* checking PDF version of manual ... OK
* DONE

Status: OK


Installation output

BulkSignalR.Rcheck/00install.out

##############################################################################
##############################################################################
###
### Running command:
###
###   /Library/Frameworks/R.framework/Resources/bin/R CMD INSTALL BulkSignalR
###
##############################################################################
##############################################################################


* installing to library ‘/Library/Frameworks/R.framework/Versions/4.6-arm64/Resources/library’
* installing *source* package ‘BulkSignalR’ ...
** this is package ‘BulkSignalR’ version ‘1.3.1’
** using staged installation
** R
** data
** inst
** byte-compile and prepare package for lazy loading
** help
*** installing help indices
*** copying figures
** building package indices
** installing vignettes
** testing if installed package can be loaded from temporary location
** testing if installed package can be loaded from final location
** testing if installed package keeps a record of temporary installation path
* DONE (BulkSignalR)

Tests output

BulkSignalR.Rcheck/tests/testthat.Rout


R Under development (unstable) (2025-11-04 r88984) -- "Unsuffered Consequences"
Copyright (C) 2025 The R Foundation for Statistical Computing
Platform: aarch64-apple-darwin20

R is free software and comes with ABSOLUTELY NO WARRANTY.
You are welcome to redistribute it under certain conditions.
Type 'license()' or 'licence()' for distribution details.

R is a collaborative project with many contributors.
Type 'contributors()' for more information and
'citation()' on how to cite R or R packages in publications.

Type 'demo()' for some demos, 'help()' for on-line help, or
'help.start()' for an HTML browser interface to help.
Type 'q()' to quit R.

> library(testthat)
> library(BulkSignalR)
Local "resources" are up to date.

> test_check("BulkSignalR")
[ FAIL 0 | WARN 0 | SKIP 0 | PASS 1 ]
> 
> proc.time()
   user  system elapsed 
  6.122   0.277   7.689 

Example timings

BulkSignalR.Rcheck/BulkSignalR-Ex.timings

nameusersystemelapsed
BSRClusterComp-class0.0020.0010.002
BSRClusterComp0.1090.0090.118
BSRDataModel-class0.0230.0020.024
BSRDataModel0.0740.0030.078
BSRDataModelComp-class0.0020.0000.003
BSRDataModelComp0.0750.0020.078
BSRInference-class0.0020.0010.002
BSRInference1.1180.0271.169
BSRInferenceComp-class0.0030.0000.003
BSRInferenceComp0.4260.0500.488
BSRSignature-class0.0000.0000.001
BSRSignature0.0080.0000.009
BSRSignatureComp-class0.0020.0010.002
BSRSignatureComp0.0040.0000.005
LRinter0.0000.0000.001
LRinterScore0.0010.0010.001
LRinterShort0.0010.0000.002
addClusterComp0.0960.0060.108
alluvialPlot0.2010.0060.223
assignCellTypesToInteractions0.2470.0160.264
bubblePlotPathwaysLR0.1640.0010.168
cacheClear1.4670.0805.990
cacheInfo0.0320.0030.034
cacheVersion0.0930.0110.500
cellTypeFrequency0.2220.0080.238
cellularNetwork0.2070.0090.217
cellularNetworkTable0.1910.0060.205
chordDiagramLR0.3770.0080.402
coerce0.0010.0000.001
colClusterA000
colClusterB0.0000.0000.001
comparison000
comparisonName000
convertToHuman0.0720.0045.407
createResources0.0940.0120.779
differentialStats0.0010.0000.000
findOrthoGenes0.0580.0020.322
generateSpatialPlots0.6000.0280.662
getLRIntracellNetwork0.6500.1160.794
getLRNetwork0.0100.0010.011
getPathwayStats0.0050.0000.005
getResource0.1010.0060.109
inferenceParameters000
initialOrganism0.0010.0000.001
initialOrthologs0.0000.0000.001
learnParameters0.7470.0070.773
ligands000
logTransformed0.0010.0000.000
maxLigandSpatialCounts0.0200.0010.021
mu000
ncounts0.0010.0010.001
normalization000
parameters0.0010.0000.001
pathways000
receptors0.0000.0000.001
reduceToBestPathway0.0350.0020.037
reduceToLigand0.0100.0000.011
reduceToPathway0.0250.0000.025
reduceToReceptor0.0050.0010.006
relateToGeneSet0.0260.0010.028
removeClusterComp0.0960.0100.107
rescoreInference0.0140.0010.016
resetLRdb0.0080.0010.008
resetNetwork0.0020.0000.003
resetPathways0.1070.0050.122
resetToInitialOrganism0.0530.0040.057
scoreLRGeneSignatures0.6060.0140.677
scoreSignatures0.1160.0060.134
separatedLRPlot0.5700.0270.627
signatureHeatmaps0.0130.0010.014
simpleHeatmap2.9870.0823.173
smoothSpatialCounts0.0180.0020.019
sourceComparisonName000
spatialAssociation0.0240.0010.026
spatialAssociationPlot1.3560.0231.441
spatialDiversityPlot0.3280.0140.343
spatialIndexPlot0.4570.0140.482
spatialPlot0.3830.0200.417
summarizedCellularNetwork0.2040.0080.214
tgCorr000
tgExpr000
tgGenes000
tgLogFC000
tgPval000
updateInference0.0360.0030.040