Back to Multiple platform build/check report for BioC 3.21:   simplified   long
[A]BCDEFGHIJKLMNOPQRSTUVWXYZ

This page was generated on 2025-02-17 11:41 -0500 (Mon, 17 Feb 2025).

HostnameOSArch (*)R versionInstalled pkgs
nebbiolo1Linux (Ubuntu 24.04.1 LTS)x86_64R Under development (unstable) (2025-01-20 r87609) -- "Unsuffered Consequences" 4720
palomino7Windows Server 2022 Datacenterx64R Under development (unstable) (2025-01-21 r87610 ucrt) -- "Unsuffered Consequences" 4482
lconwaymacOS 12.7.1 Montereyx86_64R Under development (unstable) (2025-01-22 r87618) -- "Unsuffered Consequences" 4493
kjohnson3macOS 13.7.1 Venturaarm64R Under development (unstable) (2025-01-20 r87609) -- "Unsuffered Consequences" 4446
Click on any hostname to see more info about the system (e.g. compilers)      (*) as reported by 'uname -p', except on Windows and Mac OS X

Package 58/2295HostnameOS / ArchINSTALLBUILDCHECKBUILD BIN
AlpsNMR 4.9.0  (landing page)
Sergio Oller Moreno
Snapshot Date: 2025-02-16 13:40 -0500 (Sun, 16 Feb 2025)
git_url: https://git.bioconductor.org/packages/AlpsNMR
git_branch: devel
git_last_commit: f8b70f5
git_last_commit_date: 2024-10-29 10:53:23 -0500 (Tue, 29 Oct 2024)
nebbiolo1Linux (Ubuntu 24.04.1 LTS) / x86_64  OK    OK    OK  UNNEEDED, same version is already published
palomino7Windows Server 2022 Datacenter / x64  OK    OK    OK    OK  UNNEEDED, same version is already published
lconwaymacOS 12.7.1 Monterey / x86_64  OK    OK    OK    OK  UNNEEDED, same version is already published
kjohnson3macOS 13.7.1 Ventura / arm64  OK    OK    OK    OK  UNNEEDED, same version is already published


CHECK results for AlpsNMR on palomino7

To the developers/maintainers of the AlpsNMR package:
- Allow up to 24 hours (and sometimes 48 hours) for your latest push to git@git.bioconductor.org:packages/AlpsNMR.git to reflect on this report. See Troubleshooting Build Report for more information.
- Use the following Renviron settings to reproduce errors and warnings.
- If 'R CMD check' started to fail recently on the Linux builder(s) over a missing dependency, add the missing dependency to 'Suggests:' in your DESCRIPTION file. See Renviron.bioc for more information.

raw results


Summary

Package: AlpsNMR
Version: 4.9.0
Command: E:\biocbuild\bbs-3.21-bioc\R\bin\R.exe CMD check --no-multiarch --install=check:AlpsNMR.install-out.txt --library=E:\biocbuild\bbs-3.21-bioc\R\library --no-vignettes --timings AlpsNMR_4.9.0.tar.gz
StartedAt: 2025-02-16 22:26:54 -0500 (Sun, 16 Feb 2025)
EndedAt: 2025-02-16 22:36:49 -0500 (Sun, 16 Feb 2025)
EllapsedTime: 595.1 seconds
RetCode: 0
Status:   OK  
CheckDir: AlpsNMR.Rcheck
Warnings: 0

Command output

##############################################################################
##############################################################################
###
### Running command:
###
###   E:\biocbuild\bbs-3.21-bioc\R\bin\R.exe CMD check --no-multiarch --install=check:AlpsNMR.install-out.txt --library=E:\biocbuild\bbs-3.21-bioc\R\library --no-vignettes --timings AlpsNMR_4.9.0.tar.gz
###
##############################################################################
##############################################################################


* using log directory 'E:/biocbuild/bbs-3.21-bioc/meat/AlpsNMR.Rcheck'
* using R Under development (unstable) (2025-01-21 r87610 ucrt)
* using platform: x86_64-w64-mingw32
* R was compiled by
    gcc.exe (GCC) 13.3.0
    GNU Fortran (GCC) 13.3.0
* running under: Windows Server 2022 x64 (build 20348)
* using session charset: UTF-8
* using option '--no-vignettes'
* checking for file 'AlpsNMR/DESCRIPTION' ... OK
* checking extension type ... Package
* this is package 'AlpsNMR' version '4.9.0'
* package encoding: UTF-8
* checking package namespace information ... OK
* checking package dependencies ... OK
* checking if this is a source package ... OK
* checking if there is a namespace ... OK
* checking for hidden files and directories ... OK
* checking for portable file names ... OK
* checking whether package 'AlpsNMR' can be installed ... OK
* checking installed package size ... OK
* checking package directory ... OK
* checking 'build' directory ... OK
* checking DESCRIPTION meta-information ... OK
* checking top-level files ... OK
* checking for left-over files ... OK
* checking index information ... OK
* checking package subdirectories ... OK
* checking code files for non-ASCII characters ... OK
* checking R files for syntax errors ... OK
* checking whether the package can be loaded ... OK
* checking whether the package can be loaded with stated dependencies ... OK
* checking whether the package can be unloaded cleanly ... OK
* checking whether the namespace can be loaded with stated dependencies ... OK
* checking whether the namespace can be unloaded cleanly ... OK
* checking dependencies in R code ... OK
* checking S3 generic/method consistency ... OK
* checking replacement functions ... OK
* checking foreign function calls ... OK
* checking R code for possible problems ... OK
* checking Rd files ... OK
* checking Rd metadata ... OK
* checking Rd cross-references ... NOTE
Found the following Rd file(s) with Rd \link{} targets missing package
anchors:
  filter.nmr_dataset_family.Rd: dplyr
Please provide package anchors for all Rd \link{} targets not in the
package itself and the base packages.
* checking for missing documentation entries ... OK
* checking for code/documentation mismatches ... OK
* checking Rd \usage sections ... OK
* checking Rd contents ... OK
* checking for unstated dependencies in examples ... OK
* checking contents of 'data' directory ... OK
* checking data for non-ASCII characters ... OK
* checking data for ASCII and uncompressed saves ... OK
* checking sizes of PDF files under 'inst/doc' ... OK
* checking files in 'vignettes' ... OK
* checking examples ... OK
Examples with CPU (user + system) or elapsed time > 5s
                                               user system elapsed
SummarizedExperiment_to_nmr_data_1r            7.00   0.27   11.73
nmr_pca_outliers_robust                        6.30   0.28   11.28
Peak_detection                                 2.91   0.23   28.17
plsda_auroc_vip_compare                        2.89   0.02   17.31
nmr_meta_add                                   2.17   0.10   11.12
permutation_test_model                         2.23   0.03   15.98
permutation_test_plot                          2.14   0.05   16.25
nmr_pca_build_model                            2.10   0.08   10.66
validate_nmr_dataset                           2.15   0.03   10.68
bp_VIP_analysis                                2.05   0.02   14.89
nmr_interpolate_1D                             1.91   0.07   10.58
nmr_read_samples                               1.87   0.03   10.89
plot_plsda_multimodel                          1.53   0.03   10.45
nmr_data_analysis                              1.55   0.00    9.69
plot_plsda_samples                             1.50   0.03   14.99
bp_kfold_VIP_analysis                          1.47   0.05    9.62
models_stability_plot_plsda                    1.41   0.02    9.51
SummarizedExperiment_to_nmr_dataset_peak_table 1.37   0.04    6.08
nmr_data_1r_to_SummarizedExperiment            1.30   0.02    5.73
nmr_dataset_peak_table_to_SummarizedExperiment 1.25   0.03    5.91
to_ChemoSpec                                   1.18   0.08    5.64
AlpsNMR-package                                1.13   0.11    5.64
nmr_pca_outliers_filter                        1.12   0.03    5.18
validate_nmr_dataset_family                    1.10   0.05    5.55
sub-.nmr_dataset_peak_table                    1.07   0.06    6.00
nmr_pca_outliers                               1.06   0.03    5.32
tidy.nmr_dataset_1D                            1.06   0.02    5.65
sub-.nmr_dataset_1D                            1.03   0.03    6.94
is.nmr_dataset_peak_table                      1.01   0.03    5.37
format.nmr_dataset_peak_table                  0.97   0.04    5.11
nmr_meta_get                                   0.95   0.04    5.34
print.nmr_dataset_1D                           0.93   0.05    5.20
nmr_export_data_1r                             0.94   0.02    5.35
is.nmr_dataset_1D                              0.92   0.03    5.27
print.nmr_dataset_peak_table                   0.90   0.05    5.27
filter.nmr_dataset_family                      0.87   0.08    5.32
new_nmr_dataset_peak_table                     0.89   0.04    5.27
print.nmr_dataset                              0.89   0.04    5.39
nmr_meta_groups                                0.87   0.05    5.17
load_and_save_functions                        0.88   0.03    5.33
format.nmr_dataset                             0.85   0.06    5.12
nmr_autophase                                  0.90   0.00    5.34
nmr_meta_get_column                            0.85   0.04    5.13
sub-.nmr_dataset                               0.86   0.03    5.23
format.nmr_dataset_1D                          0.81   0.06    5.28
nmr_meta_export                                0.83   0.04    5.02
plot_interactive                               0.84   0.03    5.59
* checking for unstated dependencies in 'tests' ... OK
* checking tests ...
  Running 'testthat.R'
 OK
* checking for unstated dependencies in vignettes ... OK
* checking package vignettes ... OK
* checking running R code from vignettes ... SKIPPED
* checking re-building of vignette outputs ... SKIPPED
* checking PDF version of manual ... OK
* DONE

Status: 1 NOTE
See
  'E:/biocbuild/bbs-3.21-bioc/meat/AlpsNMR.Rcheck/00check.log'
for details.


Installation output

AlpsNMR.Rcheck/00install.out

##############################################################################
##############################################################################
###
### Running command:
###
###   E:\biocbuild\bbs-3.21-bioc\R\bin\R.exe CMD INSTALL AlpsNMR
###
##############################################################################
##############################################################################


* installing to library 'E:/biocbuild/bbs-3.21-bioc/R/library'
* installing *source* package 'AlpsNMR' ...
** this is package 'AlpsNMR' version '4.9.0'
** using staged installation
** R
** data
** inst
** byte-compile and prepare package for lazy loading
** help
*** installing help indices
*** copying figures
** building package indices
** installing vignettes
** testing if installed package can be loaded from temporary location
** testing if installed package can be loaded from final location
** testing if installed package keeps a record of temporary installation path
* DONE (AlpsNMR)

Tests output

AlpsNMR.Rcheck/tests/testthat.Rout


R Under development (unstable) (2025-01-21 r87610 ucrt) -- "Unsuffered Consequences"
Copyright (C) 2025 The R Foundation for Statistical Computing
Platform: x86_64-w64-mingw32/x64

R is free software and comes with ABSOLUTELY NO WARRANTY.
You are welcome to redistribute it under certain conditions.
Type 'license()' or 'licence()' for distribution details.

R is a collaborative project with many contributors.
Type 'contributors()' for more information and
'citation()' on how to cite R or R packages in publications.

Type 'demo()' for some demos, 'help()' for on-line help, or
'help.start()' for an HTML browser interface to help.
Type 'q()' to quit R.

> library(testthat)
> library(AlpsNMR)

Attaching package: 'AlpsNMR'

The following object is masked from 'package:stats':

    filter

> 
> test_check("AlpsNMR")
[ FAIL 0 | WARN 0 | SKIP 1 | PASS 93 ]

══ Skipped tests (1) ═══════════════════════════════════════════════════════════
• On Bioconductor (1): 'test_rDolphin.R:2:5'

[ FAIL 0 | WARN 0 | SKIP 1 | PASS 93 ]
> 
> proc.time()
   user  system elapsed 
  22.51    1.64   82.62 

Example timings

AlpsNMR.Rcheck/AlpsNMR-Ex.timings

nameusersystemelapsed
AlpsNMR-package1.130.115.64
HMDB_blood000
HMDB_cell0.020.000.01
HMDB_urine000
Parameters_blood000
Parameters_cell000
Parameters_urine0.020.000.01
Peak_detection 2.91 0.2328.17
Pipelines000
ROI_blood000
ROI_cell0.000.020.02
ROI_urine000
SummarizedExperiment_to_nmr_data_1r 7.00 0.2711.73
SummarizedExperiment_to_nmr_dataset_peak_table1.370.046.08
bp_VIP_analysis 2.05 0.0214.89
bp_kfold_VIP_analysis1.470.059.62
download_MTBLS242000
file_lister0.100.000.09
files_to_rDolphin000
filter.nmr_dataset_family0.870.085.32
format.nmr_dataset0.850.065.12
format.nmr_dataset_1D0.810.065.28
format.nmr_dataset_peak_table0.970.045.11
get_integration_with_metadata0.030.010.05
hmdb0.100.090.19
is.nmr_dataset0.860.044.98
is.nmr_dataset_1D0.920.035.27
is.nmr_dataset_peak_table1.010.035.37
load_and_save_functions0.880.035.33
models_stability_plot_bootstrap000
models_stability_plot_plsda1.410.029.51
new_nmr_dataset000
new_nmr_dataset_1D000
new_nmr_dataset_peak_table0.890.045.27
nmr_autophase0.900.005.34
nmr_baseline_estimation0.010.000.08
nmr_baseline_removal000
nmr_baseline_threshold000
nmr_baseline_threshold_plot0.220.000.22
nmr_batman000
nmr_batman_options000
nmr_build_peak_table0.030.000.03
nmr_data0.030.010.05
nmr_data_1r_to_SummarizedExperiment1.300.025.73
nmr_data_analysis1.550.009.69
nmr_dataset000
nmr_dataset_1D000
nmr_dataset_peak_table_to_SummarizedExperiment1.250.035.91
nmr_exclude_region0.010.000.01
nmr_export_data_1r0.940.025.35
nmr_get_peak_distances0.020.000.01
nmr_identify_regions_blood0.010.000.02
nmr_identify_regions_cell000
nmr_identify_regions_urine0.030.000.03
nmr_integrate_regions000
nmr_interpolate_1D 1.91 0.0710.58
nmr_meta_add 2.17 0.1011.12
nmr_meta_export0.830.045.02
nmr_meta_get0.950.045.34
nmr_meta_get_column0.850.045.13
nmr_meta_groups0.870.055.17
nmr_normalize0.250.000.25
nmr_pca_build_model 2.10 0.0810.66
nmr_pca_outliers1.060.035.32
nmr_pca_outliers_filter1.120.035.18
nmr_pca_outliers_plot000
nmr_pca_outliers_robust 6.30 0.2811.28
nmr_pca_plots0.440.000.43
nmr_peak_clustering0.090.000.10
nmr_ppm_resolution0.020.000.01
nmr_read_bruker_fid000
nmr_read_samples 1.87 0.0310.89
nmr_zip_bruker_samples0.020.050.57
peaklist_accept_peaks000
permutation_test_model 2.23 0.0315.98
permutation_test_plot 2.14 0.0516.25
plot.nmr_dataset_1D0.020.000.02
plot_bootstrap_multimodel000
plot_interactive0.840.035.59
plot_plsda_multimodel 1.53 0.0310.45
plot_plsda_samples 1.50 0.0314.99
plot_vip_scores000
plot_webgl000
plsda_auroc_vip_compare 2.89 0.0217.31
plsda_auroc_vip_method000
ppm_resolution0.000.000.02
print.nmr_dataset0.890.045.39
print.nmr_dataset_1D0.930.055.20
print.nmr_dataset_peak_table0.900.055.27
random_subsampling000
save_files_to_rDolphin000
save_profiling_output000
sub-.nmr_dataset0.860.035.23
sub-.nmr_dataset_1D1.030.036.94
sub-.nmr_dataset_peak_table1.070.066.00
tidy.nmr_dataset_1D1.060.025.65
to_ASICS0.900.121.04
to_ChemoSpec1.180.085.64
validate_nmr_dataset 2.15 0.0310.68
validate_nmr_dataset_family1.100.055.55
validate_nmr_dataset_peak_table000
zzz002