| Back to Multiple platform build/check report for BioC 3.23: simplified long |
|
This page was generated on 2025-11-28 11:37 -0500 (Fri, 28 Nov 2025).
| Hostname | OS | Arch (*) | R version | Installed pkgs |
|---|---|---|---|---|
| nebbiolo1 | Linux (Ubuntu 24.04.3 LTS) | x86_64 | R Under development (unstable) (2025-10-20 r88955) -- "Unsuffered Consequences" | 4866 |
| lconway | macOS 12.7.6 Monterey | x86_64 | R Under development (unstable) (2025-10-21 r88958) -- "Unsuffered Consequences" | 4614 |
| kjohnson3 | macOS 13.7.7 Ventura | arm64 | R Under development (unstable) (2025-11-04 r88984) -- "Unsuffered Consequences" | 4571 |
| Click on any hostname to see more info about the system (e.g. compilers) (*) as reported by 'uname -p', except on Windows and Mac OS X | ||||
| Package 59/2328 | Hostname | OS / Arch | INSTALL | BUILD | CHECK | BUILD BIN | ||||||||
| AlpsNMR 4.13.0 (landing page) Sergio Oller Moreno
| nebbiolo1 | Linux (Ubuntu 24.04.3 LTS) / x86_64 | OK | OK | OK | |||||||||
| lconway | macOS 12.7.6 Monterey / x86_64 | OK | OK | OK | OK | |||||||||
| kjohnson3 | macOS 13.7.7 Ventura / arm64 | OK | OK | OK | OK | |||||||||
|
To the developers/maintainers of the AlpsNMR package: - Allow up to 24 hours (and sometimes 48 hours) for your latest push to git@git.bioconductor.org:packages/AlpsNMR.git to reflect on this report. See Troubleshooting Build Report for more information. - Use the following Renviron settings to reproduce errors and warnings. - If 'R CMD check' started to fail recently on the Linux builder(s) over a missing dependency, add the missing dependency to 'Suggests:' in your DESCRIPTION file. See Renviron.bioc for more information. |
| Package: AlpsNMR |
| Version: 4.13.0 |
| Command: /home/biocbuild/bbs-3.23-bioc/R/bin/R CMD check --install=check:AlpsNMR.install-out.txt --library=/home/biocbuild/bbs-3.23-bioc/R/site-library --timings AlpsNMR_4.13.0.tar.gz |
| StartedAt: 2025-11-27 20:56:56 -0500 (Thu, 27 Nov 2025) |
| EndedAt: 2025-11-27 21:01:49 -0500 (Thu, 27 Nov 2025) |
| EllapsedTime: 293.4 seconds |
| RetCode: 0 |
| Status: OK |
| CheckDir: AlpsNMR.Rcheck |
| Warnings: 0 |
##############################################################################
##############################################################################
###
### Running command:
###
### /home/biocbuild/bbs-3.23-bioc/R/bin/R CMD check --install=check:AlpsNMR.install-out.txt --library=/home/biocbuild/bbs-3.23-bioc/R/site-library --timings AlpsNMR_4.13.0.tar.gz
###
##############################################################################
##############################################################################
* using log directory ‘/home/biocbuild/bbs-3.23-bioc/meat/AlpsNMR.Rcheck’
* using R Under development (unstable) (2025-10-20 r88955)
* using platform: x86_64-pc-linux-gnu
* R was compiled by
gcc (Ubuntu 13.3.0-6ubuntu2~24.04) 13.3.0
GNU Fortran (Ubuntu 13.3.0-6ubuntu2~24.04) 13.3.0
* running under: Ubuntu 24.04.3 LTS
* using session charset: UTF-8
* checking for file ‘AlpsNMR/DESCRIPTION’ ... OK
* checking extension type ... Package
* this is package ‘AlpsNMR’ version ‘4.13.0’
* package encoding: UTF-8
* checking package namespace information ... OK
* checking package dependencies ... INFO
Imports includes 26 non-default packages.
Importing from so many packages makes the package vulnerable to any of
them becoming unavailable. Move as many as possible to Suggests and
use conditionally.
* checking if this is a source package ... OK
* checking if there is a namespace ... OK
* checking for hidden files and directories ... OK
* checking for portable file names ... OK
* checking for sufficient/correct file permissions ... OK
* checking whether package ‘AlpsNMR’ can be installed ... OK
* checking installed package size ... OK
* checking package directory ... OK
* checking ‘build’ directory ... OK
* checking DESCRIPTION meta-information ... OK
* checking top-level files ... OK
* checking for left-over files ... OK
* checking index information ... OK
* checking package subdirectories ... OK
* checking code files for non-ASCII characters ... OK
* checking R files for syntax errors ... OK
* checking whether the package can be loaded ... OK
* checking whether the package can be loaded with stated dependencies ... OK
* checking whether the package can be unloaded cleanly ... OK
* checking whether the namespace can be loaded with stated dependencies ... OK
* checking whether the namespace can be unloaded cleanly ... OK
* checking loading without being on the library search path ... OK
* checking dependencies in R code ... OK
* checking S3 generic/method consistency ... OK
* checking replacement functions ... OK
* checking foreign function calls ... OK
* checking R code for possible problems ... OK
* checking Rd files ... OK
* checking Rd metadata ... OK
* checking Rd cross-references ... NOTE
Non-topic package-anchored link(s) in Rd file 'reexports.Rd':
‘[magrittr:pipe]{%>%}’
See section 'Cross-references' in the 'Writing R Extensions' manual.
Found the following Rd file(s) with Rd \link{} targets missing package
anchors:
filter.nmr_dataset_family.Rd: dplyr
Please provide package anchors for all Rd \link{} targets not in the
package itself and the base packages.
* checking for missing documentation entries ... OK
* checking for code/documentation mismatches ... OK
* checking Rd \usage sections ... OK
* checking Rd contents ... OK
* checking for unstated dependencies in examples ... OK
* checking contents of ‘data’ directory ... OK
* checking data for non-ASCII characters ... OK
* checking data for ASCII and uncompressed saves ... OK
* checking sizes of PDF files under ‘inst/doc’ ...* checking files in ‘vignettes’ ... OK
* checking examples ... OK
Examples with CPU (user + system) or elapsed time > 5s
user system elapsed
Peak_detection 7.634 1.865 6.941
SummarizedExperiment_to_nmr_data_1r 6.731 1.058 7.153
nmr_interpolate_1D 4.199 3.545 3.862
nmr_pca_outliers_robust 5.102 1.713 5.606
permutation_test_plot 3.380 2.094 1.809
* checking for unstated dependencies in ‘tests’ ... OK
* checking tests ...
Running ‘testthat.R’
OK
* checking for unstated dependencies in vignettes ... OK
* checking package vignettes ... OK
* checking re-building of vignette outputs ... OK
* checking PDF version of manual ... OK
* DONE
Status: 1 NOTE
See
‘/home/biocbuild/bbs-3.23-bioc/meat/AlpsNMR.Rcheck/00check.log’
for details.
AlpsNMR.Rcheck/00install.out
############################################################################## ############################################################################## ### ### Running command: ### ### /home/biocbuild/bbs-3.23-bioc/R/bin/R CMD INSTALL AlpsNMR ### ############################################################################## ############################################################################## * installing to library ‘/home/biocbuild/bbs-3.23-bioc/R/site-library’ * installing *source* package ‘AlpsNMR’ ... ** this is package ‘AlpsNMR’ version ‘4.13.0’ ** using staged installation ** R ** data ** inst ** byte-compile and prepare package for lazy loading ** help *** installing help indices *** copying figures ** building package indices ** installing vignettes ** testing if installed package can be loaded from temporary location ** testing if installed package can be loaded from final location ** testing if installed package keeps a record of temporary installation path * DONE (AlpsNMR)
AlpsNMR.Rcheck/tests/testthat.Rout
R Under development (unstable) (2025-10-20 r88955) -- "Unsuffered Consequences"
Copyright (C) 2025 The R Foundation for Statistical Computing
Platform: x86_64-pc-linux-gnu
R is free software and comes with ABSOLUTELY NO WARRANTY.
You are welcome to redistribute it under certain conditions.
Type 'license()' or 'licence()' for distribution details.
R is a collaborative project with many contributors.
Type 'contributors()' for more information and
'citation()' on how to cite R or R packages in publications.
Type 'demo()' for some demos, 'help()' for on-line help, or
'help.start()' for an HTML browser interface to help.
Type 'q()' to quit R.
> library(testthat)
> library(AlpsNMR)
Attaching package: 'AlpsNMR'
The following object is masked from 'package:stats':
filter
>
> test_check("AlpsNMR")
[ FAIL 0 | WARN 0 | SKIP 1 | PASS 93 ]
══ Skipped tests (1) ═══════════════════════════════════════════════════════════
• On Bioconductor (1): 'test_rDolphin.R:2:5'
[ FAIL 0 | WARN 0 | SKIP 1 | PASS 93 ]
>
> proc.time()
user system elapsed
21.558 7.887 21.830
AlpsNMR.Rcheck/AlpsNMR-Ex.timings
| name | user | system | elapsed | |
| AlpsNMR-package | 1.841 | 0.351 | 1.673 | |
| HMDB_blood | 0.006 | 0.002 | 0.008 | |
| HMDB_cell | 0.003 | 0.000 | 0.003 | |
| HMDB_urine | 0.003 | 0.001 | 0.005 | |
| Parameters_blood | 0.002 | 0.000 | 0.003 | |
| Parameters_cell | 0.001 | 0.001 | 0.002 | |
| Parameters_urine | 0.002 | 0.000 | 0.002 | |
| Peak_detection | 7.634 | 1.865 | 6.941 | |
| Pipelines | 0.000 | 0.002 | 0.003 | |
| ROI_blood | 0.002 | 0.003 | 0.005 | |
| ROI_cell | 0.004 | 0.000 | 0.004 | |
| ROI_urine | 0.002 | 0.002 | 0.004 | |
| SummarizedExperiment_to_nmr_data_1r | 6.731 | 1.058 | 7.153 | |
| SummarizedExperiment_to_nmr_dataset_peak_table | 1.190 | 0.623 | 0.993 | |
| bp_VIP_analysis | 1.525 | 0.955 | 0.946 | |
| bp_kfold_VIP_analysis | 0.817 | 0.565 | 0.595 | |
| download_MTBLS242 | 0.000 | 0.001 | 0.000 | |
| file_lister | 0.055 | 0.018 | 0.073 | |
| files_to_rDolphin | 0.000 | 0.001 | 0.001 | |
| filter.nmr_dataset_family | 1.613 | 0.746 | 1.542 | |
| format.nmr_dataset | 0.709 | 0.468 | 0.541 | |
| format.nmr_dataset_1D | 0.740 | 0.542 | 0.660 | |
| format.nmr_dataset_peak_table | 0.780 | 0.505 | 0.653 | |
| get_integration_with_metadata | 0.026 | 0.005 | 0.031 | |
| hmdb | 0.047 | 0.014 | 0.061 | |
| is.nmr_dataset | 0.683 | 0.491 | 0.527 | |
| is.nmr_dataset_1D | 0.802 | 0.610 | 0.635 | |
| is.nmr_dataset_peak_table | 0.863 | 0.619 | 0.712 | |
| load_and_save_functions | 0.759 | 0.571 | 0.558 | |
| models_stability_plot_bootstrap | 0.001 | 0.001 | 0.002 | |
| models_stability_plot_plsda | 0.362 | 0.453 | 0.442 | |
| new_nmr_dataset | 0.002 | 0.000 | 0.002 | |
| new_nmr_dataset_1D | 0.002 | 0.000 | 0.001 | |
| new_nmr_dataset_peak_table | 0.818 | 0.629 | 0.748 | |
| nmr_autophase | 0.214 | 0.101 | 0.290 | |
| nmr_baseline_estimation | 0.009 | 0.002 | 0.010 | |
| nmr_baseline_removal | 0.005 | 0.000 | 0.005 | |
| nmr_baseline_threshold | 0.001 | 0.000 | 0.001 | |
| nmr_baseline_threshold_plot | 0.303 | 0.091 | 0.394 | |
| nmr_batman | 0.003 | 0.000 | 0.003 | |
| nmr_batman_options | 0 | 0 | 0 | |
| nmr_build_peak_table | 0.035 | 0.005 | 0.039 | |
| nmr_data | 0.067 | 0.027 | 0.093 | |
| nmr_data_1r_to_SummarizedExperiment | 1.006 | 0.587 | 0.904 | |
| nmr_data_analysis | 0.418 | 0.542 | 0.442 | |
| nmr_dataset | 0.002 | 0.000 | 0.001 | |
| nmr_dataset_1D | 0.001 | 0.000 | 0.001 | |
| nmr_dataset_peak_table_to_SummarizedExperiment | 0.984 | 0.585 | 0.883 | |
| nmr_exclude_region | 0.007 | 0.001 | 0.008 | |
| nmr_export_data_1r | 0.776 | 0.689 | 0.655 | |
| nmr_get_peak_distances | 0.009 | 0.000 | 0.010 | |
| nmr_identify_regions_blood | 0.014 | 0.001 | 0.014 | |
| nmr_identify_regions_cell | 0.008 | 0.002 | 0.010 | |
| nmr_identify_regions_urine | 0.012 | 0.001 | 0.014 | |
| nmr_integrate_regions | 0.005 | 0.002 | 0.008 | |
| nmr_interpolate_1D | 4.199 | 3.545 | 3.862 | |
| nmr_meta_add | 1.773 | 1.128 | 1.570 | |
| nmr_meta_export | 0.716 | 0.556 | 0.545 | |
| nmr_meta_get | 0.734 | 0.508 | 0.554 | |
| nmr_meta_get_column | 0.734 | 0.616 | 0.635 | |
| nmr_meta_groups | 0.687 | 0.645 | 0.581 | |
| nmr_normalize | 0.309 | 0.086 | 0.396 | |
| nmr_pca_build_model | 1.781 | 1.473 | 1.646 | |
| nmr_pca_outliers | 0.827 | 0.612 | 0.738 | |
| nmr_pca_outliers_filter | 0.996 | 0.712 | 0.926 | |
| nmr_pca_outliers_plot | 0 | 0 | 0 | |
| nmr_pca_outliers_robust | 5.102 | 1.713 | 5.606 | |
| nmr_pca_plots | 0.490 | 0.014 | 0.504 | |
| nmr_peak_clustering | 0.075 | 0.000 | 0.074 | |
| nmr_ppm_resolution | 0.007 | 0.001 | 0.008 | |
| nmr_read_bruker_fid | 0.001 | 0.000 | 0.000 | |
| nmr_read_samples | 1.339 | 1.195 | 1.080 | |
| nmr_zip_bruker_samples | 0.253 | 0.016 | 0.269 | |
| peaklist_accept_peaks | 0.003 | 0.002 | 0.005 | |
| permutation_test_model | 2.388 | 1.760 | 1.837 | |
| permutation_test_plot | 3.380 | 2.094 | 1.809 | |
| plot.nmr_dataset_1D | 0.002 | 0.000 | 0.002 | |
| plot_bootstrap_multimodel | 0.003 | 0.001 | 0.005 | |
| plot_interactive | 1.722 | 1.085 | 0.764 | |
| plot_plsda_multimodel | 0.199 | 0.441 | 0.348 | |
| plot_plsda_samples | 0.110 | 0.178 | 0.231 | |
| plot_vip_scores | 0.001 | 0.002 | 0.002 | |
| plot_webgl | 0.000 | 0.001 | 0.002 | |
| plsda_auroc_vip_compare | 0.540 | 0.464 | 0.809 | |
| plsda_auroc_vip_method | 0 | 0 | 0 | |
| ppm_resolution | 0.001 | 0.003 | 0.004 | |
| print.nmr_dataset | 0.656 | 0.530 | 0.510 | |
| print.nmr_dataset_1D | 0.792 | 0.607 | 0.633 | |
| print.nmr_dataset_peak_table | 0.836 | 0.569 | 0.663 | |
| random_subsampling | 0.002 | 0.002 | 0.004 | |
| save_files_to_rDolphin | 0.000 | 0.000 | 0.001 | |
| save_profiling_output | 0 | 0 | 0 | |
| sub-.nmr_dataset | 0.760 | 0.518 | 0.556 | |
| sub-.nmr_dataset_1D | 0.687 | 0.466 | 0.537 | |
| sub-.nmr_dataset_peak_table | 0.863 | 0.623 | 0.819 | |
| tidy.nmr_dataset_1D | 0.882 | 0.763 | 0.800 | |
| to_ASICS | 0.929 | 0.179 | 1.109 | |
| to_ChemoSpec | 1.204 | 1.107 | 1.213 | |
| validate_nmr_dataset | 1.611 | 1.358 | 1.283 | |
| validate_nmr_dataset_family | 0.927 | 0.809 | 0.816 | |
| validate_nmr_dataset_peak_table | 0.001 | 0.000 | 0.001 | |
| zzz | 0.001 | 0.000 | 2.003 | |