| Back to Multiple platform build/check report for BioC 3.23: simplified long |
|
This page was generated on 2025-11-28 11:38 -0500 (Fri, 28 Nov 2025).
| Hostname | OS | Arch (*) | R version | Installed pkgs |
|---|---|---|---|---|
| nebbiolo1 | Linux (Ubuntu 24.04.3 LTS) | x86_64 | R Under development (unstable) (2025-10-20 r88955) -- "Unsuffered Consequences" | 4866 |
| lconway | macOS 12.7.6 Monterey | x86_64 | R Under development (unstable) (2025-10-21 r88958) -- "Unsuffered Consequences" | 4614 |
| kjohnson3 | macOS 13.7.7 Ventura | arm64 | R Under development (unstable) (2025-11-04 r88984) -- "Unsuffered Consequences" | 4571 |
| Click on any hostname to see more info about the system (e.g. compilers) (*) as reported by 'uname -p', except on Windows and Mac OS X | ||||
| Package 59/2328 | Hostname | OS / Arch | INSTALL | BUILD | CHECK | BUILD BIN | ||||||||
| AlpsNMR 4.13.0 (landing page) Sergio Oller Moreno
| nebbiolo1 | Linux (Ubuntu 24.04.3 LTS) / x86_64 | OK | OK | OK | |||||||||
| lconway | macOS 12.7.6 Monterey / x86_64 | OK | OK | OK | OK | |||||||||
| kjohnson3 | macOS 13.7.7 Ventura / arm64 | OK | OK | OK | OK | |||||||||
|
To the developers/maintainers of the AlpsNMR package: - Allow up to 24 hours (and sometimes 48 hours) for your latest push to git@git.bioconductor.org:packages/AlpsNMR.git to reflect on this report. See Troubleshooting Build Report for more information. - Use the following Renviron settings to reproduce errors and warnings. - If 'R CMD check' started to fail recently on the Linux builder(s) over a missing dependency, add the missing dependency to 'Suggests:' in your DESCRIPTION file. See Renviron.bioc for more information. |
| Package: AlpsNMR |
| Version: 4.13.0 |
| Command: /Library/Frameworks/R.framework/Resources/bin/R CMD check --install=check:AlpsNMR.install-out.txt --library=/Library/Frameworks/R.framework/Resources/library --no-vignettes --timings AlpsNMR_4.13.0.tar.gz |
| StartedAt: 2025-11-27 20:00:51 -0500 (Thu, 27 Nov 2025) |
| EndedAt: 2025-11-27 20:05:08 -0500 (Thu, 27 Nov 2025) |
| EllapsedTime: 256.8 seconds |
| RetCode: 0 |
| Status: OK |
| CheckDir: AlpsNMR.Rcheck |
| Warnings: 0 |
##############################################################################
##############################################################################
###
### Running command:
###
### /Library/Frameworks/R.framework/Resources/bin/R CMD check --install=check:AlpsNMR.install-out.txt --library=/Library/Frameworks/R.framework/Resources/library --no-vignettes --timings AlpsNMR_4.13.0.tar.gz
###
##############################################################################
##############################################################################
* using log directory ‘/Users/biocbuild/bbs-3.23-bioc/meat/AlpsNMR.Rcheck’
* using R Under development (unstable) (2025-10-21 r88958)
* using platform: x86_64-apple-darwin20
* R was compiled by
Apple clang version 14.0.0 (clang-1400.0.29.202)
GNU Fortran (GCC) 14.2.0
* running under: macOS Ventura 13.7.8
* using session charset: UTF-8
* using option ‘--no-vignettes’
* checking for file ‘AlpsNMR/DESCRIPTION’ ... OK
* checking extension type ... Package
* this is package ‘AlpsNMR’ version ‘4.13.0’
* package encoding: UTF-8
* checking package namespace information ... OK
* checking package dependencies ... INFO
Imports includes 26 non-default packages.
Importing from so many packages makes the package vulnerable to any of
them becoming unavailable. Move as many as possible to Suggests and
use conditionally.
* checking if this is a source package ... OK
* checking if there is a namespace ... OK
* checking for hidden files and directories ... OK
* checking for portable file names ... OK
* checking for sufficient/correct file permissions ... OK
* checking whether package ‘AlpsNMR’ can be installed ... OK
* checking installed package size ... OK
* checking package directory ... OK
* checking ‘build’ directory ... OK
* checking DESCRIPTION meta-information ... OK
* checking top-level files ... OK
* checking for left-over files ... OK
* checking index information ... OK
* checking package subdirectories ... OK
* checking code files for non-ASCII characters ... OK
* checking R files for syntax errors ... OK
* checking whether the package can be loaded ... OK
* checking whether the package can be loaded with stated dependencies ... OK
* checking whether the package can be unloaded cleanly ... OK
* checking whether the namespace can be loaded with stated dependencies ... OK
* checking whether the namespace can be unloaded cleanly ... OK
* checking dependencies in R code ... OK
* checking S3 generic/method consistency ... OK
* checking replacement functions ... OK
* checking foreign function calls ... OK
* checking R code for possible problems ... OK
* checking Rd files ... OK
* checking Rd metadata ... OK
* checking Rd cross-references ... NOTE
Non-topic package-anchored link(s) in Rd file 'reexports.Rd':
‘[magrittr:pipe]{%>%}’
See section 'Cross-references' in the 'Writing R Extensions' manual.
Found the following Rd file(s) with Rd \link{} targets missing package
anchors:
filter.nmr_dataset_family.Rd: dplyr
Please provide package anchors for all Rd \link{} targets not in the
package itself and the base packages.
* checking for missing documentation entries ... OK
* checking for code/documentation mismatches ... OK
* checking Rd \usage sections ... OK
* checking Rd contents ... OK
* checking for unstated dependencies in examples ... OK
* checking contents of ‘data’ directory ... OK
* checking data for non-ASCII characters ... OK
* checking data for ASCII and uncompressed saves ... OK
* checking sizes of PDF files under ‘inst/doc’ ... OK
* checking files in ‘vignettes’ ... OK
* checking examples ... OK
Examples with CPU (user + system) or elapsed time > 5s
user system elapsed
Peak_detection 11.288 3.857 11.989
permutation_test_plot 8.037 4.381 2.667
SummarizedExperiment_to_nmr_data_1r 7.791 1.154 9.359
filter.nmr_dataset_family 4.577 4.114 6.147
nmr_pca_outliers_robust 7.015 1.289 7.174
* checking for unstated dependencies in ‘tests’ ... OK
* checking tests ...
Running ‘testthat.R’
OK
* checking for unstated dependencies in vignettes ... OK
* checking package vignettes ... OK
* checking running R code from vignettes ... SKIPPED
* checking re-building of vignette outputs ... SKIPPED
* checking PDF version of manual ... OK
* DONE
Status: 1 NOTE
See
‘/Users/biocbuild/bbs-3.23-bioc/meat/AlpsNMR.Rcheck/00check.log’
for details.
AlpsNMR.Rcheck/00install.out
############################################################################## ############################################################################## ### ### Running command: ### ### /Library/Frameworks/R.framework/Resources/bin/R CMD INSTALL AlpsNMR ### ############################################################################## ############################################################################## * installing to library ‘/Library/Frameworks/R.framework/Versions/4.6-x86_64/Resources/library’ * installing *source* package ‘AlpsNMR’ ... ** this is package ‘AlpsNMR’ version ‘4.13.0’ ** using staged installation ** R ** data ** inst ** byte-compile and prepare package for lazy loading ** help *** installing help indices *** copying figures ** building package indices ** installing vignettes ** testing if installed package can be loaded from temporary location ** testing if installed package can be loaded from final location ** testing if installed package keeps a record of temporary installation path * DONE (AlpsNMR)
AlpsNMR.Rcheck/tests/testthat.Rout
R Under development (unstable) (2025-10-21 r88958) -- "Unsuffered Consequences"
Copyright (C) 2025 The R Foundation for Statistical Computing
Platform: x86_64-apple-darwin20
R is free software and comes with ABSOLUTELY NO WARRANTY.
You are welcome to redistribute it under certain conditions.
Type 'license()' or 'licence()' for distribution details.
R is a collaborative project with many contributors.
Type 'contributors()' for more information and
'citation()' on how to cite R or R packages in publications.
Type 'demo()' for some demos, 'help()' for on-line help, or
'help.start()' for an HTML browser interface to help.
Type 'q()' to quit R.
> library(testthat)
> library(AlpsNMR)
Attaching package: 'AlpsNMR'
The following object is masked from 'package:stats':
filter
>
> test_check("AlpsNMR")
[ FAIL 0 | WARN 0 | SKIP 1 | PASS 93 ]
══ Skipped tests (1) ═══════════════════════════════════════════════════════════
• On Bioconductor (1): 'test_rDolphin.R:2:5'
[ FAIL 0 | WARN 0 | SKIP 1 | PASS 93 ]
>
> proc.time()
user system elapsed
29.126 13.468 30.752
AlpsNMR.Rcheck/AlpsNMR-Ex.timings
| name | user | system | elapsed | |
| AlpsNMR-package | 2.302 | 0.644 | 2.184 | |
| HMDB_blood | 0.007 | 0.003 | 0.012 | |
| HMDB_cell | 0.004 | 0.002 | 0.008 | |
| HMDB_urine | 0.005 | 0.003 | 0.008 | |
| Parameters_blood | 0.002 | 0.001 | 0.004 | |
| Parameters_cell | 0.002 | 0.002 | 0.004 | |
| Parameters_urine | 0.001 | 0.002 | 0.003 | |
| Peak_detection | 11.288 | 3.857 | 11.989 | |
| Pipelines | 0.002 | 0.001 | 0.003 | |
| ROI_blood | 0.003 | 0.002 | 0.007 | |
| ROI_cell | 0.003 | 0.002 | 0.006 | |
| ROI_urine | 0.004 | 0.002 | 0.009 | |
| SummarizedExperiment_to_nmr_data_1r | 7.791 | 1.154 | 9.359 | |
| SummarizedExperiment_to_nmr_dataset_peak_table | 1.712 | 1.179 | 1.558 | |
| bp_VIP_analysis | 2.135 | 1.388 | 1.429 | |
| bp_kfold_VIP_analysis | 1.416 | 0.946 | 1.087 | |
| download_MTBLS242 | 0.000 | 0.000 | 0.001 | |
| file_lister | 0.081 | 0.018 | 0.100 | |
| files_to_rDolphin | 0 | 0 | 0 | |
| filter.nmr_dataset_family | 4.577 | 4.114 | 6.147 | |
| format.nmr_dataset | 1.025 | 0.903 | 0.878 | |
| format.nmr_dataset_1D | 1.185 | 0.883 | 0.973 | |
| format.nmr_dataset_peak_table | 0.970 | 0.707 | 1.119 | |
| get_integration_with_metadata | 0.047 | 0.028 | 0.082 | |
| hmdb | 0.074 | 0.029 | 0.103 | |
| is.nmr_dataset | 1.423 | 1.317 | 1.101 | |
| is.nmr_dataset_1D | 1.086 | 0.759 | 0.917 | |
| is.nmr_dataset_peak_table | 1.252 | 0.872 | 1.078 | |
| load_and_save_functions | 1.055 | 0.829 | 0.864 | |
| models_stability_plot_bootstrap | 0.003 | 0.001 | 0.003 | |
| models_stability_plot_plsda | 0.555 | 0.516 | 0.548 | |
| new_nmr_dataset | 0.002 | 0.001 | 0.006 | |
| new_nmr_dataset_1D | 0.002 | 0.001 | 0.002 | |
| new_nmr_dataset_peak_table | 1.242 | 0.905 | 1.056 | |
| nmr_autophase | 0.314 | 0.240 | 0.549 | |
| nmr_baseline_estimation | 0.012 | 0.005 | 0.018 | |
| nmr_baseline_removal | 0.007 | 0.002 | 0.011 | |
| nmr_baseline_threshold | 0.001 | 0.001 | 0.002 | |
| nmr_baseline_threshold_plot | 0.418 | 0.054 | 0.481 | |
| nmr_batman | 0.003 | 0.001 | 0.004 | |
| nmr_batman_options | 0.000 | 0.001 | 0.000 | |
| nmr_build_peak_table | 0.053 | 0.006 | 0.059 | |
| nmr_data | 0.065 | 0.010 | 0.078 | |
| nmr_data_1r_to_SummarizedExperiment | 1.386 | 0.862 | 1.337 | |
| nmr_data_analysis | 0.613 | 0.576 | 1.054 | |
| nmr_dataset | 0.001 | 0.001 | 0.001 | |
| nmr_dataset_1D | 0.001 | 0.001 | 0.002 | |
| nmr_dataset_peak_table_to_SummarizedExperiment | 1.301 | 0.895 | 3.223 | |
| nmr_exclude_region | 0.008 | 0.016 | 0.026 | |
| nmr_export_data_1r | 1.380 | 1.166 | 1.245 | |
| nmr_get_peak_distances | 0.011 | 0.003 | 0.015 | |
| nmr_identify_regions_blood | 0.016 | 0.005 | 0.022 | |
| nmr_identify_regions_cell | 0.012 | 0.002 | 0.015 | |
| nmr_identify_regions_urine | 0.018 | 0.004 | 0.023 | |
| nmr_integrate_regions | 0.010 | 0.001 | 0.012 | |
| nmr_interpolate_1D | 2.585 | 2.072 | 2.927 | |
| nmr_meta_add | 2.782 | 1.700 | 2.432 | |
| nmr_meta_export | 1.037 | 0.749 | 0.802 | |
| nmr_meta_get | 1.232 | 0.975 | 1.021 | |
| nmr_meta_get_column | 1.048 | 0.738 | 0.828 | |
| nmr_meta_groups | 1.198 | 1.040 | 1.028 | |
| nmr_normalize | 0.402 | 0.049 | 0.453 | |
| nmr_pca_build_model | 2.446 | 1.825 | 2.650 | |
| nmr_pca_outliers | 1.388 | 1.014 | 1.321 | |
| nmr_pca_outliers_filter | 1.227 | 0.732 | 1.044 | |
| nmr_pca_outliers_plot | 0 | 0 | 0 | |
| nmr_pca_outliers_robust | 7.015 | 1.289 | 7.174 | |
| nmr_pca_plots | 0.633 | 0.013 | 0.652 | |
| nmr_peak_clustering | 0.089 | 0.001 | 0.091 | |
| nmr_ppm_resolution | 0.010 | 0.003 | 0.012 | |
| nmr_read_bruker_fid | 0 | 0 | 0 | |
| nmr_read_samples | 1.890 | 1.302 | 1.475 | |
| nmr_zip_bruker_samples | 0.243 | 0.046 | 0.314 | |
| peaklist_accept_peaks | 0.005 | 0.002 | 0.006 | |
| permutation_test_model | 0.974 | 0.835 | 2.229 | |
| permutation_test_plot | 8.037 | 4.381 | 2.667 | |
| plot.nmr_dataset_1D | 0.002 | 0.001 | 0.004 | |
| plot_bootstrap_multimodel | 0.002 | 0.001 | 0.003 | |
| plot_interactive | 1.054 | 0.679 | 0.871 | |
| plot_plsda_multimodel | 0.346 | 0.459 | 0.418 | |
| plot_plsda_samples | 0.169 | 0.212 | 0.362 | |
| plot_vip_scores | 0.002 | 0.001 | 0.003 | |
| plot_webgl | 0.002 | 0.001 | 0.003 | |
| plsda_auroc_vip_compare | 0.686 | 0.501 | 1.176 | |
| plsda_auroc_vip_method | 0.000 | 0.001 | 0.000 | |
| ppm_resolution | 0.003 | 0.002 | 0.006 | |
| print.nmr_dataset | 0.735 | 0.522 | 0.807 | |
| print.nmr_dataset_1D | 1.366 | 1.017 | 1.008 | |
| print.nmr_dataset_peak_table | 1.069 | 0.690 | 0.903 | |
| random_subsampling | 0.001 | 0.004 | 0.006 | |
| save_files_to_rDolphin | 0 | 0 | 0 | |
| save_profiling_output | 0.000 | 0.000 | 0.001 | |
| sub-.nmr_dataset | 0.930 | 0.653 | 0.721 | |
| sub-.nmr_dataset_1D | 0.922 | 0.705 | 1.050 | |
| sub-.nmr_dataset_peak_table | 1.583 | 1.286 | 1.257 | |
| tidy.nmr_dataset_1D | 1.282 | 1.026 | 1.197 | |
| to_ASICS | 1.161 | 0.228 | 1.431 | |
| to_ChemoSpec | 1.236 | 0.709 | 1.114 | |
| validate_nmr_dataset | 2.232 | 1.847 | 1.853 | |
| validate_nmr_dataset_family | 1.326 | 1.189 | 1.190 | |
| validate_nmr_dataset_peak_table | 0.001 | 0.000 | 0.002 | |
| zzz | 0.000 | 0.000 | 2.148 | |