| Back to Multiple platform build/check report for BioC 3.22: simplified long |
|
This page was generated on 2025-10-25 12:05 -0400 (Sat, 25 Oct 2025).
| Hostname | OS | Arch (*) | R version | Installed pkgs |
|---|---|---|---|---|
| nebbiolo2 | Linux (Ubuntu 24.04.3 LTS) | x86_64 | 4.5.1 Patched (2025-08-23 r88802) -- "Great Square Root" | 4901 |
| lconway | macOS 12.7.6 Monterey | x86_64 | 4.5.1 Patched (2025-09-10 r88807) -- "Great Square Root" | 4691 |
| kjohnson3 | macOS 13.7.7 Ventura | arm64 | 4.5.1 Patched (2025-09-10 r88807) -- "Great Square Root" | 4637 |
| taishan | Linux (openEuler 24.03 LTS) | aarch64 | 4.5.0 (2025-04-11) -- "How About a Twenty-Six" | 4658 |
| Click on any hostname to see more info about the system (e.g. compilers) (*) as reported by 'uname -p', except on Windows and Mac OS X | ||||
| Package 59/2361 | Hostname | OS / Arch | INSTALL | BUILD | CHECK | BUILD BIN | ||||||||
| AlpsNMR 4.11.1 (landing page) Sergio Oller Moreno
| nebbiolo2 | Linux (Ubuntu 24.04.3 LTS) / x86_64 | OK | OK | OK | |||||||||
| lconway | macOS 12.7.6 Monterey / x86_64 | OK | OK | OK | OK | |||||||||
| kjohnson3 | macOS 13.7.7 Ventura / arm64 | OK | OK | OK | OK | |||||||||
| taishan | Linux (openEuler 24.03 LTS) / aarch64 | OK | ERROR | skipped | ||||||||||
|
To the developers/maintainers of the AlpsNMR package: - Allow up to 24 hours (and sometimes 48 hours) for your latest push to git@git.bioconductor.org:packages/AlpsNMR.git to reflect on this report. See Troubleshooting Build Report for more information. - Use the following Renviron settings to reproduce errors and warnings. - If 'R CMD check' started to fail recently on the Linux builder(s) over a missing dependency, add the missing dependency to 'Suggests:' in your DESCRIPTION file. See Renviron.bioc for more information. |
| Package: AlpsNMR |
| Version: 4.11.1 |
| Command: /Library/Frameworks/R.framework/Resources/bin/R CMD check --install=check:AlpsNMR.install-out.txt --library=/Library/Frameworks/R.framework/Resources/library --no-vignettes --timings AlpsNMR_4.11.1.tar.gz |
| StartedAt: 2025-10-24 18:26:03 -0400 (Fri, 24 Oct 2025) |
| EndedAt: 2025-10-24 18:27:18 -0400 (Fri, 24 Oct 2025) |
| EllapsedTime: 74.9 seconds |
| RetCode: 0 |
| Status: OK |
| CheckDir: AlpsNMR.Rcheck |
| Warnings: 0 |
##############################################################################
##############################################################################
###
### Running command:
###
### /Library/Frameworks/R.framework/Resources/bin/R CMD check --install=check:AlpsNMR.install-out.txt --library=/Library/Frameworks/R.framework/Resources/library --no-vignettes --timings AlpsNMR_4.11.1.tar.gz
###
##############################################################################
##############################################################################
* using log directory ‘/Users/biocbuild/bbs-3.22-bioc/meat/AlpsNMR.Rcheck’
* using R version 4.5.1 Patched (2025-09-10 r88807)
* using platform: aarch64-apple-darwin20
* R was compiled by
Apple clang version 16.0.0 (clang-1600.0.26.6)
GNU Fortran (GCC) 14.2.0
* running under: macOS Ventura 13.7.7
* using session charset: UTF-8
* using option ‘--no-vignettes’
* checking for file ‘AlpsNMR/DESCRIPTION’ ... OK
* checking extension type ... Package
* this is package ‘AlpsNMR’ version ‘4.11.1’
* package encoding: UTF-8
* checking package namespace information ... OK
* checking package dependencies ... INFO
Imports includes 26 non-default packages.
Importing from so many packages makes the package vulnerable to any of
them becoming unavailable. Move as many as possible to Suggests and
use conditionally.
* checking if this is a source package ... OK
* checking if there is a namespace ... OK
* checking for hidden files and directories ... OK
* checking for portable file names ... OK
* checking for sufficient/correct file permissions ... OK
* checking whether package ‘AlpsNMR’ can be installed ... OK
* checking installed package size ... OK
* checking package directory ... OK
* checking ‘build’ directory ... OK
* checking DESCRIPTION meta-information ... OK
* checking top-level files ... OK
* checking for left-over files ... OK
* checking index information ... OK
* checking package subdirectories ... OK
* checking code files for non-ASCII characters ... OK
* checking R files for syntax errors ... OK
* checking whether the package can be loaded ... OK
* checking whether the package can be loaded with stated dependencies ... OK
* checking whether the package can be unloaded cleanly ... OK
* checking whether the namespace can be loaded with stated dependencies ... OK
* checking whether the namespace can be unloaded cleanly ... OK
* checking dependencies in R code ... OK
* checking S3 generic/method consistency ... OK
* checking replacement functions ... OK
* checking foreign function calls ... OK
* checking R code for possible problems ... OK
* checking Rd files ... OK
* checking Rd metadata ... OK
* checking Rd cross-references ... NOTE
Non-topic package-anchored link(s) in Rd file 'reexports.Rd':
‘[magrittr:pipe]{%>%}’
See section 'Cross-references' in the 'Writing R Extensions' manual.
Found the following Rd file(s) with Rd \link{} targets missing package
anchors:
filter.nmr_dataset_family.Rd: dplyr
Please provide package anchors for all Rd \link{} targets not in the
package itself and the base packages.
* checking for missing documentation entries ... OK
* checking for code/documentation mismatches ... OK
* checking Rd \usage sections ... OK
* checking Rd contents ... OK
* checking for unstated dependencies in examples ... OK
* checking contents of ‘data’ directory ... OK
* checking data for non-ASCII characters ... OK
* checking data for ASCII and uncompressed saves ... OK
* checking sizes of PDF files under ‘inst/doc’ ... OK
* checking files in ‘vignettes’ ... OK
* checking examples ... OK
* checking for unstated dependencies in ‘tests’ ... OK
* checking tests ...
Running ‘testthat.R’
OK
* checking for unstated dependencies in vignettes ... OK
* checking package vignettes ... OK
* checking running R code from vignettes ... SKIPPED
* checking re-building of vignette outputs ... SKIPPED
* checking PDF version of manual ... OK
* DONE
Status: 1 NOTE
See
‘/Users/biocbuild/bbs-3.22-bioc/meat/AlpsNMR.Rcheck/00check.log’
for details.
AlpsNMR.Rcheck/00install.out
############################################################################## ############################################################################## ### ### Running command: ### ### /Library/Frameworks/R.framework/Resources/bin/R CMD INSTALL AlpsNMR ### ############################################################################## ############################################################################## * installing to library ‘/Library/Frameworks/R.framework/Versions/4.5-arm64/Resources/library’ * installing *source* package ‘AlpsNMR’ ... ** this is package ‘AlpsNMR’ version ‘4.11.1’ ** using staged installation ** R ** data ** inst ** byte-compile and prepare package for lazy loading ** help *** installing help indices *** copying figures ** building package indices ** installing vignettes ** testing if installed package can be loaded from temporary location ** testing if installed package can be loaded from final location ** testing if installed package keeps a record of temporary installation path * DONE (AlpsNMR)
AlpsNMR.Rcheck/tests/testthat.Rout
R version 4.5.1 Patched (2025-09-10 r88807) -- "Great Square Root"
Copyright (C) 2025 The R Foundation for Statistical Computing
Platform: aarch64-apple-darwin20
R is free software and comes with ABSOLUTELY NO WARRANTY.
You are welcome to redistribute it under certain conditions.
Type 'license()' or 'licence()' for distribution details.
R is a collaborative project with many contributors.
Type 'contributors()' for more information and
'citation()' on how to cite R or R packages in publications.
Type 'demo()' for some demos, 'help()' for on-line help, or
'help.start()' for an HTML browser interface to help.
Type 'q()' to quit R.
> library(testthat)
> library(AlpsNMR)
Attaching package: 'AlpsNMR'
The following object is masked from 'package:stats':
filter
>
> test_check("AlpsNMR")
[ FAIL 0 | WARN 0 | SKIP 1 | PASS 93 ]
══ Skipped tests (1) ═══════════════════════════════════════════════════════════
• On Bioconductor (1): 'test_rDolphin.R:2:5'
[ FAIL 0 | WARN 0 | SKIP 1 | PASS 93 ]
>
> proc.time()
user system elapsed
9.528 4.282 9.335
AlpsNMR.Rcheck/AlpsNMR-Ex.timings
| name | user | system | elapsed | |
| AlpsNMR-package | 0.751 | 0.178 | 0.746 | |
| HMDB_blood | 0.002 | 0.001 | 0.003 | |
| HMDB_cell | 0.001 | 0.000 | 0.001 | |
| HMDB_urine | 0.001 | 0.001 | 0.001 | |
| Parameters_blood | 0.000 | 0.001 | 0.001 | |
| Parameters_cell | 0.001 | 0.000 | 0.001 | |
| Parameters_urine | 0.000 | 0.000 | 0.001 | |
| Peak_detection | 2.621 | 0.876 | 2.549 | |
| Pipelines | 0.000 | 0.001 | 0.001 | |
| ROI_blood | 0.001 | 0.000 | 0.001 | |
| ROI_cell | 0.001 | 0.000 | 0.002 | |
| ROI_urine | 0.001 | 0.001 | 0.001 | |
| SummarizedExperiment_to_nmr_data_1r | 2.592 | 0.347 | 2.693 | |
| SummarizedExperiment_to_nmr_dataset_peak_table | 0.357 | 0.240 | 0.371 | |
| bp_VIP_analysis | 1.017 | 0.638 | 1.157 | |
| bp_kfold_VIP_analysis | 0.231 | 0.244 | 0.259 | |
| download_MTBLS242 | 0 | 0 | 0 | |
| file_lister | 0.022 | 0.022 | 0.043 | |
| files_to_rDolphin | 0.000 | 0.000 | 0.001 | |
| filter.nmr_dataset_family | 0.266 | 0.180 | 0.262 | |
| format.nmr_dataset | 0.260 | 0.302 | 0.271 | |
| format.nmr_dataset_1D | 0.309 | 0.301 | 0.285 | |
| format.nmr_dataset_peak_table | 0.293 | 0.318 | 0.332 | |
| get_integration_with_metadata | 0.010 | 0.004 | 0.014 | |
| hmdb | 0.017 | 0.006 | 0.023 | |
| is.nmr_dataset | 0.260 | 0.279 | 0.267 | |
| is.nmr_dataset_1D | 0.262 | 0.253 | 0.268 | |
| is.nmr_dataset_peak_table | 0.325 | 0.351 | 0.339 | |
| load_and_save_functions | 0.252 | 0.285 | 0.253 | |
| models_stability_plot_bootstrap | 0.001 | 0.001 | 0.001 | |
| models_stability_plot_plsda | 0.154 | 0.195 | 0.175 | |
| new_nmr_dataset | 0.000 | 0.001 | 0.001 | |
| new_nmr_dataset_1D | 0.001 | 0.000 | 0.001 | |
| new_nmr_dataset_peak_table | 0.304 | 0.299 | 0.317 | |
| nmr_autophase | 0.082 | 0.073 | 0.156 | |
| nmr_baseline_estimation | 0.004 | 0.003 | 0.007 | |
| nmr_baseline_removal | 0.002 | 0.001 | 0.003 | |
| nmr_baseline_threshold | 0.001 | 0.001 | 0.000 | |
| nmr_baseline_threshold_plot | 0.090 | 0.033 | 0.124 | |
| nmr_batman | 0.001 | 0.000 | 0.002 | |
| nmr_batman_options | 0.000 | 0.000 | 0.001 | |
| nmr_build_peak_table | 0.011 | 0.003 | 0.014 | |
| nmr_data | 0.015 | 0.004 | 0.019 | |
| nmr_data_1r_to_SummarizedExperiment | 0.389 | 0.308 | 0.398 | |
| nmr_data_analysis | 0.142 | 0.199 | 0.170 | |
| nmr_dataset | 0.000 | 0.001 | 0.001 | |
| nmr_dataset_1D | 0.001 | 0.000 | 0.000 | |
| nmr_dataset_peak_table_to_SummarizedExperiment | 0.358 | 0.306 | 0.391 | |
| nmr_exclude_region | 0.002 | 0.001 | 0.003 | |
| nmr_export_data_1r | 0.329 | 0.364 | 0.338 | |
| nmr_get_peak_distances | 0.003 | 0.002 | 0.005 | |
| nmr_identify_regions_blood | 0.004 | 0.004 | 0.009 | |
| nmr_identify_regions_cell | 0.003 | 0.003 | 0.007 | |
| nmr_identify_regions_urine | 0.005 | 0.004 | 0.009 | |
| nmr_integrate_regions | 0.002 | 0.002 | 0.005 | |
| nmr_interpolate_1D | 0.604 | 0.634 | 0.634 | |
| nmr_meta_add | 0.640 | 0.575 | 0.675 | |
| nmr_meta_export | 0.224 | 0.203 | 0.196 | |
| nmr_meta_get | 0.269 | 0.320 | 0.272 | |
| nmr_meta_get_column | 0.237 | 0.244 | 0.239 | |
| nmr_meta_groups | 0.235 | 0.187 | 0.207 | |
| nmr_normalize | 0.106 | 0.044 | 0.154 | |
| nmr_pca_build_model | 0.624 | 0.547 | 0.660 | |
| nmr_pca_outliers | 0.636 | 0.403 | 0.794 | |
| nmr_pca_outliers_filter | 0.312 | 0.240 | 0.324 | |
| nmr_pca_outliers_plot | 0 | 0 | 0 | |
| nmr_pca_outliers_robust | 1.664 | 0.251 | 1.695 | |
| nmr_pca_plots | 0.153 | 0.006 | 0.159 | |
| nmr_peak_clustering | 0.021 | 0.000 | 0.022 | |
| nmr_ppm_resolution | 0.003 | 0.000 | 0.003 | |
| nmr_read_bruker_fid | 0 | 0 | 0 | |
| nmr_read_samples | 0.443 | 0.478 | 0.426 | |
| nmr_zip_bruker_samples | 0.110 | 0.017 | 0.141 | |
| peaklist_accept_peaks | 0.001 | 0.001 | 0.001 | |
| permutation_test_model | 0.469 | 0.399 | 0.565 | |
| permutation_test_plot | 1.228 | 0.913 | 0.583 | |
| plot.nmr_dataset_1D | 0.001 | 0.000 | 0.001 | |
| plot_bootstrap_multimodel | 0.000 | 0.001 | 0.001 | |
| plot_interactive | 0.279 | 0.308 | 0.297 | |
| plot_plsda_multimodel | 0.339 | 0.355 | 0.167 | |
| plot_plsda_samples | 0.046 | 0.080 | 0.129 | |
| plot_vip_scores | 0.001 | 0.000 | 0.001 | |
| plot_webgl | 0.000 | 0.000 | 0.001 | |
| plsda_auroc_vip_compare | 0.161 | 0.159 | 0.339 | |
| plsda_auroc_vip_method | 0 | 0 | 0 | |
| ppm_resolution | 0.001 | 0.001 | 0.002 | |
| print.nmr_dataset | 0.260 | 0.302 | 0.261 | |
| print.nmr_dataset_1D | 0.249 | 0.216 | 0.246 | |
| print.nmr_dataset_peak_table | 0.411 | 0.556 | 0.465 | |
| random_subsampling | 0.001 | 0.001 | 0.001 | |
| save_files_to_rDolphin | 0 | 0 | 0 | |
| save_profiling_output | 0 | 0 | 0 | |
| sub-.nmr_dataset | 0.227 | 0.227 | 0.223 | |
| sub-.nmr_dataset_1D | 0.263 | 0.295 | 0.297 | |
| sub-.nmr_dataset_peak_table | 0.300 | 0.322 | 0.324 | |
| tidy.nmr_dataset_1D | 0.295 | 0.323 | 0.326 | |
| to_ASICS | 0.355 | 0.080 | 0.439 | |
| to_ChemoSpec | 0.381 | 0.385 | 0.454 | |
| validate_nmr_dataset | 0.525 | 0.589 | 0.522 | |
| validate_nmr_dataset_family | 0.275 | 0.335 | 0.310 | |
| validate_nmr_dataset_peak_table | 0.000 | 0.000 | 0.001 | |
| zzz | 0.00 | 0.00 | 2.01 | |