| Back to Workflows build report for BioC 3.9 |
This page was generated on 2019-01-30 16:00:21 -0500 (Wed, 30 Jan 2019).
| Package 2/23 | Hostname | OS / Arch | INSTALL | BUILD | ||||||
| arrays 1.9.0 Bioconductor Package Maintainer
| malbec2 | Linux (Ubuntu 18.04.1 LTS) / x86_64 | OK | OK | ||||||
| tokay2 | Windows Server 2012 R2 Standard / x64 | [ OK ] | OK |
| Package: arrays |
| Version: 1.9.0 |
| Command: C:\cygwin\bin\curl.exe -O https://malbec2.bioconductor.org/BBS/3.9/workflows/src/contrib/arrays_1.9.0.tar.gz && rm -rf arrays.buildbin-libdir && mkdir arrays.buildbin-libdir && C:\Users\biocbuild\bbs-3.9-bioc\R\bin\R.exe CMD INSTALL --merge-multiarch --build --library=arrays.buildbin-libdir arrays_1.9.0.tar.gz && C:\Users\biocbuild\bbs-3.9-bioc\R\bin\R.exe CMD INSTALL arrays_1.9.0.zip && rm arrays_1.9.0.tar.gz arrays_1.9.0.zip |
| StartedAt: 2019-01-30 09:35:21 -0500 (Wed, 30 Jan 2019) |
| EndedAt: 2019-01-30 09:37:49 -0500 (Wed, 30 Jan 2019) |
| EllapsedTime: 147.7 seconds |
| RetCode: 0 |
| Status: OK |
##############################################################################
##############################################################################
###
### Running command:
###
### C:\cygwin\bin\curl.exe -O https://malbec2.bioconductor.org/BBS/3.9/workflows/src/contrib/arrays_1.9.0.tar.gz && rm -rf arrays.buildbin-libdir && mkdir arrays.buildbin-libdir && C:\Users\biocbuild\bbs-3.9-bioc\R\bin\R.exe CMD INSTALL --merge-multiarch --build --library=arrays.buildbin-libdir arrays_1.9.0.tar.gz && C:\Users\biocbuild\bbs-3.9-bioc\R\bin\R.exe CMD INSTALL arrays_1.9.0.zip && rm arrays_1.9.0.tar.gz arrays_1.9.0.zip
###
##############################################################################
##############################################################################
% Total % Received % Xferd Average Speed Time Time Time Current
Dload Upload Total Spent Left Speed
0 0 0 0 0 0 0 0 --:--:-- --:--:-- --:--:-- 0
0 0 0 0 0 0 0 0 --:--:-- 0:00:03 --:--:-- 0
0 0 0 0 0 0 0 0 --:--:-- 0:00:04 --:--:-- 0
0 0 0 0 0 0 0 0 --:--:-- 0:00:05 --:--:-- 0
9 9945k 9 912k 0 0 145k 0 0:01:08 0:00:06 0:01:02 153k
32 9945k 32 3216k 0 0 453k 0 0:00:21 0:00:07 0:00:14 474k
100 9945k 100 9945k 0 0 1287k 0 0:00:07 0:00:07 --:--:-- 2141k
install for i386
* installing *source* package 'arrays' ...
** inst
** help
No man pages found in package 'arrays'
*** installing help indices
** building package indices
** installing vignettes
** testing if installed package can be loaded
install for x64
* installing *source* package 'arrays' ...
** testing if installed package can be loaded
* MD5 sums
packaged installation of 'arrays' as arrays_1.9.0.zip
* DONE (arrays)
* installing to library 'C:/Users/biocbuild/bbs-3.9-bioc/R/library'
package 'arrays' successfully unpacked and MD5 sums checked